{"text_format":"1","workbook":"xlsx","n_sheets":3,"sheets":["Liesmich","Wochenplan","Jahresplan"],"not_rendered":{"charts":0,"images":4,"macros":1,"external_links":0,"defined_names":0,"comments":0,"pivot_tables":0},"unopened":[],"bounds":{"document_bytes":16777216,"sheet_cells":100000,"rows_first":2000,"rows_last":500,"rows_between":2000,"halvings":0,"cell_chars":16384,"cell_head_chars":4096},"cells_cut":0,"cells_raw":0,"read":"whole","date_system":"1900"}

{"sheet":"Liesmich","index":0,"n_rows":1,"n_cols":1,"rows_kept":1,"cut":false,"hidden":false,"merged":[]}
["1. Tragen Sie Ihre entsprechenden Projektdaten ein:\nLinks unter dem Balken \"Wochenplan\". Die enthaltenen Datumsbeispiele sind zu löschen.\n\n2. Andere Zellen sind gesperrt, um Fehleintragungen zu vermeiden.\n\n3.  Den einzelnen Abschnitten können Sie Arbeitspakete und Inhalte zuordnen. So wie beispielhaft im rechten Teil des Bildschirms dargestellt.  Passen Sie dies gerne Ihrem zeitlichen Vorgehen und Ihren Inhalten an.\n\n4. Datumseingaben bitte unter \"Beginn\" und \"Ende\" eintragen, entsprechend erscheint dann ein Balken in der Graphik rechts, um den zeitlichen Rahmen zu markieren.\n\n5. In den Spalten \"Abschnitt\", \"Arbeitspaket\" und \"Handlungsschritt\"\nwerden die jeweiligen Projektphasen entsprechend Ihrem Vorgehen eingetragen.\n\n6. Der \"Jahresplan\" zeigt die langfristige Übersicht:"]

{"sheet":"Wochenplan","index":1,"n_rows":76,"n_cols":402,"rows_kept":76,"cut":false,"hidden":false,"merged":[[7,127,7,133],[7,134,7,140],[7,141,7,147],[7,162,7,168],[7,85,7,91],[7,92,7,98],[7,99,7,105],[7,106,7,112],[7,393,7,399],[7,337,7,343],[7,344,7,350],[7,351,7,357],[7,358,7,364],[7,365,7,371],[7,372,7,378],[7,379,7,385],[7,386,7,392],[7,246,7,252],[7,169,7,175],[7,176,7,182],[7,183,7,189],[7,113,7,119],[7,120,7,126],[7,190,7,196],[7,197,7,203],[7,204,7,210],[7,211,7,217],[7,225,7,231],[7,232,7,238],[7,239,7,245],[7,218,7,224],[7,148,7,154],[7,155,7,161],[7,330,7,336],[7,253,7,259],[7,260,7,266],[7,267,7,273],[7,274,7,280],[7,281,7,287],[7,323,7,329],[7,309,7,315],[7,316,7,322],[7,302,7,308],[7,288,7,294],[7,295,7,301],[8,0,8,1],[7,78,7,84],[7,36,7,42],[7,43,7,49],[7,50,7,56],[7,57,7,63],[7,64,7,70],[7,71,7,77],[8,6,8,7],[7,29,7,35],[7,0,7,1],[0,2,0,5],[1,0,1,7],[7,8,7,14],[7,15,7,21],[7,22,7,28],[2,0,2,1],[3,0,3,1],[3,4,3,5],[2,4,2,5],[4,2,4,5]]}
[]
["Wochenplan"]
[null,null,"Projektstart",null,"Projektende"]
[null,null,null,"Projektende:"]
[null,"Datum heute",{"$f":"TODAY()","v":"2025-02-21"}]
[]
[]
[null,null,null,null,null,null,null,null,{"$f":"C4","v":"00:00:00"},null,null,null,null,null,null,{"$f":"O9+1","v":"1900-01-07"},null,null,null,null,null,null,{"$f":"V9+1","v":"1900-01-14"},null,null,null,null,null,null,{"$f":"AC9+1","v":"1900-01-21"},null,null,null,null,null,null,{"$f":"AJ9+1","v":"1900-01-28"},null,null,null,null,null,null,{"$f":"AQ9+1","v":"1900-02-04"},null,null,null,null,null,null,{"$f":"AX9+1","v":"1900-02-11"},null,null,null,null,null,null,{"$f":"BE9+1","v":"1900-02-18"},null,null,null,null,null,null,{"$f":"BL9+1","v":"1900-02-25"},null,null,null,null,null,null,{"$f":"BS9+1","v":"1900-03-03"},null,null,null,null,null,null,{"$f":"BZ9+1","v":"1900-03-10"},null,null,null,null,null,null,{"$f":"CG9+1","v":"1900-03-17"},null,null,null,null,null,null,{"$f":"CN9+1","v":"1900-03-24"},null,null,null,null,null,null,{"$f":"CU9+1","v":"1900-03-31"},null,null,null,null,null,null,{"$f":"DB9+1","v":"1900-04-07"},null,null,null,null,null,null,{"$f":"DI9+1","v":"1900-04-14"},null,null,null,null,null,null,{"$f":"DP9+1","v":"1900-04-21"},null,null,null,null,null,null,{"$f":"DW9+1","v":"1900-04-28"},null,null,null,null,null,null,{"$f":"ED9+1","v":"1900-05-05"},null,null,null,null,null,null,{"$f":"EK9+1","v":"1900-05-12"},null,null,null,null,null,null,{"$f":"ER9+1","v":"1900-05-19"},null,null,null,null,null,null,{"$f":"EY9+1","v":"1900-05-26"},null,null,null,null,null,null,{"$f":"FF9+1","v":"1900-06-02"},null,null,null,null,null,null,{"$f":"FM9+1","v":"1900-06-09"},null,null,null,null,null,null,{"$f":"FT9+1","v":"1900-06-16"},null,null,null,null,null,null,{"$f":"GA9+1","v":"1900-06-23"},null,null,null,null,null,null,{"$f":"GH9+1","v":"1900-06-30"},null,null,null,null,null,null,{"$f":"GO9+1","v":"1900-07-07"},null,null,null,null,null,null,{"$f":"GV9+1","v":"1900-07-14"},null,null,null,null,null,null,{"$f":"HC9+1","v":"1900-07-21"},null,null,null,null,null,null,{"$f":"HJ9+1","v":"1900-07-28"},null,null,null,null,null,null,{"$f":"HQ9+1","v":"1900-08-04"},null,null,null,null,null,null,{"$f":"HX9+1","v":"1900-08-11"},null,null,null,null,null,null,{"$f":"IE9+1","v":"1900-08-18"},null,null,null,null,null,null,{"$f":"IL9+1","v":"1900-08-25"},null,null,null,null,null,null,{"$f":"IS9+1","v":"1900-09-01"},null,null,null,null,null,null,{"$f":"IZ9+1","v":"1900-09-08"},null,null,null,null,null,null,{"$f":"JG9+1","v":"1900-09-15"},null,null,null,null,null,null,{"$f":"JN9+1","v":"1900-09-22"},null,null,null,null,null,null,{"$f":"JU9+1","v":"1900-09-29"},null,null,null,null,null,null,{"$f":"KB9+1","v":"1900-10-06"},null,null,null,null,null,null,{"$f":"KI9+1","v":"1900-10-13"},null,null,null,null,null,null,{"$f":"KP9+1","v":"1900-10-20"},null,null,null,null,null,null,{"$f":"KW9+1","v":"1900-10-27"},null,null,null,null,null,null,{"$f":"LD9+1","v":"1900-11-03"},null,null,null,null,null,null,{"$f":"LK9+1","v":"1900-11-10"},null,null,null,null,null,null,{"$f":"LR9+1","v":"1900-11-17"},null,null,null,null,null,null,{"$f":"LY9+1","v":"1900-11-24"},null,null,null,null,null,null,{"$f":"MF9+1","v":"1900-12-01"},null,null,null,null,null,null,{"$f":"MM9+1","v":"1900-12-08"},null,null,null,null,null,null,{"$f":"MT9+1","v":"1900-12-15"},null,null,null,null,null,null,{"$f":"NA9+1","v":"1900-12-22"},null,null,null,null,null,null,{"$f":"NH9+1","v":"1900-12-29"},null,null,null,null,null,null,{"$f":"NO9+1","v":"1901-01-05"},null,null,null,null,null,null,{"$f":"NV9+1","v":"1901-01-12"},null,null,null,null,null,null,{"$f":"OC9+1","v":"1901-01-19"}]
[null,null,null,null,null,null,"Projektfortschritt",null,{"$f":"I8","v":"00:00:00"},{"$f":"I9+1","v":"1900-01-01"},{"$f":"J9+1","v":"1900-01-02"},"1900-01-03","1900-01-04","1900-01-05","1900-01-06","1900-01-07",{"$f":"P9+1","v":"1900-01-08"},{"$f":"Q9+1","v":"1900-01-09"},"1900-01-10","1900-01-11","1900-01-12","1900-01-13","1900-01-14",{"$f":"W9+1","v":"1900-01-15"},{"$f":"X9+1","v":"1900-01-16"},"1900-01-17","1900-01-18","1900-01-19","1900-01-20",{"$f":"AD8","v":"1900-01-21"},{"$f":"AD9+1","v":"1900-01-22"},{"$f":"AE9+1","v":"1900-01-23"},"1900-01-24","1900-01-25","1900-01-26","1900-01-27",{"$f":"AK8","v":"1900-01-28"},{"$f":"AK9+1","v":"1900-01-29"},{"$f":"AL9+1","v":"1900-01-30"},"1900-01-31","1900-02-01","1900-02-02","1900-02-03",{"$f":"AR8","v":"1900-02-04"},{"$f":"AR9+1","v":"1900-02-05"},{"$f":"AS9+1","v":"1900-02-06"},"1900-02-07","1900-02-08","1900-02-09","1900-02-10",{"$f":"AY8","v":"1900-02-11"},{"$f":"AY9+1","v":"1900-02-12"},{"$f":"AZ9+1","v":"1900-02-13"},"1900-02-14","1900-02-15","1900-02-16","1900-02-17",{"$f":"BF8","v":"1900-02-18"},{"$f":"BF9+1","v":"1900-02-19"},{"$f":"BG9+1","v":"1900-02-20"},"1900-02-21","1900-02-22","1900-02-23","1900-02-24",{"$f":"BM8","v":"1900-02-25"},{"$f":"BM9+1","v":"1900-02-26"},{"$f":"BN9+1","v":"1900-02-27"},"1900-02-28",60,"1900-03-01","1900-03-02",{"$f":"BT8","v":"1900-03-03"},{"$f":"BT9+1","v":"1900-03-04"},{"$f":"BU9+1","v":"1900-03-05"},"1900-03-06","1900-03-07","1900-03-08","1900-03-09",{"$f":"CA8","v":"1900-03-10"},{"$f":"CA9+1","v":"1900-03-11"},{"$f":"CB9+1","v":"1900-03-12"},"1900-03-13","1900-03-14","1900-03-15","1900-03-16",{"$f":"CH8","v":"1900-03-17"},{"$f":"CH9+1","v":"1900-03-18"},{"$f":"CI9+1","v":"1900-03-19"},"1900-03-20","1900-03-21","1900-03-22","1900-03-23",{"$f":"CO8","v":"1900-03-24"},{"$f":"CO9+1","v":"1900-03-25"},{"$f":"CP9+1","v":"1900-03-26"},"1900-03-27","1900-03-28","1900-03-29","1900-03-30",{"$f":"CV8","v":"1900-03-31"},{"$f":"CV9+1","v":"1900-04-01"},{"$f":"CW9+1","v":"1900-04-02"},"1900-04-03","1900-04-04","1900-04-05","1900-04-06",{"$f":"DC8","v":"1900-04-07"},{"$f":"DC9+1","v":"1900-04-08"},{"$f":"DD9+1","v":"1900-04-09"},"1900-04-10","1900-04-11","1900-04-12","1900-04-13",{"$f":"DJ8","v":"1900-04-14"},{"$f":"DJ9+1","v":"1900-04-15"},{"$f":"DK9+1","v":"1900-04-16"},"1900-04-17","1900-04-18","1900-04-19","1900-04-20",{"$f":"DQ8","v":"1900-04-21"},{"$f":"DQ9+1","v":"1900-04-22"},{"$f":"DR9+1","v":"1900-04-23"},"1900-04-24","1900-04-25","1900-04-26","1900-04-27",{"$f":"DX8","v":"1900-04-28"},{"$f":"DX9+1","v":"1900-04-29"},{"$f":"DY9+1","v":"1900-04-30"},"1900-05-01","1900-05-02","1900-05-03","1900-05-04",{"$f":"EE8","v":"1900-05-05"},{"$f":"EE9+1","v":"1900-05-06"},{"$f":"EF9+1","v":"1900-05-07"},"1900-05-08","1900-05-09","1900-05-10","1900-05-11",{"$f":"EL8","v":"1900-05-12"},{"$f":"EL9+1","v":"1900-05-13"},{"$f":"EM9+1","v":"1900-05-14"},"1900-05-15","1900-05-16","1900-05-17","1900-05-18",{"$f":"ES8","v":"1900-05-19"},{"$f":"ES9+1","v":"1900-05-20"},{"$f":"ET9+1","v":"1900-05-21"},"1900-05-22","1900-05-23","1900-05-24","1900-05-25",{"$f":"EZ8","v":"1900-05-26"},{"$f":"EZ9+1","v":"1900-05-27"},{"$f":"FA9+1","v":"1900-05-28"},"1900-05-29","1900-05-30","1900-05-31","1900-06-01",{"$f":"FG8","v":"1900-06-02"},{"$f":"FG9+1","v":"1900-06-03"},{"$f":"FH9+1","v":"1900-06-04"},"1900-06-05","1900-06-06","1900-06-07","1900-06-08",{"$f":"FN8","v":"1900-06-09"},{"$f":"FN9+1","v":"1900-06-10"},{"$f":"FO9+1","v":"1900-06-11"},"1900-06-12","1900-06-13","1900-06-14","1900-06-15",{"$f":"FU8","v":"1900-06-16"},{"$f":"FU9+1","v":"1900-06-17"},{"$f":"FV9+1","v":"1900-06-18"},"1900-06-19","1900-06-20","1900-06-21","1900-06-22",{"$f":"GB8","v":"1900-06-23"},{"$f":"GB9+1","v":"1900-06-24"},{"$f":"GC9+1","v":"1900-06-25"},"1900-06-26","1900-06-27","1900-06-28","1900-06-29",{"$f":"GI8","v":"1900-06-30"},{"$f":"GI9+1","v":"1900-07-01"},{"$f":"GJ9+1","v":"1900-07-02"},"1900-07-03","1900-07-04","1900-07-05","1900-07-06",{"$f":"GP8","v":"1900-07-07"},{"$f":"GP9+1","v":"1900-07-08"},{"$f":"GQ9+1","v":"1900-07-09"},"1900-07-10","1900-07-11","1900-07-12","1900-07-13",{"$f":"GW8","v":"1900-07-14"},{"$f":"GW9+1","v":"1900-07-15"},{"$f":"GX9+1","v":"1900-07-16"},"1900-07-17","1900-07-18","1900-07-19","1900-07-20",{"$f":"HD8","v":"1900-07-21"},{"$f":"HD9+1","v":"1900-07-22"},{"$f":"HE9+1","v":"1900-07-23"},"1900-07-24","1900-07-25","1900-07-26","1900-07-27",{"$f":"HK8","v":"1900-07-28"},{"$f":"HK9+1","v":"1900-07-29"},{"$f":"HL9+1","v":"1900-07-30"},"1900-07-31","1900-08-01","1900-08-02","1900-08-03",{"$f":"HR8","v":"1900-08-04"},{"$f":"HR9+1","v":"1900-08-05"},{"$f":"HS9+1","v":"1900-08-06"},"1900-08-07","1900-08-08","1900-08-09","1900-08-10",{"$f":"HY8","v":"1900-08-11"},{"$f":"HY9+1","v":"1900-08-12"},{"$f":"HZ9+1","v":"1900-08-13"},"1900-08-14","1900-08-15","1900-08-16","1900-08-17",{"$f":"IF8","v":"1900-08-18"},{"$f":"IF9+1","v":"1900-08-19"},{"$f":"IG9+1","v":"1900-08-20"},"1900-08-21","1900-08-22","1900-08-23","1900-08-24",{"$f":"IM8","v":"1900-08-25"},{"$f":"IM9+1","v":"1900-08-26"},{"$f":"IN9+1","v":"1900-08-27"},"1900-08-28","1900-08-29","1900-08-30","1900-08-31",{"$f":"IT8","v":"1900-09-01"},{"$f":"IT9+1","v":"1900-09-02"},{"$f":"IU9+1","v":"1900-09-03"},"1900-09-04","1900-09-05","1900-09-06","1900-09-07",{"$f":"JA8","v":"1900-09-08"},{"$f":"JA9+1","v":"1900-09-09"},{"$f":"JB9+1","v":"1900-09-10"},"1900-09-11","1900-09-12","1900-09-13","1900-09-14",{"$f":"JH8","v":"1900-09-15"},{"$f":"JH9+1","v":"1900-09-16"},{"$f":"JI9+1","v":"1900-09-17"},"1900-09-18","1900-09-19","1900-09-20","1900-09-21",{"$f":"JO8","v":"1900-09-22"},{"$f":"JO9+1","v":"1900-09-23"},{"$f":"JP9+1","v":"1900-09-24"},"1900-09-25","1900-09-26","1900-09-27","1900-09-28",{"$f":"JV8","v":"1900-09-29"},{"$f":"JV9+1","v":"1900-09-30"},{"$f":"JW9+1","v":"1900-10-01"},"1900-10-02","1900-10-03","1900-10-04","1900-10-05",{"$f":"KC8","v":"1900-10-06"},{"$f":"KC9+1","v":"1900-10-07"},{"$f":"KD9+1","v":"1900-10-08"},"1900-10-09","1900-10-10","1900-10-11","1900-10-12",{"$f":"KJ8","v":"1900-10-13"},{"$f":"KJ9+1","v":"1900-10-14"},{"$f":"KK9+1","v":"1900-10-15"},"1900-10-16","1900-10-17","1900-10-18","1900-10-19",{"$f":"KQ8","v":"1900-10-20"},{"$f":"KQ9+1","v":"1900-10-21"},{"$f":"KR9+1","v":"1900-10-22"},"1900-10-23","1900-10-24","1900-10-25","1900-10-26",{"$f":"KX8","v":"1900-10-27"},{"$f":"KX9+1","v":"1900-10-28"},{"$f":"KY9+1","v":"1900-10-29"},"1900-10-30","1900-10-31","1900-11-01","1900-11-02",{"$f":"LE8","v":"1900-11-03"},{"$f":"LE9+1","v":"1900-11-04"},{"$f":"LF9+1","v":"1900-11-05"},"1900-11-06","1900-11-07","1900-11-08","1900-11-09",{"$f":"LL8","v":"1900-11-10"},{"$f":"LL9+1","v":"1900-11-11"},{"$f":"LM9+1","v":"1900-11-12"},"1900-11-13","1900-11-14","1900-11-15","1900-11-16",{"$f":"LS8","v":"1900-11-17"},{"$f":"LS9+1","v":"1900-11-18"},{"$f":"LT9+1","v":"1900-11-19"},"1900-11-20","1900-11-21","1900-11-22","1900-11-23",{"$f":"LZ8","v":"1900-11-24"},{"$f":"LZ9+1","v":"1900-11-25"},{"$f":"MA9+1","v":"1900-11-26"},"1900-11-27","1900-11-28","1900-11-29","1900-11-30",{"$f":"MG8","v":"1900-12-01"},{"$f":"MG9+1","v":"1900-12-02"},{"$f":"MH9+1","v":"1900-12-03"},"1900-12-04","1900-12-05","1900-12-06","1900-12-07",{"$f":"MN8","v":"1900-12-08"},{"$f":"MN9+1","v":"1900-12-09"},{"$f":"MO9+1","v":"1900-12-10"},"1900-12-11","1900-12-12","1900-12-13","1900-12-14",{"$f":"MU8","v":"1900-12-15"},{"$f":"MU9+1","v":"1900-12-16"},{"$f":"MV9+1","v":"1900-12-17"},"1900-12-18","1900-12-19","1900-12-20","1900-12-21",{"$f":"NB8","v":"1900-12-22"},{"$f":"NB9+1","v":"1900-12-23"},{"$f":"NC9+1","v":"1900-12-24"},"1900-12-25","1900-12-26","1900-12-27","1900-12-28",{"$f":"NI8","v":"1900-12-29"},{"$f":"NI9+1","v":"1900-12-30"},{"$f":"NJ9+1","v":"1900-12-31"},"1901-01-01","1901-01-02","1901-01-03","1901-01-04",{"$f":"NP8","v":"1901-01-05"},{"$f":"NP9+1","v":"1901-01-06"},{"$f":"NQ9+1","v":"1901-01-07"},"1901-01-08","1901-01-09","1901-01-10","1901-01-11",{"$f":"NW8","v":"1901-01-12"},{"$f":"NW9+1","v":"1901-01-13"},{"$f":"NX9+1","v":"1901-01-14"},"1901-01-15","1901-01-16","1901-01-17","1901-01-18",{"$f":"OD8","v":"1901-01-19"},{"$f":"OD9+1","v":"1901-01-20"},{"$f":"OE9+1","v":"1901-01-21"},"1901-01-22","1901-01-23","1901-01-24","1901-01-25"]
["Abschnitt","Arbeitspaket","Handlungs\nschritt","Meilenstein","Beginn","Ende","Soll","Ist",{"$f":"TEXT(I9,\"TTT\")","v":"Sa"},{"$f":"TEXT(J9,\"TTT\")","v":"So"},{"$f":"TEXT(K9,\"TTT\")","v":"Mo"},{"$f":"TEXT(L9,\"TTT\")","v":"Di"},{"$f":"TEXT(M9,\"TTT\")","v":"Mi"},{"$f":"TEXT(N9,\"TTT\")","v":"Do"},{"$f":"TEXT(O9,\"TTT\")","v":"Fr"},{"$f":"TEXT(P9,\"TTT\")","v":"Sa"},{"$f":"TEXT(Q9,\"TTT\")","v":"So"},{"$f":"TEXT(R9,\"TTT\")","v":"Mo"},{"$f":"TEXT(S9,\"TTT\")","v":"Di"},{"$f":"TEXT(T9,\"TTT\")","v":"Mi"},{"$f":"TEXT(U9,\"TTT\")","v":"Do"},{"$f":"TEXT(V9,\"TTT\")","v":"Fr"},{"$f":"TEXT(W9,\"TTT\")","v":"Sa"},{"$f":"TEXT(X9,\"TTT\")","v":"So"},{"$f":"TEXT(Y9,\"TTT\")","v":"Mo"},{"$f":"TEXT(Z9,\"TTT\")","v":"Di"},{"$f":"TEXT(AA9,\"TTT\")","v":"Mi"},{"$f":"TEXT(AB9,\"TTT\")","v":"Do"},{"$f":"TEXT(AC9,\"TTT\")","v":"Fr"},{"$f":"TEXT(AD9,\"TTT\")","v":"Sa"},{"$f":"TEXT(AE9,\"TTT\")","v":"So"},{"$f":"TEXT(AF9,\"TTT\")","v":"Mo"},{"$f":"TEXT(AG9,\"TTT\")","v":"Di"},{"$f":"TEXT(AH9,\"TTT\")","v":"Mi"},{"$f":"TEXT(AI9,\"TTT\")","v":"Do"},{"$f":"TEXT(AJ9,\"TTT\")","v":"Fr"},{"$f":"TEXT(AK9,\"TTT\")","v":"Sa"},{"$f":"TEXT(AL9,\"TTT\")","v":"So"},{"$f":"TEXT(AM9,\"TTT\")","v":"Mo"},{"$f":"TEXT(AN9,\"TTT\")","v":"Di"},{"$f":"TEXT(AO9,\"TTT\")","v":"Mi"},{"$f":"TEXT(AP9,\"TTT\")","v":"Do"},{"$f":"TEXT(AQ9,\"TTT\")","v":"Fr"},{"$f":"TEXT(AR9,\"TTT\")","v":"Sa"},{"$f":"TEXT(AS9,\"TTT\")","v":"So"},{"$f":"TEXT(AT9,\"TTT\")","v":"Mo"},{"$f":"TEXT(AU9,\"TTT\")","v":"Di"},{"$f":"TEXT(AV9,\"TTT\")","v":"Mi"},{"$f":"TEXT(AW9,\"TTT\")","v":"Do"},{"$f":"TEXT(AX9,\"TTT\")","v":"Fr"},{"$f":"TEXT(AY9,\"TTT\")","v":"Sa"},{"$f":"TEXT(AZ9,\"TTT\")","v":"So"},{"$f":"TEXT(BA9,\"TTT\")","v":"Mo"},{"$f":"TEXT(BB9,\"TTT\")","v":"Di"},{"$f":"TEXT(BC9,\"TTT\")","v":"Mi"},{"$f":"TEXT(BD9,\"TTT\")","v":"Do"},{"$f":"TEXT(BE9,\"TTT\")","v":"Fr"},{"$f":"TEXT(BF9,\"TTT\")","v":"Sa"},{"$f":"TEXT(BG9,\"TTT\")","v":"So"},{"$f":"TEXT(BH9,\"TTT\")","v":"Mo"},{"$f":"TEXT(BI9,\"TTT\")","v":"Di"},{"$f":"TEXT(BJ9,\"TTT\")","v":"Mi"},{"$f":"TEXT(BK9,\"TTT\")","v":"Do"},{"$f":"TEXT(BL9,\"TTT\")","v":"Fr"},{"$f":"TEXT(BM9,\"TTT\")","v":"Sa"},{"$f":"TEXT(BN9,\"TTT\")","v":"So"},{"$f":"TEXT(BO9,\"TTT\")","v":"Mo"},{"$f":"TEXT(BP9,\"TTT\")","v":"Di"},{"$f":"TEXT(BQ9,\"TTT\")","v":"Mi"},{"$f":"TEXT(BR9,\"TTT\")","v":"Do"},{"$f":"TEXT(BS9,\"TTT\")","v":"Fr"},{"$f":"TEXT(BT9,\"TTT\")","v":"Sa"},{"$f":"TEXT(BU9,\"TTT\")","v":"So"},{"$f":"TEXT(BV9,\"TTT\")","v":"Mo"},{"$f":"TEXT(BW9,\"TTT\")","v":"Di"},{"$f":"TEXT(BX9,\"TTT\")","v":"Mi"},{"$f":"TEXT(BY9,\"TTT\")","v":"Do"},{"$f":"TEXT(BZ9,\"TTT\")","v":"Fr"},{"$f":"TEXT(CA9,\"TTT\")","v":"Sa"},{"$f":"TEXT(CB9,\"TTT\")","v":"So"},{"$f":"TEXT(CC9,\"TTT\")","v":"Mo"},{"$f":"TEXT(CD9,\"TTT\")","v":"Di"},{"$f":"TEXT(CE9,\"TTT\")","v":"Mi"},{"$f":"TEXT(CF9,\"TTT\")","v":"Do"},{"$f":"TEXT(CG9,\"TTT\")","v":"Fr"},{"$f":"TEXT(CH9,\"TTT\")","v":"Sa"},{"$f":"TEXT(CI9,\"TTT\")","v":"So"},{"$f":"TEXT(CJ9,\"TTT\")","v":"Mo"},{"$f":"TEXT(CK9,\"TTT\")","v":"Di"},{"$f":"TEXT(CL9,\"TTT\")","v":"Mi"},{"$f":"TEXT(CM9,\"TTT\")","v":"Do"},{"$f":"TEXT(CN9,\"TTT\")","v":"Fr"},{"$f":"TEXT(CO9,\"TTT\")","v":"Sa"},{"$f":"TEXT(CP9,\"TTT\")","v":"So"},{"$f":"TEXT(CQ9,\"TTT\")","v":"Mo"},{"$f":"TEXT(CR9,\"TTT\")","v":"Di"},{"$f":"TEXT(CS9,\"TTT\")","v":"Mi"},{"$f":"TEXT(CT9,\"TTT\")","v":"Do"},{"$f":"TEXT(CU9,\"TTT\")","v":"Fr"},{"$f":"TEXT(CV9,\"TTT\")","v":"Sa"},{"$f":"TEXT(CW9,\"TTT\")","v":"So"},{"$f":"TEXT(CX9,\"TTT\")","v":"Mo"},{"$f":"TEXT(CY9,\"TTT\")","v":"Di"},{"$f":"TEXT(CZ9,\"TTT\")","v":"Mi"},{"$f":"TEXT(DA9,\"TTT\")","v":"Do"},{"$f":"TEXT(DB9,\"TTT\")","v":"Fr"},{"$f":"TEXT(DC9,\"TTT\")","v":"Sa"},{"$f":"TEXT(DD9,\"TTT\")","v":"So"},{"$f":"TEXT(DE9,\"TTT\")","v":"Mo"},{"$f":"TEXT(DF9,\"TTT\")","v":"Di"},{"$f":"TEXT(DG9,\"TTT\")","v":"Mi"},{"$f":"TEXT(DH9,\"TTT\")","v":"Do"},{"$f":"TEXT(DI9,\"TTT\")","v":"Fr"},{"$f":"TEXT(DJ9,\"TTT\")","v":"Sa"},{"$f":"TEXT(DK9,\"TTT\")","v":"So"},{"$f":"TEXT(DL9,\"TTT\")","v":"Mo"},{"$f":"TEXT(DM9,\"TTT\")","v":"Di"},{"$f":"TEXT(DN9,\"TTT\")","v":"Mi"},{"$f":"TEXT(DO9,\"TTT\")","v":"Do"},{"$f":"TEXT(DP9,\"TTT\")","v":"Fr"},{"$f":"TEXT(DQ9,\"TTT\")","v":"Sa"},{"$f":"TEXT(DR9,\"TTT\")","v":"So"},{"$f":"TEXT(DS9,\"TTT\")","v":"Mo"},{"$f":"TEXT(DT9,\"TTT\")","v":"Di"},{"$f":"TEXT(DU9,\"TTT\")","v":"Mi"},{"$f":"TEXT(DV9,\"TTT\")","v":"Do"},{"$f":"TEXT(DW9,\"TTT\")","v":"Fr"},{"$f":"TEXT(DX9,\"TTT\")","v":"Sa"},{"$f":"TEXT(DY9,\"TTT\")","v":"So"},{"$f":"TEXT(DZ9,\"TTT\")","v":"Mo"},{"$f":"TEXT(EA9,\"TTT\")","v":"Di"},{"$f":"TEXT(EB9,\"TTT\")","v":"Mi"},{"$f":"TEXT(EC9,\"TTT\")","v":"Do"},{"$f":"TEXT(ED9,\"TTT\")","v":"Fr"},{"$f":"TEXT(EE9,\"TTT\")","v":"Sa"},{"$f":"TEXT(EF9,\"TTT\")","v":"So"},{"$f":"TEXT(EG9,\"TTT\")","v":"Mo"},{"$f":"TEXT(EH9,\"TTT\")","v":"Di"},{"$f":"TEXT(EI9,\"TTT\")","v":"Mi"},{"$f":"TEXT(EJ9,\"TTT\")","v":"Do"},{"$f":"TEXT(EK9,\"TTT\")","v":"Fr"},{"$f":"TEXT(EL9,\"TTT\")","v":"Sa"},{"$f":"TEXT(EM9,\"TTT\")","v":"So"},{"$f":"TEXT(EN9,\"TTT\")","v":"Mo"},{"$f":"TEXT(EO9,\"TTT\")","v":"Di"},{"$f":"TEXT(EP9,\"TTT\")","v":"Mi"},{"$f":"TEXT(EQ9,\"TTT\")","v":"Do"},{"$f":"TEXT(ER9,\"TTT\")","v":"Fr"},{"$f":"TEXT(ES9,\"TTT\")","v":"Sa"},{"$f":"TEXT(ET9,\"TTT\")","v":"So"},{"$f":"TEXT(EU9,\"TTT\")","v":"Mo"},{"$f":"TEXT(EV9,\"TTT\")","v":"Di"},{"$f":"TEXT(EW9,\"TTT\")","v":"Mi"},{"$f":"TEXT(EX9,\"TTT\")","v":"Do"},{"$f":"TEXT(EY9,\"TTT\")","v":"Fr"},{"$f":"TEXT(EZ9,\"TTT\")","v":"Sa"},{"$f":"TEXT(FA9,\"TTT\")","v":"So"},{"$f":"TEXT(FB9,\"TTT\")","v":"Mo"},{"$f":"TEXT(FC9,\"TTT\")","v":"Di"},{"$f":"TEXT(FD9,\"TTT\")","v":"Mi"},{"$f":"TEXT(FE9,\"TTT\")","v":"Do"},{"$f":"TEXT(FF9,\"TTT\")","v":"Fr"},{"$f":"TEXT(FG9,\"TTT\")","v":"Sa"},{"$f":"TEXT(FH9,\"TTT\")","v":"So"},{"$f":"TEXT(FI9,\"TTT\")","v":"Mo"},{"$f":"TEXT(FJ9,\"TTT\")","v":"Di"},{"$f":"TEXT(FK9,\"TTT\")","v":"Mi"},{"$f":"TEXT(FL9,\"TTT\")","v":"Do"},{"$f":"TEXT(FM9,\"TTT\")","v":"Fr"},{"$f":"TEXT(FN9,\"TTT\")","v":"Sa"},{"$f":"TEXT(FO9,\"TTT\")","v":"So"},{"$f":"TEXT(FP9,\"TTT\")","v":"Mo"},{"$f":"TEXT(FQ9,\"TTT\")","v":"Di"},{"$f":"TEXT(FR9,\"TTT\")","v":"Mi"},{"$f":"TEXT(FS9,\"TTT\")","v":"Do"},{"$f":"TEXT(FT9,\"TTT\")","v":"Fr"},{"$f":"TEXT(FU9,\"TTT\")","v":"Sa"},{"$f":"TEXT(FV9,\"TTT\")","v":"So"},{"$f":"TEXT(FW9,\"TTT\")","v":"Mo"},{"$f":"TEXT(FX9,\"TTT\")","v":"Di"},{"$f":"TEXT(FY9,\"TTT\")","v":"Mi"},{"$f":"TEXT(FZ9,\"TTT\")","v":"Do"},{"$f":"TEXT(GA9,\"TTT\")","v":"Fr"},{"$f":"TEXT(GB9,\"TTT\")","v":"Sa"},{"$f":"TEXT(GC9,\"TTT\")","v":"So"},{"$f":"TEXT(GD9,\"TTT\")","v":"Mo"},{"$f":"TEXT(GE9,\"TTT\")","v":"Di"},{"$f":"TEXT(GF9,\"TTT\")","v":"Mi"},{"$f":"TEXT(GG9,\"TTT\")","v":"Do"},{"$f":"TEXT(GH9,\"TTT\")","v":"Fr"},{"$f":"TEXT(GI9,\"TTT\")","v":"Sa"},{"$f":"TEXT(GJ9,\"TTT\")","v":"So"},{"$f":"TEXT(GK9,\"TTT\")","v":"Mo"},{"$f":"TEXT(GL9,\"TTT\")","v":"Di"},{"$f":"TEXT(GM9,\"TTT\")","v":"Mi"},{"$f":"TEXT(GN9,\"TTT\")","v":"Do"},{"$f":"TEXT(GO9,\"TTT\")","v":"Fr"},{"$f":"TEXT(GP9,\"TTT\")","v":"Sa"},{"$f":"TEXT(GQ9,\"TTT\")","v":"So"},{"$f":"TEXT(GR9,\"TTT\")","v":"Mo"},{"$f":"TEXT(GS9,\"TTT\")","v":"Di"},{"$f":"TEXT(GT9,\"TTT\")","v":"Mi"},{"$f":"TEXT(GU9,\"TTT\")","v":"Do"},{"$f":"TEXT(GV9,\"TTT\")","v":"Fr"},{"$f":"TEXT(GW9,\"TTT\")","v":"Sa"},{"$f":"TEXT(GX9,\"TTT\")","v":"So"},{"$f":"TEXT(GY9,\"TTT\")","v":"Mo"},{"$f":"TEXT(GZ9,\"TTT\")","v":"Di"},{"$f":"TEXT(HA9,\"TTT\")","v":"Mi"},{"$f":"TEXT(HB9,\"TTT\")","v":"Do"},{"$f":"TEXT(HC9,\"TTT\")","v":"Fr"},{"$f":"TEXT(HD9,\"TTT\")","v":"Sa"},{"$f":"TEXT(HE9,\"TTT\")","v":"So"},{"$f":"TEXT(HF9,\"TTT\")","v":"Mo"},{"$f":"TEXT(HG9,\"TTT\")","v":"Di"},{"$f":"TEXT(HH9,\"TTT\")","v":"Mi"},{"$f":"TEXT(HI9,\"TTT\")","v":"Do"},{"$f":"TEXT(HJ9,\"TTT\")","v":"Fr"},{"$f":"TEXT(HK9,\"TTT\")","v":"Sa"},{"$f":"TEXT(HL9,\"TTT\")","v":"So"},{"$f":"TEXT(HM9,\"TTT\")","v":"Mo"},{"$f":"TEXT(HN9,\"TTT\")","v":"Di"},{"$f":"TEXT(HO9,\"TTT\")","v":"Mi"},{"$f":"TEXT(HP9,\"TTT\")","v":"Do"},{"$f":"TEXT(HQ9,\"TTT\")","v":"Fr"},{"$f":"TEXT(HR9,\"TTT\")","v":"Sa"},{"$f":"TEXT(HS9,\"TTT\")","v":"So"},{"$f":"TEXT(HT9,\"TTT\")","v":"Mo"},{"$f":"TEXT(HU9,\"TTT\")","v":"Di"},{"$f":"TEXT(HV9,\"TTT\")","v":"Mi"},{"$f":"TEXT(HW9,\"TTT\")","v":"Do"},{"$f":"TEXT(HX9,\"TTT\")","v":"Fr"},{"$f":"TEXT(HY9,\"TTT\")","v":"Sa"},{"$f":"TEXT(HZ9,\"TTT\")","v":"So"},{"$f":"TEXT(IA9,\"TTT\")","v":"Mo"},{"$f":"TEXT(IB9,\"TTT\")","v":"Di"},{"$f":"TEXT(IC9,\"TTT\")","v":"Mi"},{"$f":"TEXT(ID9,\"TTT\")","v":"Do"},{"$f":"TEXT(IE9,\"TTT\")","v":"Fr"},{"$f":"TEXT(IF9,\"TTT\")","v":"Sa"},{"$f":"TEXT(IG9,\"TTT\")","v":"So"},{"$f":"TEXT(IH9,\"TTT\")","v":"Mo"},{"$f":"TEXT(II9,\"TTT\")","v":"Di"},{"$f":"TEXT(IJ9,\"TTT\")","v":"Mi"},{"$f":"TEXT(IK9,\"TTT\")","v":"Do"},{"$f":"TEXT(IL9,\"TTT\")","v":"Fr"},{"$f":"TEXT(IM9,\"TTT\")","v":"Sa"},{"$f":"TEXT(IN9,\"TTT\")","v":"So"},{"$f":"TEXT(IO9,\"TTT\")","v":"Mo"},{"$f":"TEXT(IP9,\"TTT\")","v":"Di"},{"$f":"TEXT(IQ9,\"TTT\")","v":"Mi"},{"$f":"TEXT(IR9,\"TTT\")","v":"Do"},{"$f":"TEXT(IS9,\"TTT\")","v":"Fr"},{"$f":"TEXT(IT9,\"TTT\")","v":"Sa"},{"$f":"TEXT(IU9,\"TTT\")","v":"So"},{"$f":"TEXT(IV9,\"TTT\")","v":"Mo"},{"$f":"TEXT(IW9,\"TTT\")","v":"Di"},{"$f":"TEXT(IX9,\"TTT\")","v":"Mi"},{"$f":"TEXT(IY9,\"TTT\")","v":"Do"},{"$f":"TEXT(IZ9,\"TTT\")","v":"Fr"},{"$f":"TEXT(JA9,\"TTT\")","v":"Sa"},{"$f":"TEXT(JB9,\"TTT\")","v":"So"},{"$f":"TEXT(JC9,\"TTT\")","v":"Mo"},{"$f":"TEXT(JD9,\"TTT\")","v":"Di"},{"$f":"TEXT(JE9,\"TTT\")","v":"Mi"},{"$f":"TEXT(JF9,\"TTT\")","v":"Do"},{"$f":"TEXT(JG9,\"TTT\")","v":"Fr"},{"$f":"TEXT(JH9,\"TTT\")","v":"Sa"},{"$f":"TEXT(JI9,\"TTT\")","v":"So"},{"$f":"TEXT(JJ9,\"TTT\")","v":"Mo"},{"$f":"TEXT(JK9,\"TTT\")","v":"Di"},{"$f":"TEXT(JL9,\"TTT\")","v":"Mi"},{"$f":"TEXT(JM9,\"TTT\")","v":"Do"},{"$f":"TEXT(JN9,\"TTT\")","v":"Fr"},{"$f":"TEXT(JO9,\"TTT\")","v":"Sa"},{"$f":"TEXT(JP9,\"TTT\")","v":"So"},{"$f":"TEXT(JQ9,\"TTT\")","v":"Mo"},{"$f":"TEXT(JR9,\"TTT\")","v":"Di"},{"$f":"TEXT(JS9,\"TTT\")","v":"Mi"},{"$f":"TEXT(JT9,\"TTT\")","v":"Do"},{"$f":"TEXT(JU9,\"TTT\")","v":"Fr"},{"$f":"TEXT(JV9,\"TTT\")","v":"Sa"},{"$f":"TEXT(JW9,\"TTT\")","v":"So"},{"$f":"TEXT(JX9,\"TTT\")","v":"Mo"},{"$f":"TEXT(JY9,\"TTT\")","v":"Di"},{"$f":"TEXT(JZ9,\"TTT\")","v":"Mi"},{"$f":"TEXT(KA9,\"TTT\")","v":"Do"},{"$f":"TEXT(KB9,\"TTT\")","v":"Fr"},{"$f":"TEXT(KC9,\"TTT\")","v":"Sa"},{"$f":"TEXT(KD9,\"TTT\")","v":"So"},{"$f":"TEXT(KE9,\"TTT\")","v":"Mo"},{"$f":"TEXT(KF9,\"TTT\")","v":"Di"},{"$f":"TEXT(KG9,\"TTT\")","v":"Mi"},{"$f":"TEXT(KH9,\"TTT\")","v":"Do"},{"$f":"TEXT(KI9,\"TTT\")","v":"Fr"},{"$f":"TEXT(KJ9,\"TTT\")","v":"Sa"},{"$f":"TEXT(KK9,\"TTT\")","v":"So"},{"$f":"TEXT(KL9,\"TTT\")","v":"Mo"},{"$f":"TEXT(KM9,\"TTT\")","v":"Di"},{"$f":"TEXT(KN9,\"TTT\")","v":"Mi"},{"$f":"TEXT(KO9,\"TTT\")","v":"Do"},{"$f":"TEXT(KP9,\"TTT\")","v":"Fr"},{"$f":"TEXT(KQ9,\"TTT\")","v":"Sa"},{"$f":"TEXT(KR9,\"TTT\")","v":"So"},{"$f":"TEXT(KS9,\"TTT\")","v":"Mo"},{"$f":"TEXT(KT9,\"TTT\")","v":"Di"},{"$f":"TEXT(KU9,\"TTT\")","v":"Mi"},{"$f":"TEXT(KV9,\"TTT\")","v":"Do"},{"$f":"TEXT(KW9,\"TTT\")","v":"Fr"},{"$f":"TEXT(KX9,\"TTT\")","v":"Sa"},{"$f":"TEXT(KY9,\"TTT\")","v":"So"},{"$f":"TEXT(KZ9,\"TTT\")","v":"Mo"},{"$f":"TEXT(LA9,\"TTT\")","v":"Di"},{"$f":"TEXT(LB9,\"TTT\")","v":"Mi"},{"$f":"TEXT(LC9,\"TTT\")","v":"Do"},{"$f":"TEXT(LD9,\"TTT\")","v":"Fr"},{"$f":"TEXT(LE9,\"TTT\")","v":"Sa"},{"$f":"TEXT(LF9,\"TTT\")","v":"So"},{"$f":"TEXT(LG9,\"TTT\")","v":"Mo"},{"$f":"TEXT(LH9,\"TTT\")","v":"Di"},{"$f":"TEXT(LI9,\"TTT\")","v":"Mi"},{"$f":"TEXT(LJ9,\"TTT\")","v":"Do"},{"$f":"TEXT(LK9,\"TTT\")","v":"Fr"},{"$f":"TEXT(LL9,\"TTT\")","v":"Sa"},{"$f":"TEXT(LM9,\"TTT\")","v":"So"},{"$f":"TEXT(LN9,\"TTT\")","v":"Mo"},{"$f":"TEXT(LO9,\"TTT\")","v":"Di"},{"$f":"TEXT(LP9,\"TTT\")","v":"Mi"},{"$f":"TEXT(LQ9,\"TTT\")","v":"Do"},{"$f":"TEXT(LR9,\"TTT\")","v":"Fr"},{"$f":"TEXT(LS9,\"TTT\")","v":"Sa"},{"$f":"TEXT(LT9,\"TTT\")","v":"So"},{"$f":"TEXT(LU9,\"TTT\")","v":"Mo"},{"$f":"TEXT(LV9,\"TTT\")","v":"Di"},{"$f":"TEXT(LW9,\"TTT\")","v":"Mi"},{"$f":"TEXT(LX9,\"TTT\")","v":"Do"},{"$f":"TEXT(LY9,\"TTT\")","v":"Fr"},{"$f":"TEXT(LZ9,\"TTT\")","v":"Sa"},{"$f":"TEXT(MA9,\"TTT\")","v":"So"},{"$f":"TEXT(MB9,\"TTT\")","v":"Mo"},{"$f":"TEXT(MC9,\"TTT\")","v":"Di"},{"$f":"TEXT(MD9,\"TTT\")","v":"Mi"},{"$f":"TEXT(ME9,\"TTT\")","v":"Do"},{"$f":"TEXT(MF9,\"TTT\")","v":"Fr"},{"$f":"TEXT(MG9,\"TTT\")","v":"Sa"},{"$f":"TEXT(MH9,\"TTT\")","v":"So"},{"$f":"TEXT(MI9,\"TTT\")","v":"Mo"},{"$f":"TEXT(MJ9,\"TTT\")","v":"Di"},{"$f":"TEXT(MK9,\"TTT\")","v":"Mi"},{"$f":"TEXT(ML9,\"TTT\")","v":"Do"},{"$f":"TEXT(MM9,\"TTT\")","v":"Fr"},{"$f":"TEXT(MN9,\"TTT\")","v":"Sa"},{"$f":"TEXT(MO9,\"TTT\")","v":"So"},{"$f":"TEXT(MP9,\"TTT\")","v":"Mo"},{"$f":"TEXT(MQ9,\"TTT\")","v":"Di"},{"$f":"TEXT(MR9,\"TTT\")","v":"Mi"},{"$f":"TEXT(MS9,\"TTT\")","v":"Do"},{"$f":"TEXT(MT9,\"TTT\")","v":"Fr"},{"$f":"TEXT(MU9,\"TTT\")","v":"Sa"},{"$f":"TEXT(MV9,\"TTT\")","v":"So"},{"$f":"TEXT(MW9,\"TTT\")","v":"Mo"},{"$f":"TEXT(MX9,\"TTT\")","v":"Di"},{"$f":"TEXT(MY9,\"TTT\")","v":"Mi"},{"$f":"TEXT(MZ9,\"TTT\")","v":"Do"},{"$f":"TEXT(NA9,\"TTT\")","v":"Fr"},{"$f":"TEXT(NB9,\"TTT\")","v":"Sa"},{"$f":"TEXT(NC9,\"TTT\")","v":"So"},{"$f":"TEXT(ND9,\"TTT\")","v":"Mo"},{"$f":"TEXT(NE9,\"TTT\")","v":"Di"},{"$f":"TEXT(NF9,\"TTT\")","v":"Mi"},{"$f":"TEXT(NG9,\"TTT\")","v":"Do"},{"$f":"TEXT(NH9,\"TTT\")","v":"Fr"},{"$f":"TEXT(NI9,\"TTT\")","v":"Sa"},{"$f":"TEXT(NJ9,\"TTT\")","v":"So"},{"$f":"TEXT(NK9,\"TTT\")","v":"Mo"},{"$f":"TEXT(NL9,\"TTT\")","v":"Di"},{"$f":"TEXT(NM9,\"TTT\")","v":"Mi"},{"$f":"TEXT(NN9,\"TTT\")","v":"Do"},{"$f":"TEXT(NO9,\"TTT\")","v":"Fr"},{"$f":"TEXT(NP9,\"TTT\")","v":"Sa"},{"$f":"TEXT(NQ9,\"TTT\")","v":"So"},{"$f":"TEXT(NR9,\"TTT\")","v":"Mo"},{"$f":"TEXT(NS9,\"TTT\")","v":"Di"},{"$f":"TEXT(NT9,\"TTT\")","v":"Mi"},{"$f":"TEXT(NU9,\"TTT\")","v":"Do"},{"$f":"TEXT(NV9,\"TTT\")","v":"Fr"},{"$f":"TEXT(NW9,\"TTT\")","v":"Sa"},{"$f":"TEXT(NX9,\"TTT\")","v":"So"},{"$f":"TEXT(NY9,\"TTT\")","v":"Mo"},{"$f":"TEXT(NZ9,\"TTT\")","v":"Di"},{"$f":"TEXT(OA9,\"TTT\")","v":"Mi"},{"$f":"TEXT(OB9,\"TTT\")","v":"Do"},{"$f":"TEXT(OC9,\"TTT\")","v":"Fr"},{"$f":"TEXT(OD9,\"TTT\")","v":"Sa"},{"$f":"TEXT(OE9,\"TTT\")","v":"So"},{"$f":"TEXT(OF9,\"TTT\")","v":"Mo"},{"$f":"TEXT(OG9,\"TTT\")","v":"Di"},{"$f":"TEXT(OH9,\"TTT\")","v":"Mi"},{"$f":"TEXT(OI9,\"TTT\")","v":"Do"},{"$f":"TEXT(OJ9,\"TTT\")","v":"Fr"}]
[]
["SL startet Prozess",null,null,null,"2025-01-27","2025-02-07",{"$f":"IF(AND(    E12=0,F12=0),  \"\",         IF($C$5<=E12,0,IF($C$5>F12,1,_xlfn.DAYS($C$5,E12)/_xlfn.DAYS(F12,E12))))","v":1},0.25,{"$f":"IF(AND(         I$9>=$E12,       I$9<=$F12, $D12<>0),     \"u\",    \"\")","v":""},{"$f":"IF(AND(         J$9>=$E12,       J$9<=$F12, $D12<>0),     \"u\",    \"\")","v":""},"","","","","","","","","","","","","","","","","","","","","","","","","","","","","","","","","","","","","","","","","","","","","","","","","","","","","","","","","","","","","","","",{"$f":"IF(AND(         BV$9>=$E12,       BV$9<=$F12, $D12<>0),     \"u\",    \"\")","v":""},"","","","","","","","","","","","","","","","","","","","","","","","","","","","","","","","","","","","","","","","","","","","","","","","","","","","","","",{"$f":"IF(AND(         DY$9>=$E12,       DY$9<=$F12, $D12<>0),     \"u\",    \"\")","v":""},"","","","","","","","",{"$f":"IF(AND(         EH$9>=$E12,       EH$9<=$F12, $D12<>0),     \"u\",    \"\")","v":""},"","","","","","","","","","","","","","","","","","","","","","","","","","","","","","","","","","","","","","","","","","","","","","","","","","","","","","","","","","","","","","","",{"$f":"IF(AND(         GT$9>=$E12,       GT$9<=$F12, $D12<>0),     \"u\",    \"\")","v":""},"","","","","","","","","","","","","","","","","","","","","","","","","","","","","","","","","","","","","","","","","","","","","","","","","","","","","","","","","","","","","","","",{"$f":"IF(AND(         JF$9>=$E12,       JF$9<=$F12, $D12<>0),     \"u\",    \"\")","v":""},"","","","","","","","","","","","","","","","","","","","","","","","","","","","","","","","","","","","","","","","","","","","","","","","","","","","","","","","","","","","","","","",{"$f":"IF(AND(         LR$9>=$E12,       LR$9<=$F12, $D12<>0),     \"u\",    \"\")","v":""},"","","","","","","","","","","","","","","","","","","","","","","","","","","","","","","","","","","","","","","","","","","","","","","","","","","","","","","","","","","","","","","",{"$f":"IF(AND(         OD$9>=$E12,       OD$9<=$F12, $D12<>0),     \"u\",    \"\")","v":""},"","","","","","","",""]
[null,"Info an Kollegium",null,null,"2025-01-27","2025-01-27",{"$f":"IF(AND(    E13=0,F13=0),  \"\",         IF($C$5<=E13,0,IF($C$5>F13,1,_xlfn.DAYS($C$5,E13)/_xlfn.DAYS(F13,E13))))","v":1},0.1,"",{"$f":"IF(AND(         J$9>=$E13,       J$9<=$F13, $D13<>0),     \"u\",    \"\")","v":""},"","","","","","","","","",{"$f":"IF(AND(         T$9>=$E13,       T$9<=$F13, $D13<>0),     \"u\",    \"\")","v":""},"","","","","","","","","",{"$f":"IF(AND(         AD$9>=$E13,       AD$9<=$F13, $D13<>0),     \"u\",    \"\")","v":""},"","","","","","","","","",{"$f":"IF(AND(         AN$9>=$E13,       AN$9<=$F13, $D13<>0),     \"u\",    \"\")","v":""},"","","","","","","","","",{"$f":"IF(AND(         AX$9>=$E13,       AX$9<=$F13, $D13<>0),     \"u\",    \"\")","v":""},"","","","","","","","","",{"$f":"IF(AND(         BH$9>=$E13,       BH$9<=$F13, $D13<>0),     \"u\",    \"\")","v":""},"","","","","","","","","",{"$f":"IF(AND(         BR$9>=$E13,       BR$9<=$F13, $D13<>0),     \"u\",    \"\")","v":""},"","","","","","","","","",{"$f":"IF(AND(         CB$9>=$E13,       CB$9<=$F13, $D13<>0),     \"u\",    \"\")","v":""},"","","","","","","","","",{"$f":"IF(AND(         CL$9>=$E13,       CL$9<=$F13, $D13<>0),     \"u\",    \"\")","v":""},"","","","","","","","","",{"$f":"IF(AND(         CV$9>=$E13,       CV$9<=$F13, $D13<>0),     \"u\",    \"\")","v":""},"","","","","","","","","",{"$f":"IF(AND(         DF$9>=$E13,       DF$9<=$F13, $D13<>0),     \"u\",    \"\")","v":""},"","","","","","","","","",{"$f":"IF(AND(         DP$9>=$E13,       DP$9<=$F13, $D13<>0),     \"u\",    \"\")","v":""},"","","","","","","","","",{"$f":"IF(AND(         DZ$9>=$E13,       DZ$9<=$F13, $D13<>0),     \"u\",    \"\")","v":""},"","","","","","","","","",{"$f":"IF(AND(         EJ$9>=$E13,       EJ$9<=$F13, $D13<>0),     \"u\",    \"\")","v":""},"","","","","","","","","",{"$f":"IF(AND(         ET$9>=$E13,       ET$9<=$F13, $D13<>0),     \"u\",    \"\")","v":""},"","","","","","","","","",{"$f":"IF(AND(         FD$9>=$E13,       FD$9<=$F13, $D13<>0),     \"u\",    \"\")","v":""},"","","","","","","","","",{"$f":"IF(AND(         FN$9>=$E13,       FN$9<=$F13, $D13<>0),     \"u\",    \"\")","v":""},"","","","","","","","","",{"$f":"IF(AND(         FX$9>=$E13,       FX$9<=$F13, $D13<>0),     \"u\",    \"\")","v":""},"","","","","","","","","",{"$f":"IF(AND(         GH$9>=$E13,       GH$9<=$F13, $D13<>0),     \"u\",    \"\")","v":""},"","","","","","","","","",{"$f":"IF(AND(         GR$9>=$E13,       GR$9<=$F13, $D13<>0),     \"u\",    \"\")","v":""},"","","","","","","","","",{"$f":"IF(AND(         HB$9>=$E13,       HB$9<=$F13, $D13<>0),     \"u\",    \"\")","v":""},"","","","","","","","","",{"$f":"IF(AND(         HL$9>=$E13,       HL$9<=$F13, $D13<>0),     \"u\",    \"\")","v":""},"","","","","","","","","",{"$f":"IF(AND(         HV$9>=$E13,       HV$9<=$F13, $D13<>0),     \"u\",    \"\")","v":""},"","","","","","","","","",{"$f":"IF(AND(         IF$9>=$E13,       IF$9<=$F13, $D13<>0),     \"u\",    \"\")","v":""},"","","","","","","","","",{"$f":"IF(AND(         IP$9>=$E13,       IP$9<=$F13, $D13<>0),     \"u\",    \"\")","v":""},"","","","","","","","","",{"$f":"IF(AND(         IZ$9>=$E13,       IZ$9<=$F13, $D13<>0),     \"u\",    \"\")","v":""},"","","","","","","","","",{"$f":"IF(AND(         JJ$9>=$E13,       JJ$9<=$F13, $D13<>0),     \"u\",    \"\")","v":""},"","","","","","","","","",{"$f":"IF(AND(         JT$9>=$E13,       JT$9<=$F13, $D13<>0),     \"u\",    \"\")","v":""},"","","","","","","","","",{"$f":"IF(AND(         KD$9>=$E13,       KD$9<=$F13, $D13<>0),     \"u\",    \"\")","v":""},"","","","","","","","","",{"$f":"IF(AND(         KN$9>=$E13,       KN$9<=$F13, $D13<>0),     \"u\",    \"\")","v":""},"","","","","","","","","",{"$f":"IF(AND(         KX$9>=$E13,       KX$9<=$F13, $D13<>0),     \"u\",    \"\")","v":""},"","","","","","","","","",{"$f":"IF(AND(         LH$9>=$E13,       LH$9<=$F13, $D13<>0),     \"u\",    \"\")","v":""},"","","","","","","","","",{"$f":"IF(AND(         LR$9>=$E13,       LR$9<=$F13, $D13<>0),     \"u\",    \"\")","v":""},"","","","","","","","","",{"$f":"IF(AND(         MB$9>=$E13,       MB$9<=$F13, $D13<>0),     \"u\",    \"\")","v":""},"","","","","","","","","",{"$f":"IF(AND(         ML$9>=$E13,       ML$9<=$F13, $D13<>0),     \"u\",    \"\")","v":""},"","","","","","","","","",{"$f":"IF(AND(         MV$9>=$E13,       MV$9<=$F13, $D13<>0),     \"u\",    \"\")","v":""},"","","","","","","","","",{"$f":"IF(AND(         NF$9>=$E13,       NF$9<=$F13, $D13<>0),     \"u\",    \"\")","v":""},"","","","","","","","","",{"$f":"IF(AND(         NP$9>=$E13,       NP$9<=$F13, $D13<>0),     \"u\",    \"\")","v":""},"","","","","","","","","",{"$f":"IF(AND(         NZ$9>=$E13,       NZ$9<=$F13, $D13<>0),     \"u\",    \"\")","v":""},"","","","","","","","","","","",""]
[null,"Einsetzen der Steuergruppe",null,null,"2025-02-03","2025-02-07",{"$f":"IF(AND(    E14=0,F14=0),  \"\",         IF($C$5<=E14,0,IF($C$5>F14,1,_xlfn.DAYS($C$5,E14)/_xlfn.DAYS(F14,E14))))","v":1},0.5,"","","","","","","","","","","","","","","","","","","","","","","","","","","","","","","","","","","","","","","","","","","","","","","","","","","","","","","","","","","","","","","","","","","","","","","","","","","","","","","","","","","","","","","","","","","","","","","","","","","","","","","","","","","","","","","","","","","","","","","","","","","","","","","","","","","","","","","","","","","","","","","","","","","","","","","","","","","","","","","","","","","","","","","","","","","","","","","","","","","","","","","","","","","","","","","","","","","","","","","","","","","","","","","","","","","","","","","","","","","","","","","","","","","","","","","","","","","","","","","","","","","","","","","","","","","","","","","","","","","","","","","","","","","","","","","","","","","","","","","","","","","","","","","","","","","","","","","","","","","","","","","","","","","","","","","","","","","","","","","","","","","","","","","","","","","","","","","","","","","","","","","","","","","","","","","","","","","","","","","","","","","","","","","","","","","","","","","","","","","","","","","","","","","","","","","","","",""]
[null,null,"Kontakt ZSL",null,"2025-01-30","2025-01-30",{"$f":"IF(AND(    E15=0,F15=0),  \"\",         IF($C$5<=E15,0,IF($C$5>F15,1,_xlfn.DAYS($C$5,E15)/_xlfn.DAYS(F15,E15))))","v":1},0.4,"","","","","","","","","","","","","","","","","","","","","","","","","","","","","","","","","","","","","","","","","","","","","","","","","","","","","","","","","","","","","","","","","","","","","","","","","","","","","","","","","","","","","","","","","","","","","","","","","","","","","","","","","","","","","","","","","","","","","","","","","","","","","","","","","","","","","","","","","","","","","","","","","","","","","","","","","","","","","","","","","","","","","","","","","","","","","","","","","","","","","","","","","","","","","","","","","","","","","","","","","","","","","","","","","","","","","","","","","","","","","","","","","","","","","","","","","","","","","","","","","","","","","","","","","","","","","","","","","","","","","","","","","","","","","","","","","","","","","","","","","","","","","","","","","","","","","","","","","","","","","","","","","","","","","","","","","","","","","","","","","","","","","","","","","","","","","","","","","","","","","","","","","","","","","","","","","","","","","","","","","","","","","","","","","","","","","","","","","","","","","","","","","","","","","","","","","",""]
[null,null,null,null,null,null,{"$f":"IF(AND(    E16=0,F16=0),  \"\",         IF($C$5<=E16,0,IF($C$5>F16,1,_xlfn.DAYS($C$5,E16)/_xlfn.DAYS(F16,E16))))","v":""},null,"","","","","","","","","","","","","","","","","","","","","","","","","","","","","","","","","","","","","","","","","","","","","","","","","","","","","","","","","","","","","","","","","","","","","","","","","","","","","","","","","","","","","","","","","","","","","","","","","","","","","","","","","","","","","","","","","","","","","","","","","","","","","","","","","","","","","","","","","","","","","","","","","","","","","","","","","","","","","","","","","","","","","","","","","","","","","","","","","","","","","","","","","","","","","","","","","","","","","","","","","","","","","","","","","","","","","","","","","","","","","","","","","","","","","","","","","","","","","","","","","","","","","","","","","","","","","","","","","","","","","","","","","","","","","","","","","","","","","","","","","","","","","","","","","","","","","","","","","","","","","","","","","","","","","","","","","","","","","","","","","","","","","","","","","","","","","","","","","","","","","","","","","","","","","","","","","","","","","","","","","","","","","","","","","","","","","","","","","","","","","","","","","","","","","","","","","",""]
[null,null,null,null,null,null,{"$f":"IF(AND(    E17=0,F17=0),  \"\",         IF($C$5<=E17,0,IF($C$5>F17,1,_xlfn.DAYS($C$5,E17)/_xlfn.DAYS(F17,E17))))","v":""},0.3,"","","","","","","","","","","","","","","","","","","","","","","","","","","","","","","","","","","","","","","","","","","","","","","","","","","","","","","","","","","","","","","","","","","","","","","","","","","","","","","","","","","","","","","","","","","","","","","","","","","","","","","","","","","","","","","","","","","","","","","","","","","","","","","","","","","","","","","","","","","","","","","","","","","","","","","","","","","","","","","","","","","","","","","","","","","","","","","","","","","","","","","","","","","","","","","","","","","","","","","","","","","","","","","","","","","","","","","","","","","","","","","","","","","","","","","","","","","","","","","","","","","","","","","","","","","","","","","","","","","","","","","","","","","","","","","","","","","","","","","","","","","","","","","","","","","","","","","","","","","","","","","","","","","","","","","","","","","","","","","","","","","","","","","","","","","","","","","","","","","","","","","","","","","","","","","","","","","","","","","","","","","","","","","","","","","","","","","","","","","","","","","","","","","","","","","","","",""]
[null,null,null,null,null,null,{"$f":"IF(AND(    E19=0,F19=0),  \"\",         IF($C$5<=E19,0,IF($C$5>F19,1,_xlfn.DAYS($C$5,E19)/_xlfn.DAYS(F19,E19))))","v":""},null,{"$f":"IF(AND(         I$9>=$E19,       I$9<=$F19, $D19<>0),     \"u\",    \"\")","v":""},"","","","","","","","","","","","","","","","","","","","","","","","","","","","","","","","","","","","","","","","","","","","","","","","","","","","","","","","","","","","","","","",{"$f":"IF(AND(         BU$9>=$E19,       BU$9<=$F19, $D19<>0),     \"u\",    \"\")","v":""},"","","","","","","","","","","","","","","","","","","","","","","","","","","","","","","","","","","","","","","","","","","","","","","","","","","","","","","","","","","","","","","",{"$f":"IF(AND(         EG$9>=$E19,       EG$9<=$F19, $D19<>0),     \"u\",    \"\")","v":""},"","","","","","","","","","","","","","","","","","","","","","","","","","","","","","","","","","","","","","","","","","","","","","","","","","","","","","","","","","","","","","","",{"$f":"IF(AND(         GS$9>=$E19,       GS$9<=$F19, $D19<>0),     \"u\",    \"\")","v":""},"","","","","","","","","","","","","","","","","","","","","","","","","","","","","","","","","","","","","","","","","","","","","","","","","","","","","","","","","","","","","","","",{"$f":"IF(AND(         JE$9>=$E19,       JE$9<=$F19, $D19<>0),     \"u\",    \"\")","v":""},"","","","","","","","","","","","","","","","","","","","","","","","","","","","","","","","","","","","","","","","","","","","","","","","","","","","","","","","","","","","","","","",{"$f":"IF(AND(         LQ$9>=$E19,       LQ$9<=$F19, $D19<>0),     \"u\",    \"\")","v":""},"","","","","","","","","","","","","","","","","","","","","","","","","","","","","","","","","","","","","","","","","","","","","","","","","","","","","","","","","","","","","","","",{"$f":"IF(AND(         OC$9>=$E19,       OC$9<=$F19, $D19<>0),     \"u\",    \"\")","v":""},"","","","","","","","",""]
[null,null,null,null,null,null,{"$f":"IF(AND(    E20=0,F20=0),  \"\",         IF($C$5<=E20,0,IF($C$5>F20,1,_xlfn.DAYS($C$5,E20)/_xlfn.DAYS(F20,E20))))","v":""},null,{"$f":"IF(AND(         I$9>=$E20,       I$9<=$F20, $D20<>0),     \"u\",    \"\")","v":""},"","","","","","","","","","","","","","","","","","","","","","","","","","","","","","","","","","","","","","","","","","","","","","","","","","","","","","","","","","","","","","","",{"$f":"IF(AND(         BU$9>=$E20,       BU$9<=$F20, $D20<>0),     \"u\",    \"\")","v":""},"","","","","","","","","","","","","","","","","","","","","","","","","","","","","","","","","","","","","","","","","","","","","","","","","","","","","","","","","","","","","","","",{"$f":"IF(AND(         EG$9>=$E20,       EG$9<=$F20, $D20<>0),     \"u\",    \"\")","v":""},"","","","","","","","","","","","","","","","","","","","","","","","","","","","","","","","","","","","","","","","","","","","","","","","","","","","","","","","","","","","","","","",{"$f":"IF(AND(         GS$9>=$E20,       GS$9<=$F20, $D20<>0),     \"u\",    \"\")","v":""},"","","","","","","","","","","","","","","","","","","","","","","","","","","","","","","","","","","","","","","","","","","","","","","","","","","","","","","","","","","","","","","",{"$f":"IF(AND(         JE$9>=$E20,       JE$9<=$F20, $D20<>0),     \"u\",    \"\")","v":""},"","","","","","","","","","","","","","","","","","","","","","","","","","","","","","","","","","","","","","","","","","","","","","","","","","","","","","","","","","","","","","","",{"$f":"IF(AND(         LQ$9>=$E20,       LQ$9<=$F20, $D20<>0),     \"u\",    \"\")","v":""},"","","","","","","","","","","","","","","","","","","","","","","","","","","","","","","","","","","","","","","","","","","","","","","","","","","","","","","","","","","","","","","",{"$f":"IF(AND(         OC$9>=$E20,       OC$9<=$F20, $D20<>0),     \"u\",    \"\")","v":""},"","","","","","",""]
[null,null,null,null,null,null,{"$f":"IF(AND(    E21=0,F21=0),  \"\",         IF($C$5<=E21,0,IF($C$5>F21,1,_xlfn.DAYS($C$5,E21)/_xlfn.DAYS(F21,E21))))","v":""},null,{"$f":"IF(AND(         I$9>=#REF!,       I$9<=#REF!,#REF!<> 0),     \"u\",    \"\")","v":{"$error":"#REF!"}},{"$f":"IF(AND(         J$9>=#REF!,       J$9<=#REF!,#REF!<> 0),     \"u\",    \"\")","v":{"$error":"#REF!"}},{"$f":"IF(AND(         K$9>=#REF!,       K$9<=#REF!,#REF!<> 0),     \"u\",    \"\")","v":{"$error":"#REF!"}},{"$f":"IF(AND(         L$9>=#REF!,       L$9<=#REF!,#REF!<> 0),     \"u\",    \"\")","v":{"$error":"#REF!"}},{"$f":"IF(AND(         M$9>=#REF!,       M$9<=#REF!,#REF!<> 0),     \"u\",    \"\")","v":{"$error":"#REF!"}},{"$f":"IF(AND(         N$9>=#REF!,       N$9<=#REF!,#REF!<> 0),     \"u\",    \"\")","v":{"$error":"#REF!"}},{"$f":"IF(AND(         O$9>=#REF!,       O$9<=#REF!,#REF!<> 0),     \"u\",    \"\")","v":{"$error":"#REF!"}},{"$f":"IF(AND(         P$9>=#REF!,       P$9<=#REF!,#REF!<> 0),     \"u\",    \"\")","v":{"$error":"#REF!"}},{"$f":"IF(AND(         Q$9>=#REF!,       Q$9<=#REF!,#REF!<> 0),     \"u\",    \"\")","v":{"$error":"#REF!"}},{"$f":"IF(AND(         R$9>=#REF!,       R$9<=#REF!,#REF!<> 0),     \"u\",    \"\")","v":{"$error":"#REF!"}},{"$f":"IF(AND(         S$9>=#REF!,       S$9<=#REF!,#REF!<> 0),     \"u\",    \"\")","v":{"$error":"#REF!"}},{"$f":"IF(AND(         T$9>=#REF!,       T$9<=#REF!,#REF!<> 0),     \"u\",    \"\")","v":{"$error":"#REF!"}},{"$f":"IF(AND(         U$9>=#REF!,       U$9<=#REF!,#REF!<> 0),     \"u\",    \"\")","v":{"$error":"#REF!"}},{"$f":"IF(AND(         V$9>=#REF!,       V$9<=#REF!,#REF!<> 0),     \"u\",    \"\")","v":{"$error":"#REF!"}},{"$f":"IF(AND(         W$9>=#REF!,       W$9<=#REF!,#REF!<> 0),     \"u\",    \"\")","v":{"$error":"#REF!"}},{"$f":"IF(AND(         X$9>=#REF!,       X$9<=#REF!,#REF!<> 0),     \"u\",    \"\")","v":{"$error":"#REF!"}},{"$f":"IF(AND(         Y$9>=#REF!,       Y$9<=#REF!,#REF!<> 0),     \"u\",    \"\")","v":{"$error":"#REF!"}},{"$f":"IF(AND(         Z$9>=#REF!,       Z$9<=#REF!,#REF!<> 0),     \"u\",    \"\")","v":{"$error":"#REF!"}},{"$f":"IF(AND(         AA$9>=#REF!,       AA$9<=#REF!,#REF!<> 0),     \"u\",    \"\")","v":{"$error":"#REF!"}},{"$f":"IF(AND(         AB$9>=#REF!,       AB$9<=#REF!,#REF!<> 0),     \"u\",    \"\")","v":{"$error":"#REF!"}},{"$f":"IF(AND(         AC$9>=#REF!,       AC$9<=#REF!,#REF!<> 0),     \"u\",    \"\")","v":{"$error":"#REF!"}},{"$f":"IF(AND(         AD$9>=#REF!,       AD$9<=#REF!,#REF!<> 0),     \"u\",    \"\")","v":{"$error":"#REF!"}},{"$f":"IF(AND(         AE$9>=#REF!,       AE$9<=#REF!,#REF!<> 0),     \"u\",    \"\")","v":{"$error":"#REF!"}},{"$f":"IF(AND(         AF$9>=#REF!,       AF$9<=#REF!,#REF!<> 0),     \"u\",    \"\")","v":{"$error":"#REF!"}},{"$f":"IF(AND(         AG$9>=#REF!,       AG$9<=#REF!,#REF!<> 0),     \"u\",    \"\")","v":{"$error":"#REF!"}},{"$f":"IF(AND(         AH$9>=#REF!,       AH$9<=#REF!,#REF!<> 0),     \"u\",    \"\")","v":{"$error":"#REF!"}},{"$f":"IF(AND(         AI$9>=#REF!,       AI$9<=#REF!,#REF!<> 0),     \"u\",    \"\")","v":{"$error":"#REF!"}},{"$f":"IF(AND(         AJ$9>=#REF!,       AJ$9<=#REF!,#REF!<> 0),     \"u\",    \"\")","v":{"$error":"#REF!"}},{"$f":"IF(AND(         AK$9>=#REF!,       AK$9<=#REF!,#REF!<> 0),     \"u\",    \"\")","v":{"$error":"#REF!"}},{"$f":"IF(AND(         AL$9>=#REF!,       AL$9<=#REF!,#REF!<> 0),     \"u\",    \"\")","v":{"$error":"#REF!"}},{"$f":"IF(AND(         AM$9>=#REF!,       AM$9<=#REF!,#REF!<> 0),     \"u\",    \"\")","v":{"$error":"#REF!"}},{"$f":"IF(AND(         AN$9>=#REF!,       AN$9<=#REF!,#REF!<> 0),     \"u\",    \"\")","v":{"$error":"#REF!"}},{"$f":"IF(AND(         AO$9>=#REF!,       AO$9<=#REF!,#REF!<> 0),     \"u\",    \"\")","v":{"$error":"#REF!"}},{"$f":"IF(AND(         AP$9>=#REF!,       AP$9<=#REF!,#REF!<> 0),     \"u\",    \"\")","v":{"$error":"#REF!"}},{"$f":"IF(AND(         AQ$9>=#REF!,       AQ$9<=#REF!,#REF!<> 0),     \"u\",    \"\")","v":{"$error":"#REF!"}},{"$f":"IF(AND(         AR$9>=#REF!,       AR$9<=#REF!,#REF!<> 0),     \"u\",    \"\")","v":{"$error":"#REF!"}},{"$f":"IF(AND(         AS$9>=#REF!,       AS$9<=#REF!,#REF!<> 0),     \"u\",    \"\")","v":{"$error":"#REF!"}},{"$f":"IF(AND(         AT$9>=#REF!,       AT$9<=#REF!,#REF!<> 0),     \"u\",    \"\")","v":{"$error":"#REF!"}},{"$f":"IF(AND(         AU$9>=#REF!,       AU$9<=#REF!,#REF!<> 0),     \"u\",    \"\")","v":{"$error":"#REF!"}},{"$f":"IF(AND(         AV$9>=#REF!,       AV$9<=#REF!,#REF!<> 0),     \"u\",    \"\")","v":{"$error":"#REF!"}},{"$f":"IF(AND(         AW$9>=#REF!,       AW$9<=#REF!,#REF!<> 0),     \"u\",    \"\")","v":{"$error":"#REF!"}},{"$f":"IF(AND(         AX$9>=#REF!,       AX$9<=#REF!,#REF!<> 0),     \"u\",    \"\")","v":{"$error":"#REF!"}},{"$f":"IF(AND(         AY$9>=#REF!,       AY$9<=#REF!,#REF!<> 0),     \"u\",    \"\")","v":{"$error":"#REF!"}},{"$f":"IF(AND(         AZ$9>=#REF!,       AZ$9<=#REF!,#REF!<> 0),     \"u\",    \"\")","v":{"$error":"#REF!"}},{"$f":"IF(AND(         BA$9>=#REF!,       BA$9<=#REF!,#REF!<> 0),     \"u\",    \"\")","v":{"$error":"#REF!"}},{"$f":"IF(AND(         BB$9>=#REF!,       BB$9<=#REF!,#REF!<> 0),     \"u\",    \"\")","v":{"$error":"#REF!"}},{"$f":"IF(AND(         BC$9>=#REF!,       BC$9<=#REF!,#REF!<> 0),     \"u\",    \"\")","v":{"$error":"#REF!"}},{"$f":"IF(AND(         BD$9>=#REF!,       BD$9<=#REF!,#REF!<> 0),     \"u\",    \"\")","v":{"$error":"#REF!"}},{"$f":"IF(AND(         BE$9>=#REF!,       BE$9<=#REF!,#REF!<> 0),     \"u\",    \"\")","v":{"$error":"#REF!"}},{"$f":"IF(AND(         BF$9>=#REF!,       BF$9<=#REF!,#REF!<> 0),     \"u\",    \"\")","v":{"$error":"#REF!"}},{"$f":"IF(AND(         BG$9>=#REF!,       BG$9<=#REF!,#REF!<> 0),     \"u\",    \"\")","v":{"$error":"#REF!"}},{"$f":"IF(AND(         BH$9>=#REF!,       BH$9<=#REF!,#REF!<> 0),     \"u\",    \"\")","v":{"$error":"#REF!"}},{"$f":"IF(AND(         BI$9>=#REF!,       BI$9<=#REF!,#REF!<> 0),     \"u\",    \"\")","v":{"$error":"#REF!"}},{"$f":"IF(AND(         BJ$9>=#REF!,       BJ$9<=#REF!,#REF!<> 0),     \"u\",    \"\")","v":{"$error":"#REF!"}},{"$f":"IF(AND(         BK$9>=#REF!,       BK$9<=#REF!,#REF!<> 0),     \"u\",    \"\")","v":{"$error":"#REF!"}},{"$f":"IF(AND(         BL$9>=#REF!,       BL$9<=#REF!,#REF!<> 0),     \"u\",    \"\")","v":{"$error":"#REF!"}},{"$f":"IF(AND(         BM$9>=#REF!,       BM$9<=#REF!,#REF!<> 0),     \"u\",    \"\")","v":{"$error":"#REF!"}},{"$f":"IF(AND(         BN$9>=#REF!,       BN$9<=#REF!,#REF!<> 0),     \"u\",    \"\")","v":{"$error":"#REF!"}},{"$f":"IF(AND(         BO$9>=#REF!,       BO$9<=#REF!,#REF!<> 0),     \"u\",    \"\")","v":{"$error":"#REF!"}},{"$f":"IF(AND(         BP$9>=#REF!,       BP$9<=#REF!,#REF!<> 0),     \"u\",    \"\")","v":{"$error":"#REF!"}},{"$f":"IF(AND(         BQ$9>=#REF!,       BQ$9<=#REF!,#REF!<> 0),     \"u\",    \"\")","v":{"$error":"#REF!"}},{"$f":"IF(AND(         BR$9>=#REF!,       BR$9<=#REF!,#REF!<> 0),     \"u\",    \"\")","v":{"$error":"#REF!"}},{"$f":"IF(AND(         BS$9>=#REF!,       BS$9<=#REF!,#REF!<> 0),     \"u\",    \"\")","v":{"$error":"#REF!"}},{"$f":"IF(AND(         BT$9>=#REF!,       BT$9<=#REF!,#REF!<> 0),     \"u\",    \"\")","v":{"$error":"#REF!"}},{"$f":"IF(AND(         BU$9>=#REF!,       BU$9<=#REF!,#REF!<> 0),     \"u\",    \"\")","v":{"$error":"#REF!"}},{"$f":"IF(AND(         BV$9>=#REF!,       BV$9<=#REF!,#REF!<> 0),     \"u\",    \"\")","v":{"$error":"#REF!"}},{"$f":"IF(AND(         BW$9>=#REF!,       BW$9<=#REF!,#REF!<> 0),     \"u\",    \"\")","v":{"$error":"#REF!"}},{"$f":"IF(AND(         BX$9>=#REF!,       BX$9<=#REF!,#REF!<> 0),     \"u\",    \"\")","v":{"$error":"#REF!"}},{"$f":"IF(AND(         BY$9>=#REF!,       BY$9<=#REF!,#REF!<> 0),     \"u\",    \"\")","v":{"$error":"#REF!"}},{"$f":"IF(AND(         BZ$9>=#REF!,       BZ$9<=#REF!,#REF!<> 0),     \"u\",    \"\")","v":{"$error":"#REF!"}},{"$f":"IF(AND(         CA$9>=#REF!,       CA$9<=#REF!,#REF!<> 0),     \"u\",    \"\")","v":{"$error":"#REF!"}},{"$f":"IF(AND(         CB$9>=#REF!,       CB$9<=#REF!,#REF!<> 0),     \"u\",    \"\")","v":{"$error":"#REF!"}},{"$f":"IF(AND(         CC$9>=#REF!,       CC$9<=#REF!,#REF!<> 0),     \"u\",    \"\")","v":{"$error":"#REF!"}},{"$f":"IF(AND(         CD$9>=#REF!,       CD$9<=#REF!,#REF!<> 0),     \"u\",    \"\")","v":{"$error":"#REF!"}},{"$f":"IF(AND(         CE$9>=#REF!,       CE$9<=#REF!,#REF!<> 0),     \"u\",    \"\")","v":{"$error":"#REF!"}},{"$f":"IF(AND(         CF$9>=#REF!,       CF$9<=#REF!,#REF!<> 0),     \"u\",    \"\")","v":{"$error":"#REF!"}},{"$f":"IF(AND(         CG$9>=#REF!,       CG$9<=#REF!,#REF!<> 0),     \"u\",    \"\")","v":{"$error":"#REF!"}},{"$f":"IF(AND(         CH$9>=#REF!,       CH$9<=#REF!,#REF!<> 0),     \"u\",    \"\")","v":{"$error":"#REF!"}},{"$f":"IF(AND(         CI$9>=#REF!,       CI$9<=#REF!,#REF!<> 0),     \"u\",    \"\")","v":{"$error":"#REF!"}},{"$f":"IF(AND(         CJ$9>=#REF!,       CJ$9<=#REF!,#REF!<> 0),     \"u\",    \"\")","v":{"$error":"#REF!"}},{"$f":"IF(AND(         CK$9>=#REF!,       CK$9<=#REF!,#REF!<> 0),     \"u\",    \"\")","v":{"$error":"#REF!"}},{"$f":"IF(AND(         CL$9>=#REF!,       CL$9<=#REF!,#REF!<> 0),     \"u\",    \"\")","v":{"$error":"#REF!"}},{"$f":"IF(AND(         CM$9>=#REF!,       CM$9<=#REF!,#REF!<> 0),     \"u\",    \"\")","v":{"$error":"#REF!"}},{"$f":"IF(AND(         CN$9>=#REF!,       CN$9<=#REF!,#REF!<> 0),     \"u\",    \"\")","v":{"$error":"#REF!"}},{"$f":"IF(AND(         CO$9>=#REF!,       CO$9<=#REF!,#REF!<> 0),     \"u\",    \"\")","v":{"$error":"#REF!"}},{"$f":"IF(AND(         CP$9>=#REF!,       CP$9<=#REF!,#REF!<> 0),     \"u\",    \"\")","v":{"$error":"#REF!"}},{"$f":"IF(AND(         CQ$9>=#REF!,       CQ$9<=#REF!,#REF!<> 0),     \"u\",    \"\")","v":{"$error":"#REF!"}},{"$f":"IF(AND(         CR$9>=#REF!,       CR$9<=#REF!,#REF!<> 0),     \"u\",    \"\")","v":{"$error":"#REF!"}},{"$f":"IF(AND(         CS$9>=#REF!,       CS$9<=#REF!,#REF!<> 0),     \"u\",    \"\")","v":{"$error":"#REF!"}},{"$f":"IF(AND(         CT$9>=#REF!,       CT$9<=#REF!,#REF!<> 0),     \"u\",    \"\")","v":{"$error":"#REF!"}},{"$f":"IF(AND(         CU$9>=#REF!,       CU$9<=#REF!,#REF!<> 0),     \"u\",    \"\")","v":{"$error":"#REF!"}},{"$f":"IF(AND(         CV$9>=#REF!,       CV$9<=#REF!,#REF!<> 0),     \"u\",    \"\")","v":{"$error":"#REF!"}},{"$f":"IF(AND(         CW$9>=#REF!,       CW$9<=#REF!,#REF!<> 0),     \"u\",    \"\")","v":{"$error":"#REF!"}},{"$f":"IF(AND(         CX$9>=#REF!,       CX$9<=#REF!,#REF!<> 0),     \"u\",    \"\")","v":{"$error":"#REF!"}},{"$f":"IF(AND(         CY$9>=#REF!,       CY$9<=#REF!,#REF!<> 0),     \"u\",    \"\")","v":{"$error":"#REF!"}},{"$f":"IF(AND(         CZ$9>=#REF!,       CZ$9<=#REF!,#REF!<> 0),     \"u\",    \"\")","v":{"$error":"#REF!"}},{"$f":"IF(AND(         DA$9>=#REF!,       DA$9<=#REF!,#REF!<> 0),     \"u\",    \"\")","v":{"$error":"#REF!"}},{"$f":"IF(AND(         DB$9>=#REF!,       DB$9<=#REF!,#REF!<> 0),     \"u\",    \"\")","v":{"$error":"#REF!"}},{"$f":"IF(AND(         DC$9>=#REF!,       DC$9<=#REF!,#REF!<> 0),     \"u\",    \"\")","v":{"$error":"#REF!"}},{"$f":"IF(AND(         DD$9>=#REF!,       DD$9<=#REF!,#REF!<> 0),     \"u\",    \"\")","v":{"$error":"#REF!"}},{"$f":"IF(AND(         DE$9>=#REF!,       DE$9<=#REF!,#REF!<> 0),     \"u\",    \"\")","v":{"$error":"#REF!"}},{"$f":"IF(AND(         DF$9>=#REF!,       DF$9<=#REF!,#REF!<> 0),     \"u\",    \"\")","v":{"$error":"#REF!"}},{"$f":"IF(AND(         DG$9>=#REF!,       DG$9<=#REF!,#REF!<> 0),     \"u\",    \"\")","v":{"$error":"#REF!"}},{"$f":"IF(AND(         DH$9>=#REF!,       DH$9<=#REF!,#REF!<> 0),     \"u\",    \"\")","v":{"$error":"#REF!"}},{"$f":"IF(AND(         DI$9>=#REF!,       DI$9<=#REF!,#REF!<> 0),     \"u\",    \"\")","v":{"$error":"#REF!"}},{"$f":"IF(AND(         DJ$9>=#REF!,       DJ$9<=#REF!,#REF!<> 0),     \"u\",    \"\")","v":{"$error":"#REF!"}},{"$f":"IF(AND(         DK$9>=#REF!,       DK$9<=#REF!,#REF!<> 0),     \"u\",    \"\")","v":{"$error":"#REF!"}},{"$f":"IF(AND(         DL$9>=#REF!,       DL$9<=#REF!,#REF!<> 0),     \"u\",    \"\")","v":{"$error":"#REF!"}},{"$f":"IF(AND(         DM$9>=#REF!,       DM$9<=#REF!,#REF!<> 0),     \"u\",    \"\")","v":{"$error":"#REF!"}},{"$f":"IF(AND(         DN$9>=#REF!,       DN$9<=#REF!,#REF!<> 0),     \"u\",    \"\")","v":{"$error":"#REF!"}},{"$f":"IF(AND(         DO$9>=#REF!,       DO$9<=#REF!,#REF!<> 0),     \"u\",    \"\")","v":{"$error":"#REF!"}},{"$f":"IF(AND(         DP$9>=#REF!,       DP$9<=#REF!,#REF!<> 0),     \"u\",    \"\")","v":{"$error":"#REF!"}},{"$f":"IF(AND(         DQ$9>=#REF!,       DQ$9<=#REF!,#REF!<> 0),     \"u\",    \"\")","v":{"$error":"#REF!"}},{"$f":"IF(AND(         DR$9>=#REF!,       DR$9<=#REF!,#REF!<> 0),     \"u\",    \"\")","v":{"$error":"#REF!"}},{"$f":"IF(AND(         DS$9>=#REF!,       DS$9<=#REF!,#REF!<> 0),     \"u\",    \"\")","v":{"$error":"#REF!"}},{"$f":"IF(AND(         DT$9>=#REF!,       DT$9<=#REF!,#REF!<> 0),     \"u\",    \"\")","v":{"$error":"#REF!"}},{"$f":"IF(AND(         DU$9>=#REF!,       DU$9<=#REF!,#REF!<> 0),     \"u\",    \"\")","v":{"$error":"#REF!"}},{"$f":"IF(AND(         DV$9>=#REF!,       DV$9<=#REF!,#REF!<> 0),     \"u\",    \"\")","v":{"$error":"#REF!"}},{"$f":"IF(AND(         DW$9>=#REF!,       DW$9<=#REF!,#REF!<> 0),     \"u\",    \"\")","v":{"$error":"#REF!"}},{"$f":"IF(AND(         DX$9>=#REF!,       DX$9<=#REF!,#REF!<> 0),     \"u\",    \"\")","v":{"$error":"#REF!"}},{"$f":"IF(AND(         DY$9>=#REF!,       DY$9<=#REF!,#REF!<> 0),     \"u\",    \"\")","v":{"$error":"#REF!"}},{"$f":"IF(AND(         DZ$9>=#REF!,       DZ$9<=#REF!,#REF!<> 0),     \"u\",    \"\")","v":{"$error":"#REF!"}},{"$f":"IF(AND(         EA$9>=#REF!,       EA$9<=#REF!,#REF!<> 0),     \"u\",    \"\")","v":{"$error":"#REF!"}},{"$f":"IF(AND(         EB$9>=#REF!,       EB$9<=#REF!,#REF!<> 0),     \"u\",    \"\")","v":{"$error":"#REF!"}},{"$f":"IF(AND(         EC$9>=#REF!,       EC$9<=#REF!,#REF!<> 0),     \"u\",    \"\")","v":{"$error":"#REF!"}},{"$f":"IF(AND(         ED$9>=#REF!,       ED$9<=#REF!,#REF!<> 0),     \"u\",    \"\")","v":{"$error":"#REF!"}},{"$f":"IF(AND(         EE$9>=#REF!,       EE$9<=#REF!,#REF!<> 0),     \"u\",    \"\")","v":{"$error":"#REF!"}},{"$f":"IF(AND(         EF$9>=#REF!,       EF$9<=#REF!,#REF!<> 0),     \"u\",    \"\")","v":{"$error":"#REF!"}},{"$f":"IF(AND(         EG$9>=#REF!,       EG$9<=#REF!,#REF!<> 0),     \"u\",    \"\")","v":{"$error":"#REF!"}},{"$f":"IF(AND(         EH$9>=#REF!,       EH$9<=#REF!,#REF!<> 0),     \"u\",    \"\")","v":{"$error":"#REF!"}},{"$f":"IF(AND(         EI$9>=#REF!,       EI$9<=#REF!,#REF!<> 0),     \"u\",    \"\")","v":{"$error":"#REF!"}},{"$f":"IF(AND(         EJ$9>=#REF!,       EJ$9<=#REF!,#REF!<> 0),     \"u\",    \"\")","v":{"$error":"#REF!"}},{"$f":"IF(AND(         EK$9>=#REF!,       EK$9<=#REF!,#REF!<> 0),     \"u\",    \"\")","v":{"$error":"#REF!"}},{"$f":"IF(AND(         EL$9>=#REF!,       EL$9<=#REF!,#REF!<> 0),     \"u\",    \"\")","v":{"$error":"#REF!"}},{"$f":"IF(AND(         EM$9>=#REF!,       EM$9<=#REF!,#REF!<> 0),     \"u\",    \"\")","v":{"$error":"#REF!"}},{"$f":"IF(AND(         EN$9>=#REF!,       EN$9<=#REF!,#REF!<> 0),     \"u\",    \"\")","v":{"$error":"#REF!"}},{"$f":"IF(AND(         EO$9>=#REF!,       EO$9<=#REF!,#REF!<> 0),     \"u\",    \"\")","v":{"$error":"#REF!"}},{"$f":"IF(AND(         EP$9>=#REF!,       EP$9<=#REF!,#REF!<> 0),     \"u\",    \"\")","v":{"$error":"#REF!"}},{"$f":"IF(AND(         EQ$9>=#REF!,       EQ$9<=#REF!,#REF!<> 0),     \"u\",    \"\")","v":{"$error":"#REF!"}},{"$f":"IF(AND(         ER$9>=#REF!,       ER$9<=#REF!,#REF!<> 0),     \"u\",    \"\")","v":{"$error":"#REF!"}},{"$f":"IF(AND(         ES$9>=#REF!,       ES$9<=#REF!,#REF!<> 0),     \"u\",    \"\")","v":{"$error":"#REF!"}},{"$f":"IF(AND(         ET$9>=#REF!,       ET$9<=#REF!,#REF!<> 0),     \"u\",    \"\")","v":{"$error":"#REF!"}},{"$f":"IF(AND(         EU$9>=#REF!,       EU$9<=#REF!,#REF!<> 0),     \"u\",    \"\")","v":{"$error":"#REF!"}},{"$f":"IF(AND(         EV$9>=#REF!,       EV$9<=#REF!,#REF!<> 0),     \"u\",    \"\")","v":{"$error":"#REF!"}},{"$f":"IF(AND(         EW$9>=#REF!,       EW$9<=#REF!,#REF!<> 0),     \"u\",    \"\")","v":{"$error":"#REF!"}},{"$f":"IF(AND(         EX$9>=#REF!,       EX$9<=#REF!,#REF!<> 0),     \"u\",    \"\")","v":{"$error":"#REF!"}},{"$f":"IF(AND(         EY$9>=#REF!,       EY$9<=#REF!,#REF!<> 0),     \"u\",    \"\")","v":{"$error":"#REF!"}},{"$f":"IF(AND(         EZ$9>=#REF!,       EZ$9<=#REF!,#REF!<> 0),     \"u\",    \"\")","v":{"$error":"#REF!"}},{"$f":"IF(AND(         FA$9>=#REF!,       FA$9<=#REF!,#REF!<> 0),     \"u\",    \"\")","v":{"$error":"#REF!"}},{"$f":"IF(AND(         FB$9>=#REF!,       FB$9<=#REF!,#REF!<> 0),     \"u\",    \"\")","v":{"$error":"#REF!"}},{"$f":"IF(AND(         FC$9>=#REF!,       FC$9<=#REF!,#REF!<> 0),     \"u\",    \"\")","v":{"$error":"#REF!"}},{"$f":"IF(AND(         FD$9>=#REF!,       FD$9<=#REF!,#REF!<> 0),     \"u\",    \"\")","v":{"$error":"#REF!"}},{"$f":"IF(AND(         FE$9>=#REF!,       FE$9<=#REF!,#REF!<> 0),     \"u\",    \"\")","v":{"$error":"#REF!"}},{"$f":"IF(AND(         FF$9>=#REF!,       FF$9<=#REF!,#REF!<> 0),     \"u\",    \"\")","v":{"$error":"#REF!"}},{"$f":"IF(AND(         FG$9>=#REF!,       FG$9<=#REF!,#REF!<> 0),     \"u\",    \"\")","v":{"$error":"#REF!"}},{"$f":"IF(AND(         FH$9>=#REF!,       FH$9<=#REF!,#REF!<> 0),     \"u\",    \"\")","v":{"$error":"#REF!"}},{"$f":"IF(AND(         FI$9>=#REF!,       FI$9<=#REF!,#REF!<> 0),     \"u\",    \"\")","v":{"$error":"#REF!"}},{"$f":"IF(AND(         FJ$9>=#REF!,       FJ$9<=#REF!,#REF!<> 0),     \"u\",    \"\")","v":{"$error":"#REF!"}},{"$f":"IF(AND(         FK$9>=#REF!,       FK$9<=#REF!,#REF!<> 0),     \"u\",    \"\")","v":{"$error":"#REF!"}},{"$f":"IF(AND(         FL$9>=#REF!,       FL$9<=#REF!,#REF!<> 0),     \"u\",    \"\")","v":{"$error":"#REF!"}},{"$f":"IF(AND(         FM$9>=#REF!,       FM$9<=#REF!,#REF!<> 0),     \"u\",    \"\")","v":{"$error":"#REF!"}},{"$f":"IF(AND(         FN$9>=#REF!,       FN$9<=#REF!,#REF!<> 0),     \"u\",    \"\")","v":{"$error":"#REF!"}},{"$f":"IF(AND(         FO$9>=#REF!,       FO$9<=#REF!,#REF!<> 0),     \"u\",    \"\")","v":{"$error":"#REF!"}},{"$f":"IF(AND(         FP$9>=#REF!,       FP$9<=#REF!,#REF!<> 0),     \"u\",    \"\")","v":{"$error":"#REF!"}},{"$f":"IF(AND(         FQ$9>=#REF!,       FQ$9<=#REF!,#REF!<> 0),     \"u\",    \"\")","v":{"$error":"#REF!"}},{"$f":"IF(AND(         FR$9>=#REF!,       FR$9<=#REF!,#REF!<> 0),     \"u\",    \"\")","v":{"$error":"#REF!"}},{"$f":"IF(AND(         FS$9>=#REF!,       FS$9<=#REF!,#REF!<> 0),     \"u\",    \"\")","v":{"$error":"#REF!"}},{"$f":"IF(AND(         FT$9>=#REF!,       FT$9<=#REF!,#REF!<> 0),     \"u\",    \"\")","v":{"$error":"#REF!"}},{"$f":"IF(AND(         FU$9>=#REF!,       FU$9<=#REF!,#REF!<> 0),     \"u\",    \"\")","v":{"$error":"#REF!"}},{"$f":"IF(AND(         FV$9>=#REF!,       FV$9<=#REF!,#REF!<> 0),     \"u\",    \"\")","v":{"$error":"#REF!"}},{"$f":"IF(AND(         FW$9>=#REF!,       FW$9<=#REF!,#REF!<> 0),     \"u\",    \"\")","v":{"$error":"#REF!"}},{"$f":"IF(AND(         FX$9>=#REF!,       FX$9<=#REF!,#REF!<> 0),     \"u\",    \"\")","v":{"$error":"#REF!"}},{"$f":"IF(AND(         FY$9>=#REF!,       FY$9<=#REF!,#REF!<> 0),     \"u\",    \"\")","v":{"$error":"#REF!"}},{"$f":"IF(AND(         FZ$9>=#REF!,       FZ$9<=#REF!,#REF!<> 0),     \"u\",    \"\")","v":{"$error":"#REF!"}},{"$f":"IF(AND(         GA$9>=#REF!,       GA$9<=#REF!,#REF!<> 0),     \"u\",    \"\")","v":{"$error":"#REF!"}},{"$f":"IF(AND(         GB$9>=#REF!,       GB$9<=#REF!,#REF!<> 0),     \"u\",    \"\")","v":{"$error":"#REF!"}},{"$f":"IF(AND(         GC$9>=#REF!,       GC$9<=#REF!,#REF!<> 0),     \"u\",    \"\")","v":{"$error":"#REF!"}},{"$f":"IF(AND(         GD$9>=#REF!,       GD$9<=#REF!,#REF!<> 0),     \"u\",    \"\")","v":{"$error":"#REF!"}},{"$f":"IF(AND(         GE$9>=#REF!,       GE$9<=#REF!,#REF!<> 0),     \"u\",    \"\")","v":{"$error":"#REF!"}},{"$f":"IF(AND(         GF$9>=#REF!,       GF$9<=#REF!,#REF!<> 0),     \"u\",    \"\")","v":{"$error":"#REF!"}},{"$f":"IF(AND(         GG$9>=#REF!,       GG$9<=#REF!,#REF!<> 0),     \"u\",    \"\")","v":{"$error":"#REF!"}},{"$f":"IF(AND(         GH$9>=#REF!,       GH$9<=#REF!,#REF!<> 0),     \"u\",    \"\")","v":{"$error":"#REF!"}},{"$f":"IF(AND(         GI$9>=#REF!,       GI$9<=#REF!,#REF!<> 0),     \"u\",    \"\")","v":{"$error":"#REF!"}},{"$f":"IF(AND(         GJ$9>=#REF!,       GJ$9<=#REF!,#REF!<> 0),     \"u\",    \"\")","v":{"$error":"#REF!"}},{"$f":"IF(AND(         GK$9>=#REF!,       GK$9<=#REF!,#REF!<> 0),     \"u\",    \"\")","v":{"$error":"#REF!"}},{"$f":"IF(AND(         GL$9>=#REF!,       GL$9<=#REF!,#REF!<> 0),     \"u\",    \"\")","v":{"$error":"#REF!"}},{"$f":"IF(AND(         GM$9>=#REF!,       GM$9<=#REF!,#REF!<> 0),     \"u\",    \"\")","v":{"$error":"#REF!"}},{"$f":"IF(AND(         GN$9>=#REF!,       GN$9<=#REF!,#REF!<> 0),     \"u\",    \"\")","v":{"$error":"#REF!"}},{"$f":"IF(AND(         GO$9>=#REF!,       GO$9<=#REF!,#REF!<> 0),     \"u\",    \"\")","v":{"$error":"#REF!"}},{"$f":"IF(AND(         GP$9>=#REF!,       GP$9<=#REF!,#REF!<> 0),     \"u\",    \"\")","v":{"$error":"#REF!"}},{"$f":"IF(AND(         GQ$9>=#REF!,       GQ$9<=#REF!,#REF!<> 0),     \"u\",    \"\")","v":{"$error":"#REF!"}},{"$f":"IF(AND(         GR$9>=#REF!,       GR$9<=#REF!,#REF!<> 0),     \"u\",    \"\")","v":{"$error":"#REF!"}},{"$f":"IF(AND(         GS$9>=#REF!,       GS$9<=#REF!,#REF!<> 0),     \"u\",    \"\")","v":{"$error":"#REF!"}},{"$f":"IF(AND(         GT$9>=#REF!,       GT$9<=#REF!,#REF!<> 0),     \"u\",    \"\")","v":{"$error":"#REF!"}},{"$f":"IF(AND(         GU$9>=#REF!,       GU$9<=#REF!,#REF!<> 0),     \"u\",    \"\")","v":{"$error":"#REF!"}},{"$f":"IF(AND(         GV$9>=#REF!,       GV$9<=#REF!,#REF!<> 0),     \"u\",    \"\")","v":{"$error":"#REF!"}},{"$f":"IF(AND(         GW$9>=#REF!,       GW$9<=#REF!,#REF!<> 0),     \"u\",    \"\")","v":{"$error":"#REF!"}},{"$f":"IF(AND(         GX$9>=#REF!,       GX$9<=#REF!,#REF!<> 0),     \"u\",    \"\")","v":{"$error":"#REF!"}},{"$f":"IF(AND(         GY$9>=#REF!,       GY$9<=#REF!,#REF!<> 0),     \"u\",    \"\")","v":{"$error":"#REF!"}},{"$f":"IF(AND(         GZ$9>=#REF!,       GZ$9<=#REF!,#REF!<> 0),     \"u\",    \"\")","v":{"$error":"#REF!"}},{"$f":"IF(AND(         HA$9>=#REF!,       HA$9<=#REF!,#REF!<> 0),     \"u\",    \"\")","v":{"$error":"#REF!"}},{"$f":"IF(AND(         HB$9>=#REF!,       HB$9<=#REF!,#REF!<> 0),     \"u\",    \"\")","v":{"$error":"#REF!"}},{"$f":"IF(AND(         HC$9>=#REF!,       HC$9<=#REF!,#REF!<> 0),     \"u\",    \"\")","v":{"$error":"#REF!"}},{"$f":"IF(AND(         HD$9>=#REF!,       HD$9<=#REF!,#REF!<> 0),     \"u\",    \"\")","v":{"$error":"#REF!"}},{"$f":"IF(AND(         HE$9>=#REF!,       HE$9<=#REF!,#REF!<> 0),     \"u\",    \"\")","v":{"$error":"#REF!"}},{"$f":"IF(AND(         HF$9>=#REF!,       HF$9<=#REF!,#REF!<> 0),     \"u\",    \"\")","v":{"$error":"#REF!"}},{"$f":"IF(AND(         HG$9>=#REF!,       HG$9<=#REF!,#REF!<> 0),     \"u\",    \"\")","v":{"$error":"#REF!"}},{"$f":"IF(AND(         HH$9>=#REF!,       HH$9<=#REF!,#REF!<> 0),     \"u\",    \"\")","v":{"$error":"#REF!"}},{"$f":"IF(AND(         HI$9>=#REF!,       HI$9<=#REF!,#REF!<> 0),     \"u\",    \"\")","v":{"$error":"#REF!"}},{"$f":"IF(AND(         HJ$9>=#REF!,       HJ$9<=#REF!,#REF!<> 0),     \"u\",    \"\")","v":{"$error":"#REF!"}},{"$f":"IF(AND(         HK$9>=#REF!,       HK$9<=#REF!,#REF!<> 0),     \"u\",    \"\")","v":{"$error":"#REF!"}},{"$f":"IF(AND(         HL$9>=#REF!,       HL$9<=#REF!,#REF!<> 0),     \"u\",    \"\")","v":{"$error":"#REF!"}},{"$f":"IF(AND(         HM$9>=#REF!,       HM$9<=#REF!,#REF!<> 0),     \"u\",    \"\")","v":{"$error":"#REF!"}},{"$f":"IF(AND(         HN$9>=#REF!,       HN$9<=#REF!,#REF!<> 0),     \"u\",    \"\")","v":{"$error":"#REF!"}},{"$f":"IF(AND(         HO$9>=#REF!,       HO$9<=#REF!,#REF!<> 0),     \"u\",    \"\")","v":{"$error":"#REF!"}},{"$f":"IF(AND(         HP$9>=#REF!,       HP$9<=#REF!,#REF!<> 0),     \"u\",    \"\")","v":{"$error":"#REF!"}},{"$f":"IF(AND(         HQ$9>=#REF!,       HQ$9<=#REF!,#REF!<> 0),     \"u\",    \"\")","v":{"$error":"#REF!"}},{"$f":"IF(AND(         HR$9>=#REF!,       HR$9<=#REF!,#REF!<> 0),     \"u\",    \"\")","v":{"$error":"#REF!"}},{"$f":"IF(AND(         HS$9>=#REF!,       HS$9<=#REF!,#REF!<> 0),     \"u\",    \"\")","v":{"$error":"#REF!"}},{"$f":"IF(AND(         HT$9>=#REF!,       HT$9<=#REF!,#REF!<> 0),     \"u\",    \"\")","v":{"$error":"#REF!"}},{"$f":"IF(AND(         HU$9>=#REF!,       HU$9<=#REF!,#REF!<> 0),     \"u\",    \"\")","v":{"$error":"#REF!"}},{"$f":"IF(AND(         HV$9>=#REF!,       HV$9<=#REF!,#REF!<> 0),     \"u\",    \"\")","v":{"$error":"#REF!"}},{"$f":"IF(AND(         HW$9>=#REF!,       HW$9<=#REF!,#REF!<> 0),     \"u\",    \"\")","v":{"$error":"#REF!"}},{"$f":"IF(AND(         HX$9>=#REF!,       HX$9<=#REF!,#REF!<> 0),     \"u\",    \"\")","v":{"$error":"#REF!"}},{"$f":"IF(AND(         HY$9>=#REF!,       HY$9<=#REF!,#REF!<> 0),     \"u\",    \"\")","v":{"$error":"#REF!"}},{"$f":"IF(AND(         HZ$9>=#REF!,       HZ$9<=#REF!,#REF!<> 0),     \"u\",    \"\")","v":{"$error":"#REF!"}},{"$f":"IF(AND(         IA$9>=#REF!,       IA$9<=#REF!,#REF!<> 0),     \"u\",    \"\")","v":{"$error":"#REF!"}},{"$f":"IF(AND(         IB$9>=#REF!,       IB$9<=#REF!,#REF!<> 0),     \"u\",    \"\")","v":{"$error":"#REF!"}},{"$f":"IF(AND(         IC$9>=#REF!,       IC$9<=#REF!,#REF!<> 0),     \"u\",    \"\")","v":{"$error":"#REF!"}},{"$f":"IF(AND(         ID$9>=#REF!,       ID$9<=#REF!,#REF!<> 0),     \"u\",    \"\")","v":{"$error":"#REF!"}},{"$f":"IF(AND(         IE$9>=#REF!,       IE$9<=#REF!,#REF!<> 0),     \"u\",    \"\")","v":{"$error":"#REF!"}},{"$f":"IF(AND(         IF$9>=#REF!,       IF$9<=#REF!,#REF!<> 0),     \"u\",    \"\")","v":{"$error":"#REF!"}},{"$f":"IF(AND(         IG$9>=#REF!,       IG$9<=#REF!,#REF!<> 0),     \"u\",    \"\")","v":{"$error":"#REF!"}},{"$f":"IF(AND(         IH$9>=#REF!,       IH$9<=#REF!,#REF!<> 0),     \"u\",    \"\")","v":{"$error":"#REF!"}},{"$f":"IF(AND(         II$9>=#REF!,       II$9<=#REF!,#REF!<> 0),     \"u\",    \"\")","v":{"$error":"#REF!"}},{"$f":"IF(AND(         IJ$9>=#REF!,       IJ$9<=#REF!,#REF!<> 0),     \"u\",    \"\")","v":{"$error":"#REF!"}},{"$f":"IF(AND(         IK$9>=#REF!,       IK$9<=#REF!,#REF!<> 0),     \"u\",    \"\")","v":{"$error":"#REF!"}},{"$f":"IF(AND(         IL$9>=#REF!,       IL$9<=#REF!,#REF!<> 0),     \"u\",    \"\")","v":{"$error":"#REF!"}},{"$f":"IF(AND(         IM$9>=#REF!,       IM$9<=#REF!,#REF!<> 0),     \"u\",    \"\")","v":{"$error":"#REF!"}},{"$f":"IF(AND(         IN$9>=#REF!,       IN$9<=#REF!,#REF!<> 0),     \"u\",    \"\")","v":{"$error":"#REF!"}},{"$f":"IF(AND(         IO$9>=#REF!,       IO$9<=#REF!,#REF!<> 0),     \"u\",    \"\")","v":{"$error":"#REF!"}},{"$f":"IF(AND(         IP$9>=#REF!,       IP$9<=#REF!,#REF!<> 0),     \"u\",    \"\")","v":{"$error":"#REF!"}},{"$f":"IF(AND(         IQ$9>=#REF!,       IQ$9<=#REF!,#REF!<> 0),     \"u\",    \"\")","v":{"$error":"#REF!"}},{"$f":"IF(AND(         IR$9>=#REF!,       IR$9<=#REF!,#REF!<> 0),     \"u\",    \"\")","v":{"$error":"#REF!"}},{"$f":"IF(AND(         IS$9>=#REF!,       IS$9<=#REF!,#REF!<> 0),     \"u\",    \"\")","v":{"$error":"#REF!"}},{"$f":"IF(AND(         IT$9>=#REF!,       IT$9<=#REF!,#REF!<> 0),     \"u\",    \"\")","v":{"$error":"#REF!"}},{"$f":"IF(AND(         IU$9>=#REF!,       IU$9<=#REF!,#REF!<> 0),     \"u\",    \"\")","v":{"$error":"#REF!"}},{"$f":"IF(AND(         IV$9>=#REF!,       IV$9<=#REF!,#REF!<> 0),     \"u\",    \"\")","v":{"$error":"#REF!"}},{"$f":"IF(AND(         IW$9>=#REF!,       IW$9<=#REF!,#REF!<> 0),     \"u\",    \"\")","v":{"$error":"#REF!"}},{"$f":"IF(AND(         IX$9>=#REF!,       IX$9<=#REF!,#REF!<> 0),     \"u\",    \"\")","v":{"$error":"#REF!"}},{"$f":"IF(AND(         IY$9>=#REF!,       IY$9<=#REF!,#REF!<> 0),     \"u\",    \"\")","v":{"$error":"#REF!"}},{"$f":"IF(AND(         IZ$9>=#REF!,       IZ$9<=#REF!,#REF!<> 0),     \"u\",    \"\")","v":{"$error":"#REF!"}},{"$f":"IF(AND(         JA$9>=#REF!,       JA$9<=#REF!,#REF!<> 0),     \"u\",    \"\")","v":{"$error":"#REF!"}},{"$f":"IF(AND(         JB$9>=#REF!,       JB$9<=#REF!,#REF!<> 0),     \"u\",    \"\")","v":{"$error":"#REF!"}},{"$f":"IF(AND(         JC$9>=#REF!,       JC$9<=#REF!,#REF!<> 0),     \"u\",    \"\")","v":{"$error":"#REF!"}},{"$f":"IF(AND(         JD$9>=#REF!,       JD$9<=#REF!,#REF!<> 0),     \"u\",    \"\")","v":{"$error":"#REF!"}},{"$f":"IF(AND(         JE$9>=#REF!,       JE$9<=#REF!,#REF!<> 0),     \"u\",    \"\")","v":{"$error":"#REF!"}},{"$f":"IF(AND(         JF$9>=#REF!,       JF$9<=#REF!,#REF!<> 0),     \"u\",    \"\")","v":{"$error":"#REF!"}},{"$f":"IF(AND(         JG$9>=#REF!,       JG$9<=#REF!,#REF!<> 0),     \"u\",    \"\")","v":{"$error":"#REF!"}},{"$f":"IF(AND(         JH$9>=#REF!,       JH$9<=#REF!,#REF!<> 0),     \"u\",    \"\")","v":{"$error":"#REF!"}},{"$f":"IF(AND(         JI$9>=#REF!,       JI$9<=#REF!,#REF!<> 0),     \"u\",    \"\")","v":{"$error":"#REF!"}},{"$f":"IF(AND(         JJ$9>=#REF!,       JJ$9<=#REF!,#REF!<> 0),     \"u\",    \"\")","v":{"$error":"#REF!"}},{"$f":"IF(AND(         JK$9>=#REF!,       JK$9<=#REF!,#REF!<> 0),     \"u\",    \"\")","v":{"$error":"#REF!"}},{"$f":"IF(AND(         JL$9>=#REF!,       JL$9<=#REF!,#REF!<> 0),     \"u\",    \"\")","v":{"$error":"#REF!"}},{"$f":"IF(AND(         JM$9>=#REF!,       JM$9<=#REF!,#REF!<> 0),     \"u\",    \"\")","v":{"$error":"#REF!"}},{"$f":"IF(AND(         JN$9>=#REF!,       JN$9<=#REF!,#REF!<> 0),     \"u\",    \"\")","v":{"$error":"#REF!"}},{"$f":"IF(AND(         JO$9>=#REF!,       JO$9<=#REF!,#REF!<> 0),     \"u\",    \"\")","v":{"$error":"#REF!"}},{"$f":"IF(AND(         JP$9>=#REF!,       JP$9<=#REF!,#REF!<> 0),     \"u\",    \"\")","v":{"$error":"#REF!"}},{"$f":"IF(AND(         JQ$9>=#REF!,       JQ$9<=#REF!,#REF!<> 0),     \"u\",    \"\")","v":{"$error":"#REF!"}},{"$f":"IF(AND(         JR$9>=#REF!,       JR$9<=#REF!,#REF!<> 0),     \"u\",    \"\")","v":{"$error":"#REF!"}},{"$f":"IF(AND(         JS$9>=#REF!,       JS$9<=#REF!,#REF!<> 0),     \"u\",    \"\")","v":{"$error":"#REF!"}},{"$f":"IF(AND(         JT$9>=#REF!,       JT$9<=#REF!,#REF!<> 0),     \"u\",    \"\")","v":{"$error":"#REF!"}},{"$f":"IF(AND(         JU$9>=#REF!,       JU$9<=#REF!,#REF!<> 0),     \"u\",    \"\")","v":{"$error":"#REF!"}},{"$f":"IF(AND(         JV$9>=#REF!,       JV$9<=#REF!,#REF!<> 0),     \"u\",    \"\")","v":{"$error":"#REF!"}},{"$f":"IF(AND(         JW$9>=#REF!,       JW$9<=#REF!,#REF!<> 0),     \"u\",    \"\")","v":{"$error":"#REF!"}},{"$f":"IF(AND(         JX$9>=#REF!,       JX$9<=#REF!,#REF!<> 0),     \"u\",    \"\")","v":{"$error":"#REF!"}},{"$f":"IF(AND(         JY$9>=#REF!,       JY$9<=#REF!,#REF!<> 0),     \"u\",    \"\")","v":{"$error":"#REF!"}},{"$f":"IF(AND(         JZ$9>=#REF!,       JZ$9<=#REF!,#REF!<> 0),     \"u\",    \"\")","v":{"$error":"#REF!"}},{"$f":"IF(AND(         KA$9>=#REF!,       KA$9<=#REF!,#REF!<> 0),     \"u\",    \"\")","v":{"$error":"#REF!"}},{"$f":"IF(AND(         KB$9>=#REF!,       KB$9<=#REF!,#REF!<> 0),     \"u\",    \"\")","v":{"$error":"#REF!"}},{"$f":"IF(AND(         KC$9>=#REF!,       KC$9<=#REF!,#REF!<> 0),     \"u\",    \"\")","v":{"$error":"#REF!"}},{"$f":"IF(AND(         KD$9>=#REF!,       KD$9<=#REF!,#REF!<> 0),     \"u\",    \"\")","v":{"$error":"#REF!"}},{"$f":"IF(AND(         KE$9>=#REF!,       KE$9<=#REF!,#REF!<> 0),     \"u\",    \"\")","v":{"$error":"#REF!"}},{"$f":"IF(AND(         KF$9>=#REF!,       KF$9<=#REF!,#REF!<> 0),     \"u\",    \"\")","v":{"$error":"#REF!"}},{"$f":"IF(AND(         KG$9>=#REF!,       KG$9<=#REF!,#REF!<> 0),     \"u\",    \"\")","v":{"$error":"#REF!"}},{"$f":"IF(AND(         KH$9>=#REF!,       KH$9<=#REF!,#REF!<> 0),     \"u\",    \"\")","v":{"$error":"#REF!"}},{"$f":"IF(AND(         KI$9>=#REF!,       KI$9<=#REF!,#REF!<> 0),     \"u\",    \"\")","v":{"$error":"#REF!"}},{"$f":"IF(AND(         KJ$9>=#REF!,       KJ$9<=#REF!,#REF!<> 0),     \"u\",    \"\")","v":{"$error":"#REF!"}},{"$f":"IF(AND(         KK$9>=#REF!,       KK$9<=#REF!,#REF!<> 0),     \"u\",    \"\")","v":{"$error":"#REF!"}},{"$f":"IF(AND(         KL$9>=#REF!,       KL$9<=#REF!,#REF!<> 0),     \"u\",    \"\")","v":{"$error":"#REF!"}},{"$f":"IF(AND(         KM$9>=#REF!,       KM$9<=#REF!,#REF!<> 0),     \"u\",    \"\")","v":{"$error":"#REF!"}},{"$f":"IF(AND(         KN$9>=#REF!,       KN$9<=#REF!,#REF!<> 0),     \"u\",    \"\")","v":{"$error":"#REF!"}},{"$f":"IF(AND(         KO$9>=#REF!,       KO$9<=#REF!,#REF!<> 0),     \"u\",    \"\")","v":{"$error":"#REF!"}},{"$f":"IF(AND(         KP$9>=#REF!,       KP$9<=#REF!,#REF!<> 0),     \"u\",    \"\")","v":{"$error":"#REF!"}},{"$f":"IF(AND(         KQ$9>=#REF!,       KQ$9<=#REF!,#REF!<> 0),     \"u\",    \"\")","v":{"$error":"#REF!"}},{"$f":"IF(AND(         KR$9>=#REF!,       KR$9<=#REF!,#REF!<> 0),     \"u\",    \"\")","v":{"$error":"#REF!"}},{"$f":"IF(AND(         KS$9>=#REF!,       KS$9<=#REF!,#REF!<> 0),     \"u\",    \"\")","v":{"$error":"#REF!"}},{"$f":"IF(AND(         KT$9>=#REF!,       KT$9<=#REF!,#REF!<> 0),     \"u\",    \"\")","v":{"$error":"#REF!"}},{"$f":"IF(AND(         KU$9>=#REF!,       KU$9<=#REF!,#REF!<> 0),     \"u\",    \"\")","v":{"$error":"#REF!"}},{"$f":"IF(AND(         KV$9>=#REF!,       KV$9<=#REF!,#REF!<> 0),     \"u\",    \"\")","v":{"$error":"#REF!"}},{"$f":"IF(AND(         KW$9>=#REF!,       KW$9<=#REF!,#REF!<> 0),     \"u\",    \"\")","v":{"$error":"#REF!"}},{"$f":"IF(AND(         KX$9>=#REF!,       KX$9<=#REF!,#REF!<> 0),     \"u\",    \"\")","v":{"$error":"#REF!"}},{"$f":"IF(AND(         KY$9>=#REF!,       KY$9<=#REF!,#REF!<> 0),     \"u\",    \"\")","v":{"$error":"#REF!"}},{"$f":"IF(AND(         KZ$9>=#REF!,       KZ$9<=#REF!,#REF!<> 0),     \"u\",    \"\")","v":{"$error":"#REF!"}},{"$f":"IF(AND(         LA$9>=#REF!,       LA$9<=#REF!,#REF!<> 0),     \"u\",    \"\")","v":{"$error":"#REF!"}},{"$f":"IF(AND(         LB$9>=#REF!,       LB$9<=#REF!,#REF!<> 0),     \"u\",    \"\")","v":{"$error":"#REF!"}},{"$f":"IF(AND(         LC$9>=#REF!,       LC$9<=#REF!,#REF!<> 0),     \"u\",    \"\")","v":{"$error":"#REF!"}},{"$f":"IF(AND(         LD$9>=#REF!,       LD$9<=#REF!,#REF!<> 0),     \"u\",    \"\")","v":{"$error":"#REF!"}},{"$f":"IF(AND(         LE$9>=#REF!,       LE$9<=#REF!,#REF!<> 0),     \"u\",    \"\")","v":{"$error":"#REF!"}},{"$f":"IF(AND(         LF$9>=#REF!,       LF$9<=#REF!,#REF!<> 0),     \"u\",    \"\")","v":{"$error":"#REF!"}},{"$f":"IF(AND(         LG$9>=#REF!,       LG$9<=#REF!,#REF!<> 0),     \"u\",    \"\")","v":{"$error":"#REF!"}},{"$f":"IF(AND(         LH$9>=#REF!,       LH$9<=#REF!,#REF!<> 0),     \"u\",    \"\")","v":{"$error":"#REF!"}},{"$f":"IF(AND(         LI$9>=#REF!,       LI$9<=#REF!,#REF!<> 0),     \"u\",    \"\")","v":{"$error":"#REF!"}},{"$f":"IF(AND(         LJ$9>=#REF!,       LJ$9<=#REF!,#REF!<> 0),     \"u\",    \"\")","v":{"$error":"#REF!"}},{"$f":"IF(AND(         LK$9>=#REF!,       LK$9<=#REF!,#REF!<> 0),     \"u\",    \"\")","v":{"$error":"#REF!"}},{"$f":"IF(AND(         LL$9>=#REF!,       LL$9<=#REF!,#REF!<> 0),     \"u\",    \"\")","v":{"$error":"#REF!"}},{"$f":"IF(AND(         LM$9>=#REF!,       LM$9<=#REF!,#REF!<> 0),     \"u\",    \"\")","v":{"$error":"#REF!"}},{"$f":"IF(AND(         LN$9>=#REF!,       LN$9<=#REF!,#REF!<> 0),     \"u\",    \"\")","v":{"$error":"#REF!"}},{"$f":"IF(AND(         LO$9>=#REF!,       LO$9<=#REF!,#REF!<> 0),     \"u\",    \"\")","v":{"$error":"#REF!"}},{"$f":"IF(AND(         LP$9>=#REF!,       LP$9<=#REF!,#REF!<> 0),     \"u\",    \"\")","v":{"$error":"#REF!"}},{"$f":"IF(AND(         LQ$9>=#REF!,       LQ$9<=#REF!,#REF!<> 0),     \"u\",    \"\")","v":{"$error":"#REF!"}},{"$f":"IF(AND(         LR$9>=#REF!,       LR$9<=#REF!,#REF!<> 0),     \"u\",    \"\")","v":{"$error":"#REF!"}},{"$f":"IF(AND(         LS$9>=#REF!,       LS$9<=#REF!,#REF!<> 0),     \"u\",    \"\")","v":{"$error":"#REF!"}},{"$f":"IF(AND(         LT$9>=#REF!,       LT$9<=#REF!,#REF!<> 0),     \"u\",    \"\")","v":{"$error":"#REF!"}},{"$f":"IF(AND(         LU$9>=#REF!,       LU$9<=#REF!,#REF!<> 0),     \"u\",    \"\")","v":{"$error":"#REF!"}},{"$f":"IF(AND(         LV$9>=#REF!,       LV$9<=#REF!,#REF!<> 0),     \"u\",    \"\")","v":{"$error":"#REF!"}},{"$f":"IF(AND(         LW$9>=#REF!,       LW$9<=#REF!,#REF!<> 0),     \"u\",    \"\")","v":{"$error":"#REF!"}},{"$f":"IF(AND(         LX$9>=#REF!,       LX$9<=#REF!,#REF!<> 0),     \"u\",    \"\")","v":{"$error":"#REF!"}},{"$f":"IF(AND(         LY$9>=#REF!,       LY$9<=#REF!,#REF!<> 0),     \"u\",    \"\")","v":{"$error":"#REF!"}},{"$f":"IF(AND(         LZ$9>=#REF!,       LZ$9<=#REF!,#REF!<> 0),     \"u\",    \"\")","v":{"$error":"#REF!"}},{"$f":"IF(AND(         MA$9>=#REF!,       MA$9<=#REF!,#REF!<> 0),     \"u\",    \"\")","v":{"$error":"#REF!"}},{"$f":"IF(AND(         MB$9>=#REF!,       MB$9<=#REF!,#REF!<> 0),     \"u\",    \"\")","v":{"$error":"#REF!"}},{"$f":"IF(AND(         MC$9>=#REF!,       MC$9<=#REF!,#REF!<> 0),     \"u\",    \"\")","v":{"$error":"#REF!"}},{"$f":"IF(AND(         MD$9>=#REF!,       MD$9<=#REF!,#REF!<> 0),     \"u\",    \"\")","v":{"$error":"#REF!"}},{"$f":"IF(AND(         ME$9>=#REF!,       ME$9<=#REF!,#REF!<> 0),     \"u\",    \"\")","v":{"$error":"#REF!"}},{"$f":"IF(AND(         MF$9>=#REF!,       MF$9<=#REF!,#REF!<> 0),     \"u\",    \"\")","v":{"$error":"#REF!"}},{"$f":"IF(AND(         MG$9>=#REF!,       MG$9<=#REF!,#REF!<> 0),     \"u\",    \"\")","v":{"$error":"#REF!"}},{"$f":"IF(AND(         MH$9>=#REF!,       MH$9<=#REF!,#REF!<> 0),     \"u\",    \"\")","v":{"$error":"#REF!"}},{"$f":"IF(AND(         MI$9>=#REF!,       MI$9<=#REF!,#REF!<> 0),     \"u\",    \"\")","v":{"$error":"#REF!"}},{"$f":"IF(AND(         MJ$9>=#REF!,       MJ$9<=#REF!,#REF!<> 0),     \"u\",    \"\")","v":{"$error":"#REF!"}},{"$f":"IF(AND(         MK$9>=#REF!,       MK$9<=#REF!,#REF!<> 0),     \"u\",    \"\")","v":{"$error":"#REF!"}},{"$f":"IF(AND(         ML$9>=#REF!,       ML$9<=#REF!,#REF!<> 0),     \"u\",    \"\")","v":{"$error":"#REF!"}},{"$f":"IF(AND(         MM$9>=#REF!,       MM$9<=#REF!,#REF!<> 0),     \"u\",    \"\")","v":{"$error":"#REF!"}},{"$f":"IF(AND(         MN$9>=#REF!,       MN$9<=#REF!,#REF!<> 0),     \"u\",    \"\")","v":{"$error":"#REF!"}},{"$f":"IF(AND(         MO$9>=#REF!,       MO$9<=#REF!,#REF!<> 0),     \"u\",    \"\")","v":{"$error":"#REF!"}},{"$f":"IF(AND(         MP$9>=#REF!,       MP$9<=#REF!,#REF!<> 0),     \"u\",    \"\")","v":{"$error":"#REF!"}},{"$f":"IF(AND(         MQ$9>=#REF!,       MQ$9<=#REF!,#REF!<> 0),     \"u\",    \"\")","v":{"$error":"#REF!"}},{"$f":"IF(AND(         MR$9>=#REF!,       MR$9<=#REF!,#REF!<> 0),     \"u\",    \"\")","v":{"$error":"#REF!"}},{"$f":"IF(AND(         MS$9>=#REF!,       MS$9<=#REF!,#REF!<> 0),     \"u\",    \"\")","v":{"$error":"#REF!"}},{"$f":"IF(AND(         MT$9>=#REF!,       MT$9<=#REF!,#REF!<> 0),     \"u\",    \"\")","v":{"$error":"#REF!"}},{"$f":"IF(AND(         MU$9>=#REF!,       MU$9<=#REF!,#REF!<> 0),     \"u\",    \"\")","v":{"$error":"#REF!"}},{"$f":"IF(AND(         MV$9>=#REF!,       MV$9<=#REF!,#REF!<> 0),     \"u\",    \"\")","v":{"$error":"#REF!"}},{"$f":"IF(AND(         MW$9>=#REF!,       MW$9<=#REF!,#REF!<> 0),     \"u\",    \"\")","v":{"$error":"#REF!"}},{"$f":"IF(AND(         MX$9>=#REF!,       MX$9<=#REF!,#REF!<> 0),     \"u\",    \"\")","v":{"$error":"#REF!"}},{"$f":"IF(AND(         MY$9>=#REF!,       MY$9<=#REF!,#REF!<> 0),     \"u\",    \"\")","v":{"$error":"#REF!"}},{"$f":"IF(AND(         MZ$9>=#REF!,       MZ$9<=#REF!,#REF!<> 0),     \"u\",    \"\")","v":{"$error":"#REF!"}},{"$f":"IF(AND(         NA$9>=#REF!,       NA$9<=#REF!,#REF!<> 0),     \"u\",    \"\")","v":{"$error":"#REF!"}},{"$f":"IF(AND(         NB$9>=#REF!,       NB$9<=#REF!,#REF!<> 0),     \"u\",    \"\")","v":{"$error":"#REF!"}},{"$f":"IF(AND(         NC$9>=#REF!,       NC$9<=#REF!,#REF!<> 0),     \"u\",    \"\")","v":{"$error":"#REF!"}},{"$f":"IF(AND(         ND$9>=#REF!,       ND$9<=#REF!,#REF!<> 0),     \"u\",    \"\")","v":{"$error":"#REF!"}},{"$f":"IF(AND(         NE$9>=#REF!,       NE$9<=#REF!,#REF!<> 0),     \"u\",    \"\")","v":{"$error":"#REF!"}},{"$f":"IF(AND(         NF$9>=#REF!,       NF$9<=#REF!,#REF!<> 0),     \"u\",    \"\")","v":{"$error":"#REF!"}},{"$f":"IF(AND(         NG$9>=#REF!,       NG$9<=#REF!,#REF!<> 0),     \"u\",    \"\")","v":{"$error":"#REF!"}},{"$f":"IF(AND(         NH$9>=#REF!,       NH$9<=#REF!,#REF!<> 0),     \"u\",    \"\")","v":{"$error":"#REF!"}},{"$f":"IF(AND(         NI$9>=#REF!,       NI$9<=#REF!,#REF!<> 0),     \"u\",    \"\")","v":{"$error":"#REF!"}},{"$f":"IF(AND(         NJ$9>=#REF!,       NJ$9<=#REF!,#REF!<> 0),     \"u\",    \"\")","v":{"$error":"#REF!"}},{"$f":"IF(AND(         NK$9>=#REF!,       NK$9<=#REF!,#REF!<> 0),     \"u\",    \"\")","v":{"$error":"#REF!"}},{"$f":"IF(AND(         NL$9>=#REF!,       NL$9<=#REF!,#REF!<> 0),     \"u\",    \"\")","v":{"$error":"#REF!"}},{"$f":"IF(AND(         NM$9>=#REF!,       NM$9<=#REF!,#REF!<> 0),     \"u\",    \"\")","v":{"$error":"#REF!"}},{"$f":"IF(AND(         NN$9>=#REF!,       NN$9<=#REF!,#REF!<> 0),     \"u\",    \"\")","v":{"$error":"#REF!"}},{"$f":"IF(AND(         NO$9>=#REF!,       NO$9<=#REF!,#REF!<> 0),     \"u\",    \"\")","v":{"$error":"#REF!"}},{"$f":"IF(AND(         NP$9>=#REF!,       NP$9<=#REF!,#REF!<> 0),     \"u\",    \"\")","v":{"$error":"#REF!"}},{"$f":"IF(AND(         NQ$9>=#REF!,       NQ$9<=#REF!,#REF!<> 0),     \"u\",    \"\")","v":{"$error":"#REF!"}},{"$f":"IF(AND(         NR$9>=#REF!,       NR$9<=#REF!,#REF!<> 0),     \"u\",    \"\")","v":{"$error":"#REF!"}},{"$f":"IF(AND(         NS$9>=#REF!,       NS$9<=#REF!,#REF!<> 0),     \"u\",    \"\")","v":{"$error":"#REF!"}},{"$f":"IF(AND(         NT$9>=#REF!,       NT$9<=#REF!,#REF!<> 0),     \"u\",    \"\")","v":{"$error":"#REF!"}},{"$f":"IF(AND(         NU$9>=#REF!,       NU$9<=#REF!,#REF!<> 0),     \"u\",    \"\")","v":{"$error":"#REF!"}},{"$f":"IF(AND(         NV$9>=#REF!,       NV$9<=#REF!,#REF!<> 0),     \"u\",    \"\")","v":{"$error":"#REF!"}},{"$f":"IF(AND(         NW$9>=#REF!,       NW$9<=#REF!,#REF!<> 0),     \"u\",    \"\")","v":{"$error":"#REF!"}},{"$f":"IF(AND(         NX$9>=#REF!,       NX$9<=#REF!,#REF!<> 0),     \"u\",    \"\")","v":{"$error":"#REF!"}},{"$f":"IF(AND(         NY$9>=#REF!,       NY$9<=#REF!,#REF!<> 0),     \"u\",    \"\")","v":{"$error":"#REF!"}},{"$f":"IF(AND(         NZ$9>=#REF!,       NZ$9<=#REF!,#REF!<> 0),     \"u\",    \"\")","v":{"$error":"#REF!"}},{"$f":"IF(AND(         OA$9>=#REF!,       OA$9<=#REF!,#REF!<> 0),     \"u\",    \"\")","v":{"$error":"#REF!"}},{"$f":"IF(AND(         OB$9>=#REF!,       OB$9<=#REF!,#REF!<> 0),     \"u\",    \"\")","v":{"$error":"#REF!"}},{"$f":"IF(AND(         OC$9>=#REF!,       OC$9<=#REF!,#REF!<> 0),     \"u\",    \"\")","v":{"$error":"#REF!"}},{"$f":"IF(AND(         OD$9>=#REF!,       OD$9<=#REF!,#REF!<> 0),     \"u\",    \"\")","v":{"$error":"#REF!"}},{"$f":"IF(AND(         OE$9>=#REF!,       OE$9<=#REF!,#REF!<> 0),     \"u\",    \"\")","v":{"$error":"#REF!"}},{"$f":"IF(AND(         OF$9>=#REF!,       OF$9<=#REF!,#REF!<> 0),     \"u\",    \"\")","v":{"$error":"#REF!"}},{"$f":"IF(AND(         OG$9>=#REF!,       OG$9<=#REF!,#REF!<> 0),     \"u\",    \"\")","v":{"$error":"#REF!"}},{"$f":"IF(AND(         OH$9>=#REF!,       OH$9<=#REF!,#REF!<> 0),     \"u\",    \"\")","v":{"$error":"#REF!"}},{"$f":"IF(AND(         OI$9>=#REF!,       OI$9<=#REF!,#REF!<> 0),     \"u\",    \"\")","v":{"$error":"#REF!"}},{"$f":"IF(AND(         OJ$9>=#REF!,       OJ$9<=#REF!,#REF!<> 0),     \"u\",    \"\")","v":{"$error":"#REF!"}}]
["Fortbildungsmaßnahmen",null,null,null,null,null,{"$f":"IF(AND(    E21=0,F21=0),  \"\",         IF($C$5<=E21,0,IF($C$5>F21,1,_xlfn.DAYS($C$5,E21)/_xlfn.DAYS(F21,E21))))","v":""},null,{"$f":"IF(AND(         I$9>=$E21,       I$9<=$F21, $D21<>0),     \"u\",    \"\")","v":""},"","","","","","","","","",{"$f":"IF(AND(         S$9>=$E21,       S$9<=$F21, $D21<>0),     \"u\",    \"\")","v":""},"","","","","","","","","",{"$f":"IF(AND(         AC$9>=$E21,       AC$9<=$F21, $D21<>0),     \"u\",    \"\")","v":""},"","","","","","","","","",{"$f":"IF(AND(         AM$9>=$E21,       AM$9<=$F21, $D21<>0),     \"u\",    \"\")","v":""},"","","","","","","","","",{"$f":"IF(AND(         AW$9>=$E21,       AW$9<=$F21, $D21<>0),     \"u\",    \"\")","v":""},"","","","","","","","","",{"$f":"IF(AND(         BG$9>=$E21,       BG$9<=$F21, $D21<>0),     \"u\",    \"\")","v":""},"","","","","","","","","",{"$f":"IF(AND(         BQ$9>=$E21,       BQ$9<=$F21, $D21<>0),     \"u\",    \"\")","v":""},"","","","","","","","","",{"$f":"IF(AND(         CA$9>=$E21,       CA$9<=$F21, $D21<>0),     \"u\",    \"\")","v":""},"","","","","","","","","",{"$f":"IF(AND(         CK$9>=$E21,       CK$9<=$F21, $D21<>0),     \"u\",    \"\")","v":""},"","","","","","","","","",{"$f":"IF(AND(         CU$9>=$E21,       CU$9<=$F21, $D21<>0),     \"u\",    \"\")","v":""},"","","","","","","","","",{"$f":"IF(AND(         DE$9>=$E21,       DE$9<=$F21, $D21<>0),     \"u\",    \"\")","v":""},"","","","","","","","","",{"$f":"IF(AND(         DO$9>=$E21,       DO$9<=$F21, $D21<>0),     \"u\",    \"\")","v":""},"","","","","","","","","",{"$f":"IF(AND(         DY$9>=$E21,       DY$9<=$F21, $D21<>0),     \"u\",    \"\")","v":""},"","","","","","","","","",{"$f":"IF(AND(         EI$9>=$E21,       EI$9<=$F21, $D21<>0),     \"u\",    \"\")","v":""},"","","","","","","","","",{"$f":"IF(AND(         ES$9>=$E21,       ES$9<=$F21, $D21<>0),     \"u\",    \"\")","v":""},"","","","","","","","","",{"$f":"IF(AND(         FC$9>=$E21,       FC$9<=$F21, $D21<>0),     \"u\",    \"\")","v":""},"","","","","","","","","",{"$f":"IF(AND(         FM$9>=$E21,       FM$9<=$F21, $D21<>0),     \"u\",    \"\")","v":""},"","","","","","","","","",{"$f":"IF(AND(         FW$9>=$E21,       FW$9<=$F21, $D21<>0),     \"u\",    \"\")","v":""},"","","","","","","","","",{"$f":"IF(AND(         GG$9>=$E21,       GG$9<=$F21, $D21<>0),     \"u\",    \"\")","v":""},"","","","","","","","","",{"$f":"IF(AND(         GQ$9>=$E21,       GQ$9<=$F21, $D21<>0),     \"u\",    \"\")","v":""},"","","","","","","","","",{"$f":"IF(AND(         HA$9>=$E21,       HA$9<=$F21, $D21<>0),     \"u\",    \"\")","v":""},"","","","","","","","","",{"$f":"IF(AND(         HK$9>=$E21,       HK$9<=$F21, $D21<>0),     \"u\",    \"\")","v":""},"","","","","","","","","",{"$f":"IF(AND(         HU$9>=$E21,       HU$9<=$F21, $D21<>0),     \"u\",    \"\")","v":""},"","","","","","","","","",{"$f":"IF(AND(         IE$9>=$E21,       IE$9<=$F21, $D21<>0),     \"u\",    \"\")","v":""},"","","","","","","","","",{"$f":"IF(AND(         IO$9>=$E21,       IO$9<=$F21, $D21<>0),     \"u\",    \"\")","v":""},"","","","","","","","","",{"$f":"IF(AND(         IY$9>=$E21,       IY$9<=$F21, $D21<>0),     \"u\",    \"\")","v":""},"","","","","","","","","",{"$f":"IF(AND(         JI$9>=$E21,       JI$9<=$F21, $D21<>0),     \"u\",    \"\")","v":""},"","","","","","","","","",{"$f":"IF(AND(         JS$9>=$E21,       JS$9<=$F21, $D21<>0),     \"u\",    \"\")","v":""},"","","","","","","","","",{"$f":"IF(AND(         KC$9>=$E21,       KC$9<=$F21, $D21<>0),     \"u\",    \"\")","v":""},"","","","","","","","","",{"$f":"IF(AND(         KM$9>=$E21,       KM$9<=$F21, $D21<>0),     \"u\",    \"\")","v":""},"","","","","","","","","",{"$f":"IF(AND(         KW$9>=$E21,       KW$9<=$F21, $D21<>0),     \"u\",    \"\")","v":""},"","","","","","","","","",{"$f":"IF(AND(         LG$9>=$E21,       LG$9<=$F21, $D21<>0),     \"u\",    \"\")","v":""},"","","","","","","","","",{"$f":"IF(AND(         LQ$9>=$E21,       LQ$9<=$F21, $D21<>0),     \"u\",    \"\")","v":""},"","","","","","","","","",{"$f":"IF(AND(         MA$9>=$E21,       MA$9<=$F21, $D21<>0),     \"u\",    \"\")","v":""},"","","","","","","","","",{"$f":"IF(AND(         MK$9>=$E21,       MK$9<=$F21, $D21<>0),     \"u\",    \"\")","v":""},"","","","","","","","","",{"$f":"IF(AND(         MU$9>=$E21,       MU$9<=$F21, $D21<>0),     \"u\",    \"\")","v":""},"","","","","","","","","",{"$f":"IF(AND(         NE$9>=$E21,       NE$9<=$F21, $D21<>0),     \"u\",    \"\")","v":""},"","","","","","","","","",{"$f":"IF(AND(         NO$9>=$E21,       NO$9<=$F21, $D21<>0),     \"u\",    \"\")","v":""},"","","","","","","","","",{"$f":"IF(AND(         NY$9>=$E21,       NY$9<=$F21, $D21<>0),     \"u\",    \"\")","v":""},"","","","","","","","","","",""]
[null,null,"Fortbildungskonferenz",null,null,null,"",null,"","","","","","","","","","","","","","","","","","","","","","","","","","","","","","","","","","","","","","","","","","","","","","","","","","","","","","","","","","","","","","","","","","","","","","","","","","","","","","","","","","","","","","","","","","","","","","","","","","","","","","","","","","","","","","","","","","","","","","","","","","","","","","","","","","","","","","","","","","","","","","","","","","","","","","","","","","","","","","","","","","","","","","","","","","","","","","","","","","","","","","","","","","","","","","","","","","","","","","","","","","","","","","","","","","","","","","","","","","","","","","","","","","","","","","","","","","","","","","","","","","","","","","","","","","","","","","","","","","","","","","","","","","","","","","","","","","","","","","","","","","","","","","","","","","","","","","","","","","","","","","","","","","","","","","","","","","","","","","","","","","","","","","","","","","","","","","","","","","","","","","","","","","","","","","","","","","","","","","","","","","","","","","","","","","","","","","","","","","","","","","","","","","","","","","","",""]
[null,"Fortbildungsplan für Schulgemeinde",null,null,null,null,"",null,"","","","","","","","","","","","","","","","","","","","","","","","","","","","","","","","","","","","","","","","","","","","","","","","","","","","","","","","","","","","","","","","","","","","","","","","","","","","","","","","","","","","","","","","","","","","","","","","","","","","","","","","","","","","","","","","","","","","","","","","","","","","","","","","","","","","","","","","","","","","","","","","","","","","","","","","","","","","","","","","","","","","","","","","","","","","","","","","","","","","","","","","","","","","","","","","","","","","","","","","","","","","","","","","","","","","","","","","","","","","","","","","","","","","","","","","","","","","","","","","","","","","","","","","","","","","","","","","","","","","","","","","","","","","","","","","","","","","","","","","","","","","","","","","","","","","","","","","","","","","","","","","","","","","","","","","","","","","","","","","","","","","","","","","","","","","","","","","","","","","","","","","","","","","","","","","","","","","","","","","","","","","","","","","","","","","","","","","","","","","","","","","","","","","","","","",""]
[null,"Fortbildungen des Kollegiums",null,null,null,null,"",null,"","","","","","","","","","","","","","","","","","","","","","","","","","","","","","","","","","","","","","","","","","","","","","","","","","","","","","","","","","","","","","","","","","","","","","","","","","","","","","","","","","","","","","","","","","","","","","","","","","","","","","","","","","","","","","","","","","","","","","","","","","","","","","","","","","","","","","","","","","","","","","","","","","","","","","","","","","","","","","","","","","","","","","","","","","","","","","","","","","","","","","","","","","","","","","","","","","","","","","","","","","","","","","","","","","","","","","","","","","","","","","","","","","","","","","","","","","","","","","","","","","","","","","","","","","","","","","","","","","","","","","","","","","","","","","","","","","","","","","","","","","","","","","","","","","","","","","","","","","","","","","","","","","","","","","","","","","","","","","","","","","","","","","","","","","","","","","","","","","","","","","","","","","","","","","","","","","","","","","","","","","","","","","","","","","","","","","","","","","","","","","","","","","","","","","","",""]
[null,"Fortbildungen für Steuergruppe ",null,null,null,null,"",null,"","","","","","","","","","","","","","","","","","","","","","","","","","","","","","","","","","","","","","","","","","","","","","","","","","","","","","","","","","","","","","","","","","","","","","","","","","","","","","","","","","","","","","","","","","","","","","","","","","","","","","","","","","","","","","","","","","","","","","","","","","","","","","","","","","","","","","","","","","","","","","","","","","","","","","","","","","","","","","","","","","","","","","","","","","","","","","","","","","","","","","","","","","","","","","","","","","","","","","","","","","","","","","","","","","","","","","","","","","","","","","","","","","","","","","","","","","","","","","","","","","","","","","","","","","","","","","","","","","","","","","","","","","","","","","","","","","","","","","","","","","","","","","","","","","","","","","","","","","","","","","","","","","","","","","","","","","","","","","","","","","","","","","","","","","","","","","","","","","","","","","","","","","","","","","","","","","","","","","","","","","","","","","","","","","","","","","","","","","","","","","","","","","","","","","","",""]
[null,null,null,null,null,null,"",null,"","","","","","","","","","","","","","","","","","","","","","","","","","","","","","","","","","","","","","","","","","","","","","","","","","","","","","","","","","","","","","","","","","","","","","","","","","","","","","","","","","","","","","","","","","","","","","","","","","","","","","","","","","","","","","","","","","","","","","","","","","","","","","","","","","","","","","","","","","","","","","","","","","","","","","","","","","","","","","","","","","","","","","","","","","","","","","","","","","","","","","","","","","","","","","","","","","","","","","","","","","","","","","","","","","","","","","","","","","","","","","","","","","","","","","","","","","","","","","","","","","","","","","","","","","","","","","","","","","","","","","","","","","","","","","","","","","","","","","","","","","","","","","","","","","","","","","","","","","","","","","","","","","","","","","","","","","","","","","","","","","","","","","","","","","","","","","","","","","","","","","","","","","","","","","","","","","","","","","","","","","","","","","","","","","","","","","","","","","","","","","","","","","","","","","","",""]
[null,null,null,null,null,null,"",null,"","","","","","","","","","","","","","","","","","","","","","","","","","","","","","","","","","","","","","","","","","","","","","","","","","","","","","","","","","","","","","","","","","","","","","","","","","","","","","","","","","","","","","","","","","","","","","","","","","","","","","","","","","","","","","","","","","","","","","","","","","","","","","","","","","","","","","","","","","","","","","","","","","","","","","","","","","","","","","","","","","","","","","","","","","","","","","","","","","","","","","","","","","","","","","","","","","","","","","","","","","","","","","","","","","","","","","","","","","","","","","","","","","","","","","","","","","","","","","","","","","","","","","","","","","","","","","","","","","","","","","","","","","","","","","","","","","","","","","","","","","","","","","","","","","","","","","","","","","","","","","","","","","","","","","","","","","","","","","","","","","","","","","","","","","","","","","","","","","","","","","","","","","","","","","","","","","","","","","","","","","","","","","","","","","","","","","","","","","","","","","","","","","","","","","","",""]
[null,null,null,null,null,null,"",null,"","","","","","","","","","","","","","","","","","","","","","","","","","","","","","","","","","","","","","","","","","","","","","","","","","","","","","","","","","","","","","","","","","","","","","","","","","","","","","","","","","","","","","","","","","","","","","","","","","","","","","","","","","","","","","","","","","","","","","","","","","","","","","","","","","","","","","","","","","","","","","","","","","","","","","","","","","","","","","","","","","","","","","","","","","","","","","","","","","","","","","","","","","","","","","","","","","","","","","","","","","","","","","","","","","","","","","","","","","","","","","","","","","","","","","","","","","","","","","","","","","","","","","","","","","","","","","","","","","","","","","","","","","","","","","","","","","","","","","","","","","","","","","","","","","","","","","","","","","","","","","","","","","","","","","","","","","","","","","","","","","","","","","","","","","","","","","","","","","","","","","","","","","","","","","","","","","","","","","","","","","","","","","","","","","","","","","","","","","","","","","","","","","","","","","","",""]
[null,null,null,null,null,null,"",null,"","","","","","","","","","","","","","","","","","","","","","","","","","","","","","","","","","","","","","","","","","","","","","","","","","","","","","","","","","","","","","","","","","","","","","","","","","","","","","","","","","","","","","","","","","","","","","","","","","","","","","","","","","","","","","","","","","","","","","","","","","","","","","","","","","","","","","","","","","","","","","","","","","","","","","","","","","","","","","","","","","","","","","","","","","","","","","","","","","","","","","","","","","","","","","","","","","","","","","","","","","","","","","","","","","","","","","","","","","","","","","","","","","","","","","","","","","","","","","","","","","","","","","","","","","","","","","","","","","","","","","","","","","","","","","","","","","","","","","","","","","","","","","","","","","","","","","","","","","","","","","","","","","","","","","","","","","","","","","","","","","","","","","","","","","","","","","","","","","","","","","","","","","","","","","","","","","","","","","","","","","","","","","","","","","","","","","","","","","","","","","","","","","","","","","","",""]
["Potentialanalyse",null,null,null,null,null,"",null,"","","","","","","","","","","","","","","","","","","","","","","","","","","","","","","","","","","","","","","","","","","","","","","","","","","","","","","","","","","","","","","","","","","","","","","","","","","","","","","","","","","","","","","","","","","","","","","","","","","","","","","","","","","","","","","","","","","","","","","","","","","","","","","","","","","","","","","","","","","","","","","","","","","","","","","","","","","","","","","","","","","","","","","","","","","","","","","","","","","","","","","","","","","","","","","","","","","","","","","","","","","","","","","","","","","","","","","","","","","","","","","","","","","","","","","","","","","","","","","","","","","","","","","","","","","","","","","","","","","","","","","","","","","","","","","","","","","","","","","","","","","","","","","","","","","","","","","","","","","","","","","","","","","","","","","","","","","","","","","","","","","","","","","","","","","","","","","","","","","","","","","","","","","","","","","","","","","","","","","","","","","","","","","","","","","","","","","","","","","","","","","","","","","","","","","",""]
[null,null,null,null,null,null,"",null,{"$f":"IF(AND(         I$9>=$E31,       I$9<=$F31, $D31<>0),     \"u\",    \"\")","v":""},"","","","","","","","","",{"$f":"IF(AND(         S$9>=$E31,       S$9<=$F31, $D31<>0),     \"u\",    \"\")","v":""},"","","","","","","","","",{"$f":"IF(AND(         AC$9>=$E31,       AC$9<=$F31, $D31<>0),     \"u\",    \"\")","v":""},"","","","","","","","","",{"$f":"IF(AND(         AM$9>=$E31,       AM$9<=$F31, $D31<>0),     \"u\",    \"\")","v":""},"","","","","","","","","",{"$f":"IF(AND(         AW$9>=$E31,       AW$9<=$F31, $D31<>0),     \"u\",    \"\")","v":""},"","","","","","","","","",{"$f":"IF(AND(         BG$9>=$E31,       BG$9<=$F31, $D31<>0),     \"u\",    \"\")","v":""},"","","","","","","","","",{"$f":"IF(AND(         BQ$9>=$E31,       BQ$9<=$F31, $D31<>0),     \"u\",    \"\")","v":""},"","","","","","","","","",{"$f":"IF(AND(         CA$9>=$E31,       CA$9<=$F31, $D31<>0),     \"u\",    \"\")","v":""},"","","","","","","","","",{"$f":"IF(AND(         CK$9>=$E31,       CK$9<=$F31, $D31<>0),     \"u\",    \"\")","v":""},"","","","","","","","","",{"$f":"IF(AND(         CU$9>=$E31,       CU$9<=$F31, $D31<>0),     \"u\",    \"\")","v":""},"","","","","","","","","",{"$f":"IF(AND(         DE$9>=$E31,       DE$9<=$F31, $D31<>0),     \"u\",    \"\")","v":""},"","","","","","","","","",{"$f":"IF(AND(         DO$9>=$E31,       DO$9<=$F31, $D31<>0),     \"u\",    \"\")","v":""},"","","","","","","","","",{"$f":"IF(AND(         DY$9>=$E31,       DY$9<=$F31, $D31<>0),     \"u\",    \"\")","v":""},"","","","","","","","","",{"$f":"IF(AND(         EI$9>=$E31,       EI$9<=$F31, $D31<>0),     \"u\",    \"\")","v":""},"","","","","","","","","",{"$f":"IF(AND(         ES$9>=$E31,       ES$9<=$F31, $D31<>0),     \"u\",    \"\")","v":""},"","","","","","","","","",{"$f":"IF(AND(         FC$9>=$E31,       FC$9<=$F31, $D31<>0),     \"u\",    \"\")","v":""},"","","","","","","","","",{"$f":"IF(AND(         FM$9>=$E31,       FM$9<=$F31, $D31<>0),     \"u\",    \"\")","v":""},"","","","","","","","","",{"$f":"IF(AND(         FW$9>=$E31,       FW$9<=$F31, $D31<>0),     \"u\",    \"\")","v":""},"","","","","","","","","",{"$f":"IF(AND(         GG$9>=$E31,       GG$9<=$F31, $D31<>0),     \"u\",    \"\")","v":""},"","","","","","","","","",{"$f":"IF(AND(         GQ$9>=$E31,       GQ$9<=$F31, $D31<>0),     \"u\",    \"\")","v":""},"","","","","","","","","",{"$f":"IF(AND(         HA$9>=$E31,       HA$9<=$F31, $D31<>0),     \"u\",    \"\")","v":""},"","","","","","","","","",{"$f":"IF(AND(         HK$9>=$E31,       HK$9<=$F31, $D31<>0),     \"u\",    \"\")","v":""},"","","","","","","","","",{"$f":"IF(AND(         HU$9>=$E31,       HU$9<=$F31, $D31<>0),     \"u\",    \"\")","v":""},"","","","","","","","","",{"$f":"IF(AND(         IE$9>=$E31,       IE$9<=$F31, $D31<>0),     \"u\",    \"\")","v":""},"","","","","","","","","",{"$f":"IF(AND(         IO$9>=$E31,       IO$9<=$F31, $D31<>0),     \"u\",    \"\")","v":""},"","","","","","","","","",{"$f":"IF(AND(         IY$9>=$E31,       IY$9<=$F31, $D31<>0),     \"u\",    \"\")","v":""},"","","","","","","","","",{"$f":"IF(AND(         JI$9>=$E31,       JI$9<=$F31, $D31<>0),     \"u\",    \"\")","v":""},"","","","","","","","","",{"$f":"IF(AND(         JS$9>=$E31,       JS$9<=$F31, $D31<>0),     \"u\",    \"\")","v":""},"","","","","","","","","",{"$f":"IF(AND(         KC$9>=$E31,       KC$9<=$F31, $D31<>0),     \"u\",    \"\")","v":""},"","","","","","","","","",{"$f":"IF(AND(         KM$9>=$E31,       KM$9<=$F31, $D31<>0),     \"u\",    \"\")","v":""},"","","","","","","","","",{"$f":"IF(AND(         KW$9>=$E31,       KW$9<=$F31, $D31<>0),     \"u\",    \"\")","v":""},"","","","","","","","","",{"$f":"IF(AND(         LG$9>=$E31,       LG$9<=$F31, $D31<>0),     \"u\",    \"\")","v":""},"","","","","","","","","",{"$f":"IF(AND(         LQ$9>=$E31,       LQ$9<=$F31, $D31<>0),     \"u\",    \"\")","v":""},"","","","","","","","","",{"$f":"IF(AND(         MA$9>=$E31,       MA$9<=$F31, $D31<>0),     \"u\",    \"\")","v":""},"","","","","","","","","",{"$f":"IF(AND(         MK$9>=$E31,       MK$9<=$F31, $D31<>0),     \"u\",    \"\")","v":""},"","","","","","","","","",{"$f":"IF(AND(         MU$9>=$E31,       MU$9<=$F31, $D31<>0),     \"u\",    \"\")","v":""},"","","","","","","","","",{"$f":"IF(AND(         NE$9>=$E31,       NE$9<=$F31, $D31<>0),     \"u\",    \"\")","v":""},"","","","","","","","","",{"$f":"IF(AND(         NO$9>=$E31,       NO$9<=$F31, $D31<>0),     \"u\",    \"\")","v":""},"","","","","","","","","",{"$f":"IF(AND(         NY$9>=$E31,       NY$9<=$F31, $D31<>0),     \"u\",    \"\")","v":""},"","","","","","","","","","",""]
[null,null,null,null,null,null,"",null,"","","","","","","","","","","","","","","","","","","","","","","","","","","","","","","","","","","","","","","","","","","","","","","","","","","","","","","","","","","","","","","","","","","","","","","","","","","","","","","","","","","","","","","","","","","","","","","","","","","","","","","","","","","","","","","","","","","","","","","","","","","","","","","","","","","","","","","","","","","","","","","","","","","","","","","","","","","","","","","","","","","","","","","","","","","","","","","","","","","","","","","","","","","","","","","","","","","","","","","","","","","","","","","","","","","","","","","","","","","","","","","","","","","","","","","","","","","","","","","","","","","","","","","","","","","","","","","","","","","","","","","","","","","","","","","","","","","","","","","","","","","","","","","","","","","","","","","","","","","","","","","","","","","","","","","","","","","","","","","","","","","","","","","","","","","","","","","","","","","","","","","","","","","","","","","","","","","","","","","","","","","","","","","","","","","","","","","","","","","","","","","","","","","","","","","",""]
[null,null,null,null,null,null,"",null,"","","","","","","","","","","","","","","","","","","","","","","","","","","","","","","","","","","","","","","","","","","","","","","","","","","","","","","","","","","","","","","","","","","","","","","","","","","","","","","","","","","","","","","","","","","","","","","","","","","","","","","","","","","","","","","","","","","","","","","","","","","","","","","","","","","","","","","","","","","","","","","","","","","","","","","","","","","","","","","","","","","","","","","","","","","","","","","","","","","","","","","","","","","","","","","","","","","","","","","","","","","","","","","","","","","","","","","","","","","","","","","","","","","","","","","","","","","","","","","","","","","","","","","","","","","","","","","","","","","","","","","","","","","","","","","","","","","","","","","","","","","","","","","","","","","","","","","","","","","","","","","","","","","","","","","","","","","","","","","","","","","","","","","","","","","","","","","","","","","","","","","","","","","","","","","","","","","","","","","","","","","","","","","","","","","","","","","","","","","","","","","","","","","","","","","",""]
[null,null,null,null,null,null,"",null,"","","","","","","","","","","","","","","","","","","","","","","","","","","","","","","","","","","","","","","","","","","","","","","","","","","","","","","","","","","","","","","","","","","","","","","","","","","","","","","","","","","","","","","","","","","","","","","","","","","","","","","","","","","","","","","","","","","","","","","","","","","","","","","","","","","","","","","","","","","","","","","","","","","","","","","","","","","","","","","","","","","","","","","","","","","","","","","","","","","","","","","","","","","","","","","","","","","","","","","","","","","","","","","","","","","","","","","","","","","","","","","","","","","","","","","","","","","","","","","","","","","","","","","","","","","","","","","","","","","","","","","","","","","","","","","","","","","","","","","","","","","","","","","","","","","","","","","","","","","","","","","","","","","","","","","","","","","","","","","","","","","","","","","","","","","","","","","","","","","","","","","","","","","","","","","","","","","","","","","","","","","","","","","","","","","","","","","","","","","","","","","","","","","","","","","",""]
["Risikoanalyse",null,null,null,null,null,"",null,"","","","","","","","","","","","","","","","","","","","","","","","","","","","","","","","","","","","","","","","","","","","","","","","","","","","","","","","","","","","","","","","","","","","","","","","","","","","","","","","","","","","","","","","","","","","","","","","","","","","","","","","","","","","","","","","","","","","","","","","","","","","","","","","","","","","","","","","","","","","","","","","","","","","","","","","","","","","","","","","","","","","","","","","","","","","","","","","","","","","","","","","","","","","","","","","","","","","","","","","","","","","","","","","","","","","","","","","","","","","","","","","","","","","","","","","","","","","","","","","","","","","","","","","","","","","","","","","","","","","","","","","","","","","","","","","","","","","","","","","","","","","","","","","","","","","","","","","","","","","","","","","","","","","","","","","","","","","","","","","","","","","","","","","","","","","","","","","","","","","","","","","","","","","","","","","","","","","","","","","","","","","","","","","","","","","","","","","","","","","","","","","","","","","","","","",""]
[null,null,null,null,null,null,"",null,"","","","","","","","","","","","","","","","","","","","","","","","","","","","","","","","","","","","","","","","","","","","","","","","","","","","","","","","","","","","","","","","","","","","","","","","","","","","","","","","","","","","","","","","","","","","","","","","","","","","","","","","","","","","","","","","","","","","","","","","","","","","","","","","","","","","","","","","","","","","","","","","","","","","","","","","","","","","","","","","","","","","","","","","","","","","","","","","","","","","","","","","","","","","","","","","","","","","","","","","","","","","","","","","","","","","","","","","","","","","","","","","","","","","","","","","","","","","","","","","","","","","","","","","","","","","","","","","","","","","","","","","","","","","","","","","","","","","","","","","","","","","","","","","","","","","","","","","","","","","","","","","","","","","","","","","","","","","","","","","","","","","","","","","","","","","","","","","","","","","","","","","","","","","","","","","","","","","","","","","","","","","","","","","","","","","","","","","","","","","","","","","","","","","","","","",""]
[null,null,null,null,null,null,"",null,"","","","","","","","","","","","","","","","","","","","","","","","","","","","","","","","","","","","","","","","","","","","","","","","","","","","","","","","","","","","","","","","","","","","","","","","","","","","","","","","","","","","","","","","","","","","","","","","","","","","","","","","","","","","","","","","","","","","","","","","","","","","","","","","","","","","","","","","","","","","","","","","","","","","","","","","","","","","","","","","","","","","","","","","","","","","","","","","","","","","","","","","","","","","","","","","","","","","","","","","","","","","","","","","","","","","","","","","","","","","","","","","","","","","","","","","","","","","","","","","","","","","","","","","","","","","","","","","","","","","","","","","","","","","","","","","","","","","","","","","","","","","","","","","","","","","","","","","","","","","","","","","","","","","","","","","","","","","","","","","","","","","","","","","","","","","","","","","","","","","","","","","","","","","","","","","","","","","","","","","","","","","","","","","","","","","","","","","","","","","","","","","","","","","","","","",""]
[null,null,null,null,null,null,"",null,"","","","","","","","","","","","","","","","","","","","","","","","","","","","","","","","","","","","","","","","","","","","","","","","","","","","","","","","","","","","","","","","","","","","","","","","","","","","","","","","","","","","","","","","","","","","","","","","","","","","","","","","","","","","","","","","","","","","","","","","","","","","","","","","","","","","","","","","","","","","","","","","","","","","","","","","","","","","","","","","","","","","","","","","","","","","","","","","","","","","","","","","","","","","","","","","","","","","","","","","","","","","","","","","","","","","","","","","","","","","","","","","","","","","","","","","","","","","","","","","","","","","","","","","","","","","","","","","","","","","","","","","","","","","","","","","","","","","","","","","","","","","","","","","","","","","","","","","","","","","","","","","","","","","","","","","","","","","","","","","","","","","","","","","","","","","","","","","","","","","","","","","","","","","","","","","","","","","","","","","","","","","","","","","","","","","","","","","","","","","","","","","","","","","","","","",""]
[null,null,null,null,null,null,"",null,"","","","","","","","","","","","","","","","","","","","","","","","","","","","","","","","","","","","","","","","","","","","","","","","","","","","","","","","","","","","","","","","","","","","","","","","","","","","","","","","","","","","","","","","","","","","","","","","","","","","","","","","","","","","","","","","","","","","","","","","","","","","","","","","","","","","","","","","","","","","","","","","","","","","","","","","","","","","","","","","","","","","","","","","","","","","","","","","","","","","","","","","","","","","","","","","","","","","","","","","","","","","","","","","","","","","","","","","","","","","","","","","","","","","","","","","","","","","","","","","","","","","","","","","","","","","","","","","","","","","","","","","","","","","","","","","","","","","","","","","","","","","","","","","","","","","","","","","","","","","","","","","","","","","","","","","","","","","","","","","","","","","","","","","","","","","","","","","","","","","","","","","","","","","","","","","","","","","","","","","","","","","","","","","","","","","","","","","","","","","","","","","","","","","","","","","",{"$f":"IF(AND(         OK$9>=$E39,       OK$9<=$F39, $D39<>0),     \"u\",    \"\")","v":""},""]
[null,null,null,null,null,null,"",null,"","","","","","","","","","","","","","","","","","","","","","","","","","","","","","","","","","","","","","","","","","","","","","","","","","","","","","","","","","","","","","","","","","","","","","","","","","","","","","","","","","","","","","","","","","","","","","","","","","","","","","","","","","","","","","","","","","","","","","","","","","","","","","","","","","","","","","","","","","","","","","","","","","","","","","","","","","","","","","","","","","","","","","","","","","","","","","","","","","","","","","","","","","","","","","","","","","","","","","","","","","","","","","","","","","","","","","","","","","","","","","","","","","","","","","","","","","","","","","","","","","","","","","","","","","","","","","","","","","","","","","","","","","","","","","","","","","","","","","","","","","","","","","","","","","","","","","","","","","","","","","","","","","","","","","","","","","","","","","","","","","","","","","","","","","","","","","","","","","","","","","","","","","","","","","","","","","","","","","","","","","","","","","","","","","","","","","","","","","","","","","","","","","","","","","","","","",""]
[null,null,null,null,null,null,"",null,"","","","","","","","","","","","","","","","","","","","","","","","","","","","","","","","","","","","","","","","","","","","","","","","","","","","","","","","","","","","","","","","","","","","","","","","","","","","","","","","","","","","","","","","","","","","","","","","","","","","","","","","","","","","","","","","","","","","","","","","","","","","","","","","","","","","","","","","","","","","","","","","","","","","","","","","","","","","","","","","","","","","","","","","","","","","","","","","","","","","","","","","","","","","","","","","","","","","","","","","","","","","","","","","","","","","","","","","","","","","","","","","","","","","","","","","","","","","","","","","","","","","","","","","","","","","","","","","","","","","","","","","","","","","","","","","","","","","","","","","","","","","","","","","","","","","","","","","","","","","","","","","","","","","","","","","","","","","","","","","","","","","","","","","","","","","","","","","","","","","","","","","","","","","","","","","","","","","","","","","","","","","","","","","","","","","","","","","","","","","","","","","","","","","","","","","","",""]
[null,null,null,null,null,null,{"$f":"IF(AND(    E42=0,F42=0),  \"\",         IF($C$5<=E42,0,IF($C$5>F42,1,_xlfn.DAYS($C$5,E42)/_xlfn.DAYS(F42,E42))))","v":""},0.25,{"$f":"IF(AND(         I$9>=$E42,       I$9<=$F42, $D42<>0),     \"u\",    \"\")","v":""},{"$f":"IF(AND(         J$9>=$E42,       J$9<=$F42, $D42<>0),     \"u\",    \"\")","v":""},{"$f":"IF(AND(         K$9>=$E42,       K$9<=$F42, $D42<>0),     \"u\",    \"\")","v":""},{"$f":"IF(AND(         L$9>=$E42,       L$9<=$F42, $D42<>0),     \"u\",    \"\")","v":""},{"$f":"IF(AND(         M$9>=$E42,       M$9<=$F42, $D42<>0),     \"u\",    \"\")","v":""},{"$f":"IF(AND(         N$9>=$E42,       N$9<=$F42, $D42<>0),     \"u\",    \"\")","v":""},{"$f":"IF(AND(         O$9>=$E42,       O$9<=$F42, $D42<>0),     \"u\",    \"\")","v":""},{"$f":"IF(AND(         P$9>=$E42,       P$9<=$F42, $D42<>0),     \"u\",    \"\")","v":""},{"$f":"IF(AND(         Q$9>=$E42,       Q$9<=$F42, $D42<>0),     \"u\",    \"\")","v":""},{"$f":"IF(AND(         R$9>=$E42,       R$9<=$F42, $D42<>0),     \"u\",    \"\")","v":""},{"$f":"IF(AND(         S$9>=$E42,       S$9<=$F42, $D42<>0),     \"u\",    \"\")","v":""},{"$f":"IF(AND(         T$9>=$E42,       T$9<=$F42, $D42<>0),     \"u\",    \"\")","v":""},{"$f":"IF(AND(         U$9>=$E42,       U$9<=$F42, $D42<>0),     \"u\",    \"\")","v":""},{"$f":"IF(AND(         V$9>=$E42,       V$9<=$F42, $D42<>0),     \"u\",    \"\")","v":""},{"$f":"IF(AND(         W$9>=$E42,       W$9<=$F42, $D42<>0),     \"u\",    \"\")","v":""},{"$f":"IF(AND(         X$9>=$E42,       X$9<=$F42, $D42<>0),     \"u\",    \"\")","v":""},{"$f":"IF(AND(         Y$9>=$E42,       Y$9<=$F42, $D42<>0),     \"u\",    \"\")","v":""},{"$f":"IF(AND(         Z$9>=$E42,       Z$9<=$F42, $D42<>0),     \"u\",    \"\")","v":""},{"$f":"IF(AND(         AA$9>=$E42,       AA$9<=$F42, $D42<>0),     \"u\",    \"\")","v":""},{"$f":"IF(AND(         AB$9>=$E42,       AB$9<=$F42, $D42<>0),     \"u\",    \"\")","v":""},{"$f":"IF(AND(         AC$9>=$E42,       AC$9<=$F42, $D42<>0),     \"u\",    \"\")","v":""},{"$f":"IF(AND(         AD$9>=$E42,       AD$9<=$F42, $D42<>0),     \"u\",    \"\")","v":""},{"$f":"IF(AND(         AE$9>=$E42,       AE$9<=$F42, $D42<>0),     \"u\",    \"\")","v":""},{"$f":"IF(AND(         AF$9>=$E42,       AF$9<=$F42, $D42<>0),     \"u\",    \"\")","v":""},{"$f":"IF(AND(         AG$9>=$E42,       AG$9<=$F42, $D42<>0),     \"u\",    \"\")","v":""},{"$f":"IF(AND(         AH$9>=$E42,       AH$9<=$F42, $D42<>0),     \"u\",    \"\")","v":""},{"$f":"IF(AND(         AI$9>=$E42,       AI$9<=$F42, $D42<>0),     \"u\",    \"\")","v":""},{"$f":"IF(AND(         AJ$9>=$E42,       AJ$9<=$F42, $D42<>0),     \"u\",    \"\")","v":""},{"$f":"IF(AND(         AK$9>=$E42,       AK$9<=$F42, $D42<>0),     \"u\",    \"\")","v":""},{"$f":"IF(AND(         AL$9>=$E42,       AL$9<=$F42, $D42<>0),     \"u\",    \"\")","v":""},{"$f":"IF(AND(         AM$9>=$E42,       AM$9<=$F42, $D42<>0),     \"u\",    \"\")","v":""},{"$f":"IF(AND(         AN$9>=$E42,       AN$9<=$F42, $D42<>0),     \"u\",    \"\")","v":""},{"$f":"IF(AND(         AO$9>=$E42,       AO$9<=$F42, $D42<>0),     \"u\",    \"\")","v":""},{"$f":"IF(AND(         AP$9>=$E42,       AP$9<=$F42, $D42<>0),     \"u\",    \"\")","v":""},{"$f":"IF(AND(         AQ$9>=$E42,       AQ$9<=$F42, $D42<>0),     \"u\",    \"\")","v":""},{"$f":"IF(AND(         AR$9>=$E42,       AR$9<=$F42, $D42<>0),     \"u\",    \"\")","v":""},{"$f":"IF(AND(         AS$9>=$E42,       AS$9<=$F42, $D42<>0),     \"u\",    \"\")","v":""},{"$f":"IF(AND(         AT$9>=$E42,       AT$9<=$F42, $D42<>0),     \"u\",    \"\")","v":""},{"$f":"IF(AND(         AU$9>=$E42,       AU$9<=$F42, $D42<>0),     \"u\",    \"\")","v":""},{"$f":"IF(AND(         AV$9>=$E42,       AV$9<=$F42, $D42<>0),     \"u\",    \"\")","v":""},{"$f":"IF(AND(         AW$9>=$E42,       AW$9<=$F42, $D42<>0),     \"u\",    \"\")","v":""},{"$f":"IF(AND(         AX$9>=$E42,       AX$9<=$F42, $D42<>0),     \"u\",    \"\")","v":""},{"$f":"IF(AND(         AY$9>=$E42,       AY$9<=$F42, $D42<>0),     \"u\",    \"\")","v":""},{"$f":"IF(AND(         AZ$9>=$E42,       AZ$9<=$F42, $D42<>0),     \"u\",    \"\")","v":""},{"$f":"IF(AND(         BA$9>=$E42,       BA$9<=$F42, $D42<>0),     \"u\",    \"\")","v":""},{"$f":"IF(AND(         BB$9>=$E42,       BB$9<=$F42, $D42<>0),     \"u\",    \"\")","v":""},{"$f":"IF(AND(         BC$9>=$E42,       BC$9<=$F42, $D42<>0),     \"u\",    \"\")","v":""},{"$f":"IF(AND(         BD$9>=$E42,       BD$9<=$F42, $D42<>0),     \"u\",    \"\")","v":""},{"$f":"IF(AND(         BE$9>=$E42,       BE$9<=$F42, $D42<>0),     \"u\",    \"\")","v":""},{"$f":"IF(AND(         BF$9>=$E42,       BF$9<=$F42, $D42<>0),     \"u\",    \"\")","v":""},{"$f":"IF(AND(         BG$9>=$E42,       BG$9<=$F42, $D42<>0),     \"u\",    \"\")","v":""},{"$f":"IF(AND(         BH$9>=$E42,       BH$9<=$F42, $D42<>0),     \"u\",    \"\")","v":""},{"$f":"IF(AND(         BI$9>=$E42,       BI$9<=$F42, $D42<>0),     \"u\",    \"\")","v":""},{"$f":"IF(AND(         BJ$9>=$E42,       BJ$9<=$F42, $D42<>0),     \"u\",    \"\")","v":""},{"$f":"IF(AND(         BK$9>=$E42,       BK$9<=$F42, $D42<>0),     \"u\",    \"\")","v":""},{"$f":"IF(AND(         BL$9>=$E42,       BL$9<=$F42, $D42<>0),     \"u\",    \"\")","v":""},{"$f":"IF(AND(         BM$9>=$E42,       BM$9<=$F42, $D42<>0),     \"u\",    \"\")","v":""},{"$f":"IF(AND(         BN$9>=$E42,       BN$9<=$F42, $D42<>0),     \"u\",    \"\")","v":""},{"$f":"IF(AND(         BO$9>=$E42,       BO$9<=$F42, $D42<>0),     \"u\",    \"\")","v":""},{"$f":"IF(AND(         BP$9>=$E42,       BP$9<=$F42, $D42<>0),     \"u\",    \"\")","v":""},{"$f":"IF(AND(         BQ$9>=$E42,       BQ$9<=$F42, $D42<>0),     \"u\",    \"\")","v":""},{"$f":"IF(AND(         BR$9>=$E42,       BR$9<=$F42, $D42<>0),     \"u\",    \"\")","v":""},{"$f":"IF(AND(         BS$9>=$E42,       BS$9<=$F42, $D42<>0),     \"u\",    \"\")","v":""},{"$f":"IF(AND(         BT$9>=$E42,       BT$9<=$F42, $D42<>0),     \"u\",    \"\")","v":""},{"$f":"IF(AND(         BU$9>=$E42,       BU$9<=$F42, $D42<>0),     \"u\",    \"\")","v":""},{"$f":"IF(AND(         BV$9>=$E42,       BV$9<=$F42, $D42<>0),     \"u\",    \"\")","v":""},{"$f":"IF(AND(         BW$9>=$E42,       BW$9<=$F42, $D42<>0),     \"u\",    \"\")","v":""},{"$f":"IF(AND(         BX$9>=$E42,       BX$9<=$F42, $D42<>0),     \"u\",    \"\")","v":""},{"$f":"IF(AND(         BY$9>=$E42,       BY$9<=$F42, $D42<>0),     \"u\",    \"\")","v":""},{"$f":"IF(AND(         BZ$9>=$E42,       BZ$9<=$F42, $D42<>0),     \"u\",    \"\")","v":""},{"$f":"IF(AND(         CA$9>=$E42,       CA$9<=$F42, $D42<>0),     \"u\",    \"\")","v":""},{"$f":"IF(AND(         CB$9>=$E42,       CB$9<=$F42, $D42<>0),     \"u\",    \"\")","v":""},{"$f":"IF(AND(         CC$9>=$E42,       CC$9<=$F42, $D42<>0),     \"u\",    \"\")","v":""},{"$f":"IF(AND(         CD$9>=$E42,       CD$9<=$F42, $D42<>0),     \"u\",    \"\")","v":""},{"$f":"IF(AND(         CE$9>=$E42,       CE$9<=$F42, $D42<>0),     \"u\",    \"\")","v":""},{"$f":"IF(AND(         CF$9>=$E42,       CF$9<=$F42, $D42<>0),     \"u\",    \"\")","v":""},{"$f":"IF(AND(         CG$9>=$E42,       CG$9<=$F42, $D42<>0),     \"u\",    \"\")","v":""},{"$f":"IF(AND(         CH$9>=$E42,       CH$9<=$F42, $D42<>0),     \"u\",    \"\")","v":""},{"$f":"IF(AND(         CI$9>=$E42,       CI$9<=$F42, $D42<>0),     \"u\",    \"\")","v":""},{"$f":"IF(AND(         CJ$9>=$E42,       CJ$9<=$F42, $D42<>0),     \"u\",    \"\")","v":""},{"$f":"IF(AND(         CK$9>=$E42,       CK$9<=$F42, $D42<>0),     \"u\",    \"\")","v":""},{"$f":"IF(AND(         CL$9>=$E42,       CL$9<=$F42, $D42<>0),     \"u\",    \"\")","v":""},{"$f":"IF(AND(         CM$9>=$E42,       CM$9<=$F42, $D42<>0),     \"u\",    \"\")","v":""},{"$f":"IF(AND(         CN$9>=$E42,       CN$9<=$F42, $D42<>0),     \"u\",    \"\")","v":""},{"$f":"IF(AND(         CO$9>=$E42,       CO$9<=$F42, $D42<>0),     \"u\",    \"\")","v":""},{"$f":"IF(AND(         CP$9>=$E42,       CP$9<=$F42, $D42<>0),     \"u\",    \"\")","v":""},{"$f":"IF(AND(         CQ$9>=$E42,       CQ$9<=$F42, $D42<>0),     \"u\",    \"\")","v":""},{"$f":"IF(AND(         CR$9>=$E42,       CR$9<=$F42, $D42<>0),     \"u\",    \"\")","v":""},{"$f":"IF(AND(         CS$9>=$E42,       CS$9<=$F42, $D42<>0),     \"u\",    \"\")","v":""},{"$f":"IF(AND(         CT$9>=$E42,       CT$9<=$F42, $D42<>0),     \"u\",    \"\")","v":""},{"$f":"IF(AND(         CU$9>=$E42,       CU$9<=$F42, $D42<>0),     \"u\",    \"\")","v":""},{"$f":"IF(AND(         CV$9>=$E42,       CV$9<=$F42, $D42<>0),     \"u\",    \"\")","v":""},{"$f":"IF(AND(         CW$9>=$E42,       CW$9<=$F42, $D42<>0),     \"u\",    \"\")","v":""},{"$f":"IF(AND(         CX$9>=$E42,       CX$9<=$F42, $D42<>0),     \"u\",    \"\")","v":""},{"$f":"IF(AND(         CY$9>=$E42,       CY$9<=$F42, $D42<>0),     \"u\",    \"\")","v":""},{"$f":"IF(AND(         CZ$9>=$E42,       CZ$9<=$F42, $D42<>0),     \"u\",    \"\")","v":""},{"$f":"IF(AND(         DA$9>=$E42,       DA$9<=$F42, $D42<>0),     \"u\",    \"\")","v":""},{"$f":"IF(AND(         DB$9>=$E42,       DB$9<=$F42, $D42<>0),     \"u\",    \"\")","v":""},{"$f":"IF(AND(         DC$9>=$E42,       DC$9<=$F42, $D42<>0),     \"u\",    \"\")","v":""},{"$f":"IF(AND(         DD$9>=$E42,       DD$9<=$F42, $D42<>0),     \"u\",    \"\")","v":""},{"$f":"IF(AND(         DE$9>=$E42,       DE$9<=$F42, $D42<>0),     \"u\",    \"\")","v":""},{"$f":"IF(AND(         DF$9>=$E42,       DF$9<=$F42, $D42<>0),     \"u\",    \"\")","v":""},{"$f":"IF(AND(         DG$9>=$E42,       DG$9<=$F42, $D42<>0),     \"u\",    \"\")","v":""},{"$f":"IF(AND(         DH$9>=$E42,       DH$9<=$F42, $D42<>0),     \"u\",    \"\")","v":""},{"$f":"IF(AND(         DI$9>=$E42,       DI$9<=$F42, $D42<>0),     \"u\",    \"\")","v":""},{"$f":"IF(AND(         DJ$9>=$E42,       DJ$9<=$F42, $D42<>0),     \"u\",    \"\")","v":""},{"$f":"IF(AND(         DK$9>=$E42,       DK$9<=$F42, $D42<>0),     \"u\",    \"\")","v":""},{"$f":"IF(AND(         DL$9>=$E42,       DL$9<=$F42, $D42<>0),     \"u\",    \"\")","v":""},{"$f":"IF(AND(         DM$9>=$E42,       DM$9<=$F42, $D42<>0),     \"u\",    \"\")","v":""},{"$f":"IF(AND(         DN$9>=$E42,       DN$9<=$F42, $D42<>0),     \"u\",    \"\")","v":""},{"$f":"IF(AND(         DO$9>=$E42,       DO$9<=$F42, $D42<>0),     \"u\",    \"\")","v":""},{"$f":"IF(AND(         DP$9>=$E42,       DP$9<=$F42, $D42<>0),     \"u\",    \"\")","v":""},{"$f":"IF(AND(         DQ$9>=$E42,       DQ$9<=$F42, $D42<>0),     \"u\",    \"\")","v":""},{"$f":"IF(AND(         DR$9>=$E42,       DR$9<=$F42, $D42<>0),     \"u\",    \"\")","v":""},{"$f":"IF(AND(         DS$9>=$E42,       DS$9<=$F42, $D42<>0),     \"u\",    \"\")","v":""},{"$f":"IF(AND(         DT$9>=$E42,       DT$9<=$F42, $D42<>0),     \"u\",    \"\")","v":""},{"$f":"IF(AND(         DU$9>=$E42,       DU$9<=$F42, $D42<>0),     \"u\",    \"\")","v":""},{"$f":"IF(AND(         DV$9>=$E42,       DV$9<=$F42, $D42<>0),     \"u\",    \"\")","v":""},{"$f":"IF(AND(         DW$9>=$E42,       DW$9<=$F42, $D42<>0),     \"u\",    \"\")","v":""},{"$f":"IF(AND(         DX$9>=$E42,       DX$9<=$F42, $D42<>0),     \"u\",    \"\")","v":""},{"$f":"IF(AND(         DY$9>=$E42,       DY$9<=$F42, $D42<>0),     \"u\",    \"\")","v":""},{"$f":"IF(AND(         DZ$9>=$E42,       DZ$9<=$F42, $D42<>0),     \"u\",    \"\")","v":""},{"$f":"IF(AND(         EA$9>=$E42,       EA$9<=$F42, $D42<>0),     \"u\",    \"\")","v":""},{"$f":"IF(AND(         EB$9>=$E42,       EB$9<=$F42, $D42<>0),     \"u\",    \"\")","v":""},{"$f":"IF(AND(         EC$9>=$E42,       EC$9<=$F42, $D42<>0),     \"u\",    \"\")","v":""},{"$f":"IF(AND(         ED$9>=$E42,       ED$9<=$F42, $D42<>0),     \"u\",    \"\")","v":""},{"$f":"IF(AND(         EE$9>=$E42,       EE$9<=$F42, $D42<>0),     \"u\",    \"\")","v":""},{"$f":"IF(AND(         EF$9>=$E42,       EF$9<=$F42, $D42<>0),     \"u\",    \"\")","v":""},{"$f":"IF(AND(         EG$9>=$E42,       EG$9<=$F42, $D42<>0),     \"u\",    \"\")","v":""},{"$f":"IF(AND(         EH$9>=$E42,       EH$9<=$F42, $D42<>0),     \"u\",    \"\")","v":""},{"$f":"IF(AND(         EI$9>=$E42,       EI$9<=$F42, $D42<>0),     \"u\",    \"\")","v":""},{"$f":"IF(AND(         EJ$9>=$E42,       EJ$9<=$F42, $D42<>0),     \"u\",    \"\")","v":""},{"$f":"IF(AND(         EK$9>=$E42,       EK$9<=$F42, $D42<>0),     \"u\",    \"\")","v":""},{"$f":"IF(AND(         EL$9>=$E42,       EL$9<=$F42, $D42<>0),     \"u\",    \"\")","v":""},{"$f":"IF(AND(         EM$9>=$E42,       EM$9<=$F42, $D42<>0),     \"u\",    \"\")","v":""},{"$f":"IF(AND(         EN$9>=$E42,       EN$9<=$F42, $D42<>0),     \"u\",    \"\")","v":""},{"$f":"IF(AND(         EO$9>=$E42,       EO$9<=$F42, $D42<>0),     \"u\",    \"\")","v":""},{"$f":"IF(AND(         EP$9>=$E42,       EP$9<=$F42, $D42<>0),     \"u\",    \"\")","v":""},{"$f":"IF(AND(         EQ$9>=$E42,       EQ$9<=$F42, $D42<>0),     \"u\",    \"\")","v":""},{"$f":"IF(AND(         ER$9>=$E42,       ER$9<=$F42, $D42<>0),     \"u\",    \"\")","v":""},{"$f":"IF(AND(         ES$9>=$E42,       ES$9<=$F42, $D42<>0),     \"u\",    \"\")","v":""},{"$f":"IF(AND(         ET$9>=$E42,       ET$9<=$F42, $D42<>0),     \"u\",    \"\")","v":""},{"$f":"IF(AND(         EU$9>=$E42,       EU$9<=$F42, $D42<>0),     \"u\",    \"\")","v":""},{"$f":"IF(AND(         EV$9>=$E42,       EV$9<=$F42, $D42<>0),     \"u\",    \"\")","v":""},{"$f":"IF(AND(         EW$9>=$E42,       EW$9<=$F42, $D42<>0),     \"u\",    \"\")","v":""},{"$f":"IF(AND(         EX$9>=$E42,       EX$9<=$F42, $D42<>0),     \"u\",    \"\")","v":""},{"$f":"IF(AND(         EY$9>=$E42,       EY$9<=$F42, $D42<>0),     \"u\",    \"\")","v":""},{"$f":"IF(AND(         EZ$9>=$E42,       EZ$9<=$F42, $D42<>0),     \"u\",    \"\")","v":""},{"$f":"IF(AND(         FA$9>=$E42,       FA$9<=$F42, $D42<>0),     \"u\",    \"\")","v":""},{"$f":"IF(AND(         FB$9>=$E42,       FB$9<=$F42, $D42<>0),     \"u\",    \"\")","v":""},{"$f":"IF(AND(         FC$9>=$E42,       FC$9<=$F42, $D42<>0),     \"u\",    \"\")","v":""},{"$f":"IF(AND(         FD$9>=$E42,       FD$9<=$F42, $D42<>0),     \"u\",    \"\")","v":""},{"$f":"IF(AND(         FE$9>=$E42,       FE$9<=$F42, $D42<>0),     \"u\",    \"\")","v":""},{"$f":"IF(AND(         FF$9>=$E42,       FF$9<=$F42, $D42<>0),     \"u\",    \"\")","v":""},{"$f":"IF(AND(         FG$9>=$E42,       FG$9<=$F42, $D42<>0),     \"u\",    \"\")","v":""},{"$f":"IF(AND(         FH$9>=$E42,       FH$9<=$F42, $D42<>0),     \"u\",    \"\")","v":""},{"$f":"IF(AND(         FI$9>=$E42,       FI$9<=$F42, $D42<>0),     \"u\",    \"\")","v":""},{"$f":"IF(AND(         FJ$9>=$E42,       FJ$9<=$F42, $D42<>0),     \"u\",    \"\")","v":""},{"$f":"IF(AND(         FK$9>=$E42,       FK$9<=$F42, $D42<>0),     \"u\",    \"\")","v":""},{"$f":"IF(AND(         FL$9>=$E42,       FL$9<=$F42, $D42<>0),     \"u\",    \"\")","v":""},{"$f":"IF(AND(         FM$9>=$E42,       FM$9<=$F42, $D42<>0),     \"u\",    \"\")","v":""},{"$f":"IF(AND(         FN$9>=$E42,       FN$9<=$F42, $D42<>0),     \"u\",    \"\")","v":""},{"$f":"IF(AND(         FO$9>=$E42,       FO$9<=$F42, $D42<>0),     \"u\",    \"\")","v":""},{"$f":"IF(AND(         FP$9>=$E42,       FP$9<=$F42, $D42<>0),     \"u\",    \"\")","v":""},{"$f":"IF(AND(         FQ$9>=$E42,       FQ$9<=$F42, $D42<>0),     \"u\",    \"\")","v":""},{"$f":"IF(AND(         FR$9>=$E42,       FR$9<=$F42, $D42<>0),     \"u\",    \"\")","v":""},{"$f":"IF(AND(         FS$9>=$E42,       FS$9<=$F42, $D42<>0),     \"u\",    \"\")","v":""},{"$f":"IF(AND(         FT$9>=$E42,       FT$9<=$F42, $D42<>0),     \"u\",    \"\")","v":""},{"$f":"IF(AND(         FU$9>=$E42,       FU$9<=$F42, $D42<>0),     \"u\",    \"\")","v":""},{"$f":"IF(AND(         FV$9>=$E42,       FV$9<=$F42, $D42<>0),     \"u\",    \"\")","v":""},{"$f":"IF(AND(         FW$9>=$E42,       FW$9<=$F42, $D42<>0),     \"u\",    \"\")","v":""},{"$f":"IF(AND(         FX$9>=$E42,       FX$9<=$F42, $D42<>0),     \"u\",    \"\")","v":""},{"$f":"IF(AND(         FY$9>=$E42,       FY$9<=$F42, $D42<>0),     \"u\",    \"\")","v":""},{"$f":"IF(AND(         FZ$9>=$E42,       FZ$9<=$F42, $D42<>0),     \"u\",    \"\")","v":""},{"$f":"IF(AND(         GA$9>=$E42,       GA$9<=$F42, $D42<>0),     \"u\",    \"\")","v":""},{"$f":"IF(AND(         GB$9>=$E42,       GB$9<=$F42, $D42<>0),     \"u\",    \"\")","v":""},{"$f":"IF(AND(         GC$9>=$E42,       GC$9<=$F42, $D42<>0),     \"u\",    \"\")","v":""},{"$f":"IF(AND(         GD$9>=$E42,       GD$9<=$F42, $D42<>0),     \"u\",    \"\")","v":""},{"$f":"IF(AND(         GE$9>=$E42,       GE$9<=$F42, $D42<>0),     \"u\",    \"\")","v":""},{"$f":"IF(AND(         GF$9>=$E42,       GF$9<=$F42, $D42<>0),     \"u\",    \"\")","v":""},{"$f":"IF(AND(         GG$9>=$E42,       GG$9<=$F42, $D42<>0),     \"u\",    \"\")","v":""},{"$f":"IF(AND(         GH$9>=$E42,       GH$9<=$F42, $D42<>0),     \"u\",    \"\")","v":""},{"$f":"IF(AND(         GI$9>=$E42,       GI$9<=$F42, $D42<>0),     \"u\",    \"\")","v":""},{"$f":"IF(AND(         GJ$9>=$E42,       GJ$9<=$F42, $D42<>0),     \"u\",    \"\")","v":""},{"$f":"IF(AND(         GK$9>=$E42,       GK$9<=$F42, $D42<>0),     \"u\",    \"\")","v":""},{"$f":"IF(AND(         GL$9>=$E42,       GL$9<=$F42, $D42<>0),     \"u\",    \"\")","v":""},{"$f":"IF(AND(         GM$9>=$E42,       GM$9<=$F42, $D42<>0),     \"u\",    \"\")","v":""},{"$f":"IF(AND(         GN$9>=$E42,       GN$9<=$F42, $D42<>0),     \"u\",    \"\")","v":""},{"$f":"IF(AND(         GO$9>=$E42,       GO$9<=$F42, $D42<>0),     \"u\",    \"\")","v":""},{"$f":"IF(AND(         GP$9>=$E42,       GP$9<=$F42, $D42<>0),     \"u\",    \"\")","v":""},{"$f":"IF(AND(         GQ$9>=$E42,       GQ$9<=$F42, $D42<>0),     \"u\",    \"\")","v":""},{"$f":"IF(AND(         GR$9>=$E42,       GR$9<=$F42, $D42<>0),     \"u\",    \"\")","v":""},{"$f":"IF(AND(         GS$9>=$E42,       GS$9<=$F42, $D42<>0),     \"u\",    \"\")","v":""},{"$f":"IF(AND(         GT$9>=$E42,       GT$9<=$F42, $D42<>0),     \"u\",    \"\")","v":""},{"$f":"IF(AND(         GU$9>=$E42,       GU$9<=$F42, $D42<>0),     \"u\",    \"\")","v":""},{"$f":"IF(AND(         GV$9>=$E42,       GV$9<=$F42, $D42<>0),     \"u\",    \"\")","v":""},{"$f":"IF(AND(         GW$9>=$E42,       GW$9<=$F42, $D42<>0),     \"u\",    \"\")","v":""},{"$f":"IF(AND(         GX$9>=$E42,       GX$9<=$F42, $D42<>0),     \"u\",    \"\")","v":""},{"$f":"IF(AND(         GY$9>=$E42,       GY$9<=$F42, $D42<>0),     \"u\",    \"\")","v":""},{"$f":"IF(AND(         GZ$9>=$E42,       GZ$9<=$F42, $D42<>0),     \"u\",    \"\")","v":""},{"$f":"IF(AND(         HA$9>=$E42,       HA$9<=$F42, $D42<>0),     \"u\",    \"\")","v":""},{"$f":"IF(AND(         HB$9>=$E42,       HB$9<=$F42, $D42<>0),     \"u\",    \"\")","v":""},{"$f":"IF(AND(         HC$9>=$E42,       HC$9<=$F42, $D42<>0),     \"u\",    \"\")","v":""},{"$f":"IF(AND(         HD$9>=$E42,       HD$9<=$F42, $D42<>0),     \"u\",    \"\")","v":""},{"$f":"IF(AND(         HE$9>=$E42,       HE$9<=$F42, $D42<>0),     \"u\",    \"\")","v":""},{"$f":"IF(AND(         HF$9>=$E42,       HF$9<=$F42, $D42<>0),     \"u\",    \"\")","v":""},{"$f":"IF(AND(         HG$9>=$E42,       HG$9<=$F42, $D42<>0),     \"u\",    \"\")","v":""},{"$f":"IF(AND(         HH$9>=$E42,       HH$9<=$F42, $D42<>0),     \"u\",    \"\")","v":""},{"$f":"IF(AND(         HI$9>=$E42,       HI$9<=$F42, $D42<>0),     \"u\",    \"\")","v":""},{"$f":"IF(AND(         HJ$9>=$E42,       HJ$9<=$F42, $D42<>0),     \"u\",    \"\")","v":""},{"$f":"IF(AND(         HK$9>=$E42,       HK$9<=$F42, $D42<>0),     \"u\",    \"\")","v":""},{"$f":"IF(AND(         HL$9>=$E42,       HL$9<=$F42, $D42<>0),     \"u\",    \"\")","v":""},{"$f":"IF(AND(         HM$9>=$E42,       HM$9<=$F42, $D42<>0),     \"u\",    \"\")","v":""},{"$f":"IF(AND(         HN$9>=$E42,       HN$9<=$F42, $D42<>0),     \"u\",    \"\")","v":""},{"$f":"IF(AND(         HO$9>=$E42,       HO$9<=$F42, $D42<>0),     \"u\",    \"\")","v":""},{"$f":"IF(AND(         HP$9>=$E42,       HP$9<=$F42, $D42<>0),     \"u\",    \"\")","v":""},{"$f":"IF(AND(         HQ$9>=$E42,       HQ$9<=$F42, $D42<>0),     \"u\",    \"\")","v":""},{"$f":"IF(AND(         HR$9>=$E42,       HR$9<=$F42, $D42<>0),     \"u\",    \"\")","v":""},{"$f":"IF(AND(         HS$9>=$E42,       HS$9<=$F42, $D42<>0),     \"u\",    \"\")","v":""},{"$f":"IF(AND(         HT$9>=$E42,       HT$9<=$F42, $D42<>0),     \"u\",    \"\")","v":""},{"$f":"IF(AND(         HU$9>=$E42,       HU$9<=$F42, $D42<>0),     \"u\",    \"\")","v":""},{"$f":"IF(AND(         HV$9>=$E42,       HV$9<=$F42, $D42<>0),     \"u\",    \"\")","v":""},{"$f":"IF(AND(         HW$9>=$E42,       HW$9<=$F42, $D42<>0),     \"u\",    \"\")","v":""},{"$f":"IF(AND(         HX$9>=$E42,       HX$9<=$F42, $D42<>0),     \"u\",    \"\")","v":""},{"$f":"IF(AND(         HY$9>=$E42,       HY$9<=$F42, $D42<>0),     \"u\",    \"\")","v":""},{"$f":"IF(AND(         HZ$9>=$E42,       HZ$9<=$F42, $D42<>0),     \"u\",    \"\")","v":""},{"$f":"IF(AND(         IA$9>=$E42,       IA$9<=$F42, $D42<>0),     \"u\",    \"\")","v":""},{"$f":"IF(AND(         IB$9>=$E42,       IB$9<=$F42, $D42<>0),     \"u\",    \"\")","v":""},{"$f":"IF(AND(         IC$9>=$E42,       IC$9<=$F42, $D42<>0),     \"u\",    \"\")","v":""},{"$f":"IF(AND(         ID$9>=$E42,       ID$9<=$F42, $D42<>0),     \"u\",    \"\")","v":""},{"$f":"IF(AND(         IE$9>=$E42,       IE$9<=$F42, $D42<>0),     \"u\",    \"\")","v":""},{"$f":"IF(AND(         IF$9>=$E42,       IF$9<=$F42, $D42<>0),     \"u\",    \"\")","v":""},{"$f":"IF(AND(         IG$9>=$E42,       IG$9<=$F42, $D42<>0),     \"u\",    \"\")","v":""},{"$f":"IF(AND(         IH$9>=$E42,       IH$9<=$F42, $D42<>0),     \"u\",    \"\")","v":""},{"$f":"IF(AND(         II$9>=$E42,       II$9<=$F42, $D42<>0),     \"u\",    \"\")","v":""},{"$f":"IF(AND(         IJ$9>=$E42,       IJ$9<=$F42, $D42<>0),     \"u\",    \"\")","v":""},{"$f":"IF(AND(         IK$9>=$E42,       IK$9<=$F42, $D42<>0),     \"u\",    \"\")","v":""},{"$f":"IF(AND(         IL$9>=$E42,       IL$9<=$F42, $D42<>0),     \"u\",    \"\")","v":""},{"$f":"IF(AND(         IM$9>=$E42,       IM$9<=$F42, $D42<>0),     \"u\",    \"\")","v":""},{"$f":"IF(AND(         IN$9>=$E42,       IN$9<=$F42, $D42<>0),     \"u\",    \"\")","v":""},{"$f":"IF(AND(         IO$9>=$E42,       IO$9<=$F42, $D42<>0),     \"u\",    \"\")","v":""},{"$f":"IF(AND(         IP$9>=$E42,       IP$9<=$F42, $D42<>0),     \"u\",    \"\")","v":""},{"$f":"IF(AND(         IQ$9>=$E42,       IQ$9<=$F42, $D42<>0),     \"u\",    \"\")","v":""},{"$f":"IF(AND(         IR$9>=$E42,       IR$9<=$F42, $D42<>0),     \"u\",    \"\")","v":""},{"$f":"IF(AND(         IS$9>=$E42,       IS$9<=$F42, $D42<>0),     \"u\",    \"\")","v":""},{"$f":"IF(AND(         IT$9>=$E42,       IT$9<=$F42, $D42<>0),     \"u\",    \"\")","v":""},{"$f":"IF(AND(         IU$9>=$E42,       IU$9<=$F42, $D42<>0),     \"u\",    \"\")","v":""},{"$f":"IF(AND(         IV$9>=$E42,       IV$9<=$F42, $D42<>0),     \"u\",    \"\")","v":""},{"$f":"IF(AND(         IW$9>=$E42,       IW$9<=$F42, $D42<>0),     \"u\",    \"\")","v":""},{"$f":"IF(AND(         IX$9>=$E42,       IX$9<=$F42, $D42<>0),     \"u\",    \"\")","v":""},{"$f":"IF(AND(         IY$9>=$E42,       IY$9<=$F42, $D42<>0),     \"u\",    \"\")","v":""},{"$f":"IF(AND(         IZ$9>=$E42,       IZ$9<=$F42, $D42<>0),     \"u\",    \"\")","v":""},{"$f":"IF(AND(         JA$9>=$E42,       JA$9<=$F42, $D42<>0),     \"u\",    \"\")","v":""},{"$f":"IF(AND(         JB$9>=$E42,       JB$9<=$F42, $D42<>0),     \"u\",    \"\")","v":""},{"$f":"IF(AND(         JC$9>=$E42,       JC$9<=$F42, $D42<>0),     \"u\",    \"\")","v":""},{"$f":"IF(AND(         JD$9>=$E42,       JD$9<=$F42, $D42<>0),     \"u\",    \"\")","v":""},{"$f":"IF(AND(         JE$9>=$E42,       JE$9<=$F42, $D42<>0),     \"u\",    \"\")","v":""},{"$f":"IF(AND(         JF$9>=$E42,       JF$9<=$F42, $D42<>0),     \"u\",    \"\")","v":""},{"$f":"IF(AND(         JG$9>=$E42,       JG$9<=$F42, $D42<>0),     \"u\",    \"\")","v":""},{"$f":"IF(AND(         JH$9>=$E42,       JH$9<=$F42, $D42<>0),     \"u\",    \"\")","v":""},{"$f":"IF(AND(         JI$9>=$E42,       JI$9<=$F42, $D42<>0),     \"u\",    \"\")","v":""},{"$f":"IF(AND(         JJ$9>=$E42,       JJ$9<=$F42, $D42<>0),     \"u\",    \"\")","v":""},{"$f":"IF(AND(         JK$9>=$E42,       JK$9<=$F42, $D42<>0),     \"u\",    \"\")","v":""},{"$f":"IF(AND(         JL$9>=$E42,       JL$9<=$F42, $D42<>0),     \"u\",    \"\")","v":""},{"$f":"IF(AND(         JM$9>=$E42,       JM$9<=$F42, $D42<>0),     \"u\",    \"\")","v":""},{"$f":"IF(AND(         JN$9>=$E42,       JN$9<=$F42, $D42<>0),     \"u\",    \"\")","v":""},{"$f":"IF(AND(         JO$9>=$E42,       JO$9<=$F42, $D42<>0),     \"u\",    \"\")","v":""},{"$f":"IF(AND(         JP$9>=$E42,       JP$9<=$F42, $D42<>0),     \"u\",    \"\")","v":""},{"$f":"IF(AND(         JQ$9>=$E42,       JQ$9<=$F42, $D42<>0),     \"u\",    \"\")","v":""},{"$f":"IF(AND(         JR$9>=$E42,       JR$9<=$F42, $D42<>0),     \"u\",    \"\")","v":""},{"$f":"IF(AND(         JS$9>=$E42,       JS$9<=$F42, $D42<>0),     \"u\",    \"\")","v":""},{"$f":"IF(AND(         JT$9>=$E42,       JT$9<=$F42, $D42<>0),     \"u\",    \"\")","v":""},{"$f":"IF(AND(         JU$9>=$E42,       JU$9<=$F42, $D42<>0),     \"u\",    \"\")","v":""},{"$f":"IF(AND(         JV$9>=$E42,       JV$9<=$F42, $D42<>0),     \"u\",    \"\")","v":""},{"$f":"IF(AND(         JW$9>=$E42,       JW$9<=$F42, $D42<>0),     \"u\",    \"\")","v":""},{"$f":"IF(AND(         JX$9>=$E42,       JX$9<=$F42, $D42<>0),     \"u\",    \"\")","v":""},{"$f":"IF(AND(         JY$9>=$E42,       JY$9<=$F42, $D42<>0),     \"u\",    \"\")","v":""},{"$f":"IF(AND(         JZ$9>=$E42,       JZ$9<=$F42, $D42<>0),     \"u\",    \"\")","v":""},{"$f":"IF(AND(         KA$9>=$E42,       KA$9<=$F42, $D42<>0),     \"u\",    \"\")","v":""},{"$f":"IF(AND(         KB$9>=$E42,       KB$9<=$F42, $D42<>0),     \"u\",    \"\")","v":""},{"$f":"IF(AND(         KC$9>=$E42,       KC$9<=$F42, $D42<>0),     \"u\",    \"\")","v":""},{"$f":"IF(AND(         KD$9>=$E42,       KD$9<=$F42, $D42<>0),     \"u\",    \"\")","v":""},{"$f":"IF(AND(         KE$9>=$E42,       KE$9<=$F42, $D42<>0),     \"u\",    \"\")","v":""},{"$f":"IF(AND(         KF$9>=$E42,       KF$9<=$F42, $D42<>0),     \"u\",    \"\")","v":""},{"$f":"IF(AND(         KG$9>=$E42,       KG$9<=$F42, $D42<>0),     \"u\",    \"\")","v":""},{"$f":"IF(AND(         KH$9>=$E42,       KH$9<=$F42, $D42<>0),     \"u\",    \"\")","v":""},{"$f":"IF(AND(         KI$9>=$E42,       KI$9<=$F42, $D42<>0),     \"u\",    \"\")","v":""},{"$f":"IF(AND(         KJ$9>=$E42,       KJ$9<=$F42, $D42<>0),     \"u\",    \"\")","v":""},{"$f":"IF(AND(         KK$9>=$E42,       KK$9<=$F42, $D42<>0),     \"u\",    \"\")","v":""},{"$f":"IF(AND(         KL$9>=$E42,       KL$9<=$F42, $D42<>0),     \"u\",    \"\")","v":""},{"$f":"IF(AND(         KM$9>=$E42,       KM$9<=$F42, $D42<>0),     \"u\",    \"\")","v":""},{"$f":"IF(AND(         KN$9>=$E42,       KN$9<=$F42, $D42<>0),     \"u\",    \"\")","v":""},{"$f":"IF(AND(         KO$9>=$E42,       KO$9<=$F42, $D42<>0),     \"u\",    \"\")","v":""},{"$f":"IF(AND(         KP$9>=$E42,       KP$9<=$F42, $D42<>0),     \"u\",    \"\")","v":""},{"$f":"IF(AND(         KQ$9>=$E42,       KQ$9<=$F42, $D42<>0),     \"u\",    \"\")","v":""},{"$f":"IF(AND(         KR$9>=$E42,       KR$9<=$F42, $D42<>0),     \"u\",    \"\")","v":""},{"$f":"IF(AND(         KS$9>=$E42,       KS$9<=$F42, $D42<>0),     \"u\",    \"\")","v":""},{"$f":"IF(AND(         KT$9>=$E42,       KT$9<=$F42, $D42<>0),     \"u\",    \"\")","v":""},{"$f":"IF(AND(         KU$9>=$E42,       KU$9<=$F42, $D42<>0),     \"u\",    \"\")","v":""},{"$f":"IF(AND(         KV$9>=$E42,       KV$9<=$F42, $D42<>0),     \"u\",    \"\")","v":""},{"$f":"IF(AND(         KW$9>=$E42,       KW$9<=$F42, $D42<>0),     \"u\",    \"\")","v":""},{"$f":"IF(AND(         KX$9>=$E42,       KX$9<=$F42, $D42<>0),     \"u\",    \"\")","v":""},{"$f":"IF(AND(         KY$9>=$E42,       KY$9<=$F42, $D42<>0),     \"u\",    \"\")","v":""},{"$f":"IF(AND(         KZ$9>=$E42,       KZ$9<=$F42, $D42<>0),     \"u\",    \"\")","v":""},{"$f":"IF(AND(         LA$9>=$E42,       LA$9<=$F42, $D42<>0),     \"u\",    \"\")","v":""},{"$f":"IF(AND(         LB$9>=$E42,       LB$9<=$F42, $D42<>0),     \"u\",    \"\")","v":""},{"$f":"IF(AND(         LC$9>=$E42,       LC$9<=$F42, $D42<>0),     \"u\",    \"\")","v":""},{"$f":"IF(AND(         LD$9>=$E42,       LD$9<=$F42, $D42<>0),     \"u\",    \"\")","v":""},{"$f":"IF(AND(         LE$9>=$E42,       LE$9<=$F42, $D42<>0),     \"u\",    \"\")","v":""},{"$f":"IF(AND(         LF$9>=$E42,       LF$9<=$F42, $D42<>0),     \"u\",    \"\")","v":""},{"$f":"IF(AND(         LG$9>=$E42,       LG$9<=$F42, $D42<>0),     \"u\",    \"\")","v":""},{"$f":"IF(AND(         LH$9>=$E42,       LH$9<=$F42, $D42<>0),     \"u\",    \"\")","v":""},{"$f":"IF(AND(         LI$9>=$E42,       LI$9<=$F42, $D42<>0),     \"u\",    \"\")","v":""},{"$f":"IF(AND(         LJ$9>=$E42,       LJ$9<=$F42, $D42<>0),     \"u\",    \"\")","v":""},{"$f":"IF(AND(         LK$9>=$E42,       LK$9<=$F42, $D42<>0),     \"u\",    \"\")","v":""},{"$f":"IF(AND(         LL$9>=$E42,       LL$9<=$F42, $D42<>0),     \"u\",    \"\")","v":""},{"$f":"IF(AND(         LM$9>=$E42,       LM$9<=$F42, $D42<>0),     \"u\",    \"\")","v":""},{"$f":"IF(AND(         LN$9>=$E42,       LN$9<=$F42, $D42<>0),     \"u\",    \"\")","v":""},{"$f":"IF(AND(         LO$9>=$E42,       LO$9<=$F42, $D42<>0),     \"u\",    \"\")","v":""},{"$f":"IF(AND(         LP$9>=$E42,       LP$9<=$F42, $D42<>0),     \"u\",    \"\")","v":""},{"$f":"IF(AND(         LQ$9>=$E42,       LQ$9<=$F42, $D42<>0),     \"u\",    \"\")","v":""},{"$f":"IF(AND(         LR$9>=$E42,       LR$9<=$F42, $D42<>0),     \"u\",    \"\")","v":""},{"$f":"IF(AND(         LS$9>=$E42,       LS$9<=$F42, $D42<>0),     \"u\",    \"\")","v":""},{"$f":"IF(AND(         LT$9>=$E42,       LT$9<=$F42, $D42<>0),     \"u\",    \"\")","v":""},{"$f":"IF(AND(         LU$9>=$E42,       LU$9<=$F42, $D42<>0),     \"u\",    \"\")","v":""},{"$f":"IF(AND(         LV$9>=$E42,       LV$9<=$F42, $D42<>0),     \"u\",    \"\")","v":""},{"$f":"IF(AND(         LW$9>=$E42,       LW$9<=$F42, $D42<>0),     \"u\",    \"\")","v":""},{"$f":"IF(AND(         LX$9>=$E42,       LX$9<=$F42, $D42<>0),     \"u\",    \"\")","v":""},{"$f":"IF(AND(         LY$9>=$E42,       LY$9<=$F42, $D42<>0),     \"u\",    \"\")","v":""},{"$f":"IF(AND(         LZ$9>=$E42,       LZ$9<=$F42, $D42<>0),     \"u\",    \"\")","v":""},{"$f":"IF(AND(         MA$9>=$E42,       MA$9<=$F42, $D42<>0),     \"u\",    \"\")","v":""},{"$f":"IF(AND(         MB$9>=$E42,       MB$9<=$F42, $D42<>0),     \"u\",    \"\")","v":""},{"$f":"IF(AND(         MC$9>=$E42,       MC$9<=$F42, $D42<>0),     \"u\",    \"\")","v":""},{"$f":"IF(AND(         MD$9>=$E42,       MD$9<=$F42, $D42<>0),     \"u\",    \"\")","v":""},{"$f":"IF(AND(         ME$9>=$E42,       ME$9<=$F42, $D42<>0),     \"u\",    \"\")","v":""},{"$f":"IF(AND(         MF$9>=$E42,       MF$9<=$F42, $D42<>0),     \"u\",    \"\")","v":""},{"$f":"IF(AND(         MG$9>=$E42,       MG$9<=$F42, $D42<>0),     \"u\",    \"\")","v":""},{"$f":"IF(AND(         MH$9>=$E42,       MH$9<=$F42, $D42<>0),     \"u\",    \"\")","v":""},{"$f":"IF(AND(         MI$9>=$E42,       MI$9<=$F42, $D42<>0),     \"u\",    \"\")","v":""},{"$f":"IF(AND(         MJ$9>=$E42,       MJ$9<=$F42, $D42<>0),     \"u\",    \"\")","v":""},{"$f":"IF(AND(         MK$9>=$E42,       MK$9<=$F42, $D42<>0),     \"u\",    \"\")","v":""},{"$f":"IF(AND(         ML$9>=$E42,       ML$9<=$F42, $D42<>0),     \"u\",    \"\")","v":""},{"$f":"IF(AND(         MM$9>=$E42,       MM$9<=$F42, $D42<>0),     \"u\",    \"\")","v":""},{"$f":"IF(AND(         MN$9>=$E42,       MN$9<=$F42, $D42<>0),     \"u\",    \"\")","v":""},{"$f":"IF(AND(         MO$9>=$E42,       MO$9<=$F42, $D42<>0),     \"u\",    \"\")","v":""},{"$f":"IF(AND(         MP$9>=$E42,       MP$9<=$F42, $D42<>0),     \"u\",    \"\")","v":""},{"$f":"IF(AND(         MQ$9>=$E42,       MQ$9<=$F42, $D42<>0),     \"u\",    \"\")","v":""},{"$f":"IF(AND(         MR$9>=$E42,       MR$9<=$F42, $D42<>0),     \"u\",    \"\")","v":""},{"$f":"IF(AND(         MS$9>=$E42,       MS$9<=$F42, $D42<>0),     \"u\",    \"\")","v":""},{"$f":"IF(AND(         MT$9>=$E42,       MT$9<=$F42, $D42<>0),     \"u\",    \"\")","v":""},{"$f":"IF(AND(         MU$9>=$E42,       MU$9<=$F42, $D42<>0),     \"u\",    \"\")","v":""},{"$f":"IF(AND(         MV$9>=$E42,       MV$9<=$F42, $D42<>0),     \"u\",    \"\")","v":""},{"$f":"IF(AND(         MW$9>=$E42,       MW$9<=$F42, $D42<>0),     \"u\",    \"\")","v":""},{"$f":"IF(AND(         MX$9>=$E42,       MX$9<=$F42, $D42<>0),     \"u\",    \"\")","v":""},{"$f":"IF(AND(         MY$9>=$E42,       MY$9<=$F42, $D42<>0),     \"u\",    \"\")","v":""},{"$f":"IF(AND(         MZ$9>=$E42,       MZ$9<=$F42, $D42<>0),     \"u\",    \"\")","v":""},{"$f":"IF(AND(         NA$9>=$E42,       NA$9<=$F42, $D42<>0),     \"u\",    \"\")","v":""},{"$f":"IF(AND(         NB$9>=$E42,       NB$9<=$F42, $D42<>0),     \"u\",    \"\")","v":""},{"$f":"IF(AND(         NC$9>=$E42,       NC$9<=$F42, $D42<>0),     \"u\",    \"\")","v":""},{"$f":"IF(AND(         ND$9>=$E42,       ND$9<=$F42, $D42<>0),     \"u\",    \"\")","v":""},{"$f":"IF(AND(         NE$9>=$E42,       NE$9<=$F42, $D42<>0),     \"u\",    \"\")","v":""},{"$f":"IF(AND(         NF$9>=$E42,       NF$9<=$F42, $D42<>0),     \"u\",    \"\")","v":""},{"$f":"IF(AND(         NG$9>=$E42,       NG$9<=$F42, $D42<>0),     \"u\",    \"\")","v":""},{"$f":"IF(AND(         NH$9>=$E42,       NH$9<=$F42, $D42<>0),     \"u\",    \"\")","v":""},{"$f":"IF(AND(         NI$9>=$E42,       NI$9<=$F42, $D42<>0),     \"u\",    \"\")","v":""},{"$f":"IF(AND(         NJ$9>=$E42,       NJ$9<=$F42, $D42<>0),     \"u\",    \"\")","v":""},{"$f":"IF(AND(         NK$9>=$E42,       NK$9<=$F42, $D42<>0),     \"u\",    \"\")","v":""},{"$f":"IF(AND(         NL$9>=$E42,       NL$9<=$F42, $D42<>0),     \"u\",    \"\")","v":""},{"$f":"IF(AND(         NM$9>=$E42,       NM$9<=$F42, $D42<>0),     \"u\",    \"\")","v":""},{"$f":"IF(AND(         NN$9>=$E42,       NN$9<=$F42, $D42<>0),     \"u\",    \"\")","v":""},{"$f":"IF(AND(         NO$9>=$E42,       NO$9<=$F42, $D42<>0),     \"u\",    \"\")","v":""},{"$f":"IF(AND(         NP$9>=$E42,       NP$9<=$F42, $D42<>0),     \"u\",    \"\")","v":""},{"$f":"IF(AND(         NQ$9>=$E42,       NQ$9<=$F42, $D42<>0),     \"u\",    \"\")","v":""},{"$f":"IF(AND(         NR$9>=$E42,       NR$9<=$F42, $D42<>0),     \"u\",    \"\")","v":""},{"$f":"IF(AND(         NS$9>=$E42,       NS$9<=$F42, $D42<>0),     \"u\",    \"\")","v":""},{"$f":"IF(AND(         NT$9>=$E42,       NT$9<=$F42, $D42<>0),     \"u\",    \"\")","v":""},{"$f":"IF(AND(         NU$9>=$E42,       NU$9<=$F42, $D42<>0),     \"u\",    \"\")","v":""},{"$f":"IF(AND(         NV$9>=$E42,       NV$9<=$F42, $D42<>0),     \"u\",    \"\")","v":""},{"$f":"IF(AND(         NW$9>=$E42,       NW$9<=$F42, $D42<>0),     \"u\",    \"\")","v":""},{"$f":"IF(AND(         NX$9>=$E42,       NX$9<=$F42, $D42<>0),     \"u\",    \"\")","v":""},{"$f":"IF(AND(         NY$9>=$E42,       NY$9<=$F42, $D42<>0),     \"u\",    \"\")","v":""},{"$f":"IF(AND(         NZ$9>=$E42,       NZ$9<=$F42, $D42<>0),     \"u\",    \"\")","v":""},{"$f":"IF(AND(         OA$9>=$E42,       OA$9<=$F42, $D42<>0),     \"u\",    \"\")","v":""},{"$f":"IF(AND(         OB$9>=$E42,       OB$9<=$F42, $D42<>0),     \"u\",    \"\")","v":""},{"$f":"IF(AND(         OC$9>=$E42,       OC$9<=$F42, $D42<>0),     \"u\",    \"\")","v":""},{"$f":"IF(AND(         OD$9>=$E42,       OD$9<=$F42, $D42<>0),     \"u\",    \"\")","v":""},{"$f":"IF(AND(         OE$9>=$E42,       OE$9<=$F42, $D42<>0),     \"u\",    \"\")","v":""},{"$f":"IF(AND(         OF$9>=$E42,       OF$9<=$F42, $D42<>0),     \"u\",    \"\")","v":""},{"$f":"IF(AND(         OG$9>=$E42,       OG$9<=$F42, $D42<>0),     \"u\",    \"\")","v":""},{"$f":"IF(AND(         OH$9>=$E42,       OH$9<=$F42, $D42<>0),     \"u\",    \"\")","v":""},{"$f":"IF(AND(         OI$9>=$E42,       OI$9<=$F42, $D42<>0),     \"u\",    \"\")","v":""},{"$f":"IF(AND(         OJ$9>=$E42,       OJ$9<=$F42, $D42<>0),     \"u\",    \"\")","v":""},{"$f":"IF(AND(         OK$9>=$E42,       OK$9<=$F42, $D42<>0),     \"u\",    \"\")","v":""},{"$f":"IF(AND(         OL$9>=$E42,       OL$9<=$F42, $D42<>0),     \"u\",    \"\")","v":""}]
[null,null,null,null,null,null,"",0.1,"","","","","","","","","","","","","","","","","","","","","","","","","","","","","","","","","","","","","","","","","","","","","","","","","","","","","","","","","","","","","","","","","","","","","","","","","","","","","","","","","","","","","","","","","","","","","","","","","","","","","","","","","","","","","","","","","","","","","","","","","","","","","","","","","","","","","","","","","","","","","","","","","","","","","","","","","","","","","","","","","","","","","","","","","","","","","","","","","","","","","","","","","","","","","","","","","","","","","","","","","","","","","","","","","","","","","","","","","","","","","","","","","","","","","","","","","","","","","","","","","","","","","","","","","","","","","","","","","","","","","","","","","","","","","","","","","","","","","","","","","","","","","","","","","","","","","","","","","","","","","","","","","","","","","","","","","","","","","","","","","","","","","","","","","","","","","","","","","","","","","","","","","","","","","","","","","","","","","","","","","","","","","","","","","","","","","","","","","","","","","","","","","","","","","","","","","",""]
["Pädagogischer Tag",null,null,null,null,null,{"$f":"IF(AND(    E44=0,F44=0),  \"\",         IF($C$5<=E44,0,IF($C$5>F44,1,_xlfn.DAYS($C$5,E44)/_xlfn.DAYS(F44,E44))))","v":""},0.5,{"$f":"IF(AND(         I$9>=$E44,       I$9<=$F44, $D44<>0),     \"u\",    \"\")","v":""},"","","","","","","","","",{"$f":"IF(AND(         S$9>=$E44,       S$9<=$F44, $D44<>0),     \"u\",    \"\")","v":""},"","","","","","","","","",{"$f":"IF(AND(         AC$9>=$E44,       AC$9<=$F44, $D44<>0),     \"u\",    \"\")","v":""},"","","","","","","","","",{"$f":"IF(AND(         AM$9>=$E44,       AM$9<=$F44, $D44<>0),     \"u\",    \"\")","v":""},"","","","","","","","","",{"$f":"IF(AND(         AW$9>=$E44,       AW$9<=$F44, $D44<>0),     \"u\",    \"\")","v":""},"","","","","","","","","",{"$f":"IF(AND(         BG$9>=$E44,       BG$9<=$F44, $D44<>0),     \"u\",    \"\")","v":""},"","","","","","","","","",{"$f":"IF(AND(         BQ$9>=$E44,       BQ$9<=$F44, $D44<>0),     \"u\",    \"\")","v":""},"","","","","","","","","",{"$f":"IF(AND(         CA$9>=$E44,       CA$9<=$F44, $D44<>0),     \"u\",    \"\")","v":""},"","","","","","","","","",{"$f":"IF(AND(         CK$9>=$E44,       CK$9<=$F44, $D44<>0),     \"u\",    \"\")","v":""},"","","","","","","","","",{"$f":"IF(AND(         CU$9>=$E44,       CU$9<=$F44, $D44<>0),     \"u\",    \"\")","v":""},"","","","","","","","","",{"$f":"IF(AND(         DE$9>=$E44,       DE$9<=$F44, $D44<>0),     \"u\",    \"\")","v":""},"","","","","","","","","",{"$f":"IF(AND(         DO$9>=$E44,       DO$9<=$F44, $D44<>0),     \"u\",    \"\")","v":""},"","","","","","","","","",{"$f":"IF(AND(         DY$9>=$E44,       DY$9<=$F44, $D44<>0),     \"u\",    \"\")","v":""},"","","","","","","","","",{"$f":"IF(AND(         EI$9>=$E44,       EI$9<=$F44, $D44<>0),     \"u\",    \"\")","v":""},"","","","","","","","","",{"$f":"IF(AND(         ES$9>=$E44,       ES$9<=$F44, $D44<>0),     \"u\",    \"\")","v":""},"","","","","","","","","",{"$f":"IF(AND(         FC$9>=$E44,       FC$9<=$F44, $D44<>0),     \"u\",    \"\")","v":""},"","","","","","","","","",{"$f":"IF(AND(         FM$9>=$E44,       FM$9<=$F44, $D44<>0),     \"u\",    \"\")","v":""},"","","","","","","","","",{"$f":"IF(AND(         FW$9>=$E44,       FW$9<=$F44, $D44<>0),     \"u\",    \"\")","v":""},"","","","","","","","","",{"$f":"IF(AND(         GG$9>=$E44,       GG$9<=$F44, $D44<>0),     \"u\",    \"\")","v":""},"","","","","","","","","",{"$f":"IF(AND(         GQ$9>=$E44,       GQ$9<=$F44, $D44<>0),     \"u\",    \"\")","v":""},"","","","","","","","","",{"$f":"IF(AND(         HA$9>=$E44,       HA$9<=$F44, $D44<>0),     \"u\",    \"\")","v":""},"","","","","","","","","",{"$f":"IF(AND(         HK$9>=$E44,       HK$9<=$F44, $D44<>0),     \"u\",    \"\")","v":""},"","","","","","","","","",{"$f":"IF(AND(         HU$9>=$E44,       HU$9<=$F44, $D44<>0),     \"u\",    \"\")","v":""},"","","","","","","","","",{"$f":"IF(AND(         IE$9>=$E44,       IE$9<=$F44, $D44<>0),     \"u\",    \"\")","v":""},"","","","","","","","","",{"$f":"IF(AND(         IO$9>=$E44,       IO$9<=$F44, $D44<>0),     \"u\",    \"\")","v":""},"","","","","","","","","",{"$f":"IF(AND(         IY$9>=$E44,       IY$9<=$F44, $D44<>0),     \"u\",    \"\")","v":""},"","","","","","","","","",{"$f":"IF(AND(         JI$9>=$E44,       JI$9<=$F44, $D44<>0),     \"u\",    \"\")","v":""},"","","","","","","","","",{"$f":"IF(AND(         JS$9>=$E44,       JS$9<=$F44, $D44<>0),     \"u\",    \"\")","v":""},"","","","","","","","","",{"$f":"IF(AND(         KC$9>=$E44,       KC$9<=$F44, $D44<>0),     \"u\",    \"\")","v":""},"","","","","","","","","",{"$f":"IF(AND(         KM$9>=$E44,       KM$9<=$F44, $D44<>0),     \"u\",    \"\")","v":""},"","","","","","","","","",{"$f":"IF(AND(         KW$9>=$E44,       KW$9<=$F44, $D44<>0),     \"u\",    \"\")","v":""},"","","","","","","","","",{"$f":"IF(AND(         LG$9>=$E44,       LG$9<=$F44, $D44<>0),     \"u\",    \"\")","v":""},"","","","","","","","","",{"$f":"IF(AND(         LQ$9>=$E44,       LQ$9<=$F44, $D44<>0),     \"u\",    \"\")","v":""},"","","","","","","","","",{"$f":"IF(AND(         MA$9>=$E44,       MA$9<=$F44, $D44<>0),     \"u\",    \"\")","v":""},"","","","","","","","","",{"$f":"IF(AND(         MK$9>=$E44,       MK$9<=$F44, $D44<>0),     \"u\",    \"\")","v":""},"","","","","","","","","",{"$f":"IF(AND(         MU$9>=$E44,       MU$9<=$F44, $D44<>0),     \"u\",    \"\")","v":""},"","","","","","","","","",{"$f":"IF(AND(         NE$9>=$E44,       NE$9<=$F44, $D44<>0),     \"u\",    \"\")","v":""},"","","","","","","","","",{"$f":"IF(AND(         NO$9>=$E44,       NO$9<=$F44, $D44<>0),     \"u\",    \"\")","v":""},"","","","","","","","","",{"$f":"IF(AND(         NY$9>=$E44,       NY$9<=$F44, $D44<>0),     \"u\",    \"\")","v":""},"","","","","","","","","","","","",""]
[null,null,null,null,null,null,{"$f":"IF(AND(    E45=0,F45=0),  \"\",         IF($C$5<=E45,0,IF($C$5>F45,1,_xlfn.DAYS($C$5,E45)/_xlfn.DAYS(F45,E45))))","v":""},0.4,"","","","","","","","","","","","","","","","","","","","","","","","","","","","","","","","","","","","","","","","","","","","","","","","","","","","","","","","","","","","","","","","","","","","","","","","","","","","","","","","","","","","","","","","","","","","","","","","","","","","","","","","","","","","","","","","","","","","","","","","","","","","","","","","","","","","","","","","","","","","","","","","","","","","","","","","","","","","","","","","","","","","","","","","","","","","","","","","","","","","","","","","","","","","","","","","","","","","","","","","","","","","","","","","","","","","","","","","","","","","","","","","","","","","","","","","","","","","","","","","","","","","","","","","","","","","","","","","","","","","","","","","","","","","","","","","","","","","","","","","","","","","","","","","","","","","","","","","","","","","","","","","","","","","","","","","","","","","","","","","","","","","","","","","","","","","","","","","","","","","","","","","","","","","","","","","","","","","","","","","","","","","","","","","","","","","","","","","","","","","","","","","","","","","","","","","","",""]
[null,null,null,null,null,null,{"$f":"IF(AND(    E46=0,F46=0),  \"\",         IF($C$5<=E46,0,IF($C$5>F46,1,_xlfn.DAYS($C$5,E46)/_xlfn.DAYS(F46,E46))))","v":""},null,"","","","","","","","","","","","","","","","","","","","","","","","","","","","","","","","","","","","","","","","","","","","","","","","","","","","","","","","","","","","","","","","","","","","","","","","","","","","","","","","","","","","","","","","","","","","","","","","","","","","","","","","","","","","","","","","","","","","","","","","","","","","","","","","","","","","","","","","","","","","","","","","","","","","","","","","","","","","","","","","","","","","","","","","","","","","","","","","","","","","","","","","","","","","","","","","","","","","","","","","","","","","","","","","","","","","","","","","","","","","","","","","","","","","","","","","","","","","","","","","","","","","","","","","","","","","","","","","","","","","","","","","","","","","","","","","","","","","","","","","","","","","","","","","","","","","","","","","","","","","","","","","","","","","","","","","","","","","","","","","","","","","","","","","","","","","","","","","","","","","","","","","","","","","","","","","","","","","","","","","","","","","","","","","","","","","","","","","","","","","","","","","","","","","","","","","","",""]
[null,null,null,null,null,null,{"$f":"IF(AND(    E47=0,F47=0),  \"\",         IF($C$5<=E47,0,IF($C$5>F47,1,_xlfn.DAYS($C$5,E47)/_xlfn.DAYS(F47,E47))))","v":""},0.3,"","","","","","","","","","","","","","","","","","","","","","","","","","","","","","","","","","","","","","","","","","","","","","","","","","","","","","","","","","","","","","","","","","","","","","","","","","","","","","","","","","","","","","","","","","","","","","","","","","","","","","","","","","","","","","","","","","","","","","","","","","","","","","","","","","","","","","","","","","","","","","","","","","","","","","","","","","","","","","","","","","","","","","","","","","","","","","","","","","","","","","","","","","","","","","","","","","","","","","","","","","","","","","","","","","","","","","","","","","","","","","","","","","","","","","","","","","","","","","","","","","","","","","","","","","","","","","","","","","","","","","","","","","","","","","","","","","","","","","","","","","","","","","","","","","","","","","","","","","","","","","","","","","","","","","","","","","","","","","","","","","","","","","","","","","","","","","","","","","","","","","","","","","","","","","","","","","","","","","","","","","","","","","","","","","","","","","","","","","","","","","","","","","","","","","","","","",""]
[null,null,null,null,null,null,{"$f":"IF(AND(    E49=0,F49=0),  \"\",         IF($C$5<=E49,0,IF($C$5>F49,1,_xlfn.DAYS($C$5,E49)/_xlfn.DAYS(F49,E49))))","v":""},null,"","","","","","","","","","","","","","","","","","","","","","","","","","","","","","","","","","","","","","","","","","","","","","","","","","","","","","","","","","","","","","","","","","","","","","","","","","","","","","","","","","","","","","","","","","","","","","","","","","","","","","","","","","","","","","","","","","","","","","","","","","","","","","","","","","","","","","","","","","","","","","","","","","","","","","","","","","","","","","","","","","","","","","","","","","","","","","","","","","","","","","","","","","","","","","","","","","","","","","","","","","","","","","","","","","","","","","","","","","","","","","","","","","","","","","","","","","","","","","","","","","","","","","","","","","","","","","","","","","","","","","","","","","","","","","","","","","","","","","","","","","","","","","","","","","","","","","","","","","","","","","","","","","","","","","","","","","","","","","","","","","","","","","","","","","","","","","","","","","","","","","","","","","","","","","","","","","","","","","","","","","","","","","","","","","","","","","","","","","","","","","","","","","","","","","","","","",""]
[null,null,null,null,null,null,{"$f":"IF(AND(    E50=0,F50=0),  \"\",         IF($C$5<=E50,0,IF($C$5>F50,1,_xlfn.DAYS($C$5,E50)/_xlfn.DAYS(F50,E50))))","v":""},null,"","","","","","","","","","","","","","","","","","","","","","","","","","","","","","","","","","","","","","","","","","","","","","","","","","","","","","","","","","","","","","","","","","","","","","","","","","","","","","","","","","","","","","","","","","","","","","","","","","","","","","","","","","","","","","","","","","","","","","","","","","","","","","","","","","","","","","","","","","","","","","","","","","","","","","","","","","","","","","","","","","","","","","","","","","","","","","","","","","","","","","","","","","","","","","","","","","","","","","","","","","","","","","","","","","","","","","","","","","","","","","","","","","","","","","","","","","","","","","","","","","","","","","","","","","","","","","","","","","","","","","","","","","","","","","","","","","","","","","","","","","","","","","","","","","","","","","","","","","","","","","","","","","","","","","","","","","","","","","","","","","","","","","","","","","","","","","","","","","","","","","","","","","","","","","","","","","","","","","","","","","","","","","","","","","","","","","","","","","","","","","","","","","","","","","","","","",""]
[null,null,null,null,null,null,{"$f":"IF(AND(    E51=0,F51=0),  \"\",         IF($C$5<=E51,0,IF($C$5>F51,1,_xlfn.DAYS($C$5,E51)/_xlfn.DAYS(F51,E51))))","v":""},null,"","","","","","","","","","","","","","","","","","","","","","","","","","","","","","","","","","","","","","","","","","","","","","","","","","","","","","","","","","","","","","","","","","","","","","","","","","","","","","","","","","","","","","","","","","","","","","","","","","","","","","","","","","","","","","","","","","","","","","","","","","","","","","","","","","","","","","","","","","","","","","","","","","","","","","","","","","","","","","","","","","","","","","","","","","","","","","","","","","","","","","","","","","","","","","","","","","","","","","","","","","","","","","","","","","","","","","","","","","","","","","","","","","","","","","","","","","","","","","","","","","","","","","","","","","","","","","","","","","","","","","","","","","","","","","","","","","","","","","","","","","","","","","","","","","","","","","","","","","","","","","","","","","","","","","","","","","","","","","","","","","","","","","","","","","","","","","","","","","","","","","","","","","","","","","","","","","","","","","","","","","","","","","","","","","","","","","","","","","","","","","","","","","","","","","","","","",""]
[null,null,null,null,null,null,{"$f":"IF(AND(    E51=0,F51=0),  \"\",         IF($C$5<=E51,0,IF($C$5>F51,1,_xlfn.DAYS($C$5,E51)/_xlfn.DAYS(F51,E51))))","v":""},null,"","","","","","","","","","","","","","","","","","","","","","","","","","","","","","","","","","","","","","","","","","","","","","","","","","","","","","","","","","","","","","","","","","","","","","","","","","","","","","","","","","","","","","","","","","","","","","","","","","","","","","","","","","","","","","","","","","","","","","","","","","","","","","","","","","","","","","","","","","","","","","","","","","","","","","","","","","","","","","","","","","","","","","","","","","","","","","","","","","","","","","","","","","","","","","","","","","","","","","","","","","","","","","","","","","","","","","","","","","","","","","","","","","","","","","","","","","","","","","","","","","","","","","","","","","","","","","","","","","","","","","","","","","","","","","","","","","","","","","","","","","","","","","","","","","","","","","","","","","","","","","","","","","","","","","","","","","","","","","","","","","","","","","","","","","","","","","","","","","","","","","","","","","","","","","","","","","","","","","","","","","","","","","","","","","","","","","","","","","","","","","","","","","","","","","","","","",""]
[null,null,null,null,null,null,"",null,"","","","","","","","","","","","","","","","","","","","","","","","","","","","","","","","","","","","","","","","","","","","","","","","","","","","","","","","","","","","","","","","","","","","","","","","","","","","","","","","","","","","","","","","","","","","","","","","","","","","","","","","","","","","","","","","","","","","","","","","","","","","","","","","","","","","","","","","","","","","","","","","","","","","","","","","","","","","","","","","","","","","","","","","","","","","","","","","","","","","","","","","","","","","","","","","","","","","","","","","","","","","","","","","","","","","","","","","","","","","","","","","","","","","","","","","","","","","","","","","","","","","","","","","","","","","","","","","","","","","","","","","","","","","","","","","","","","","","","","","","","","","","","","","","","","","","","","","","","","","","","","","","","","","","","","","","","","","","","","","","","","","","","","","","","","","","","","","","","","","","","","","","","","","","","","","","","","","","","","","","","","","","","","","","","","","","","","","","","","","","","","","","","","","","","","","","",""]
["Erster Entwurf Schutzkonzept",null,null,null,null,null,"",null,"","","","","","","","","","","","","","","","","","","","","","","","","","","","","","","","","","","","","","","","","","","","","","","","","","","","","","","","","","","","","","","","","","","","","","","","","","","","","","","","","","","","","","","","","","","","","","","","","","","","","","","","","","","","","","","","","","","","","","","","","","","","","","","","","","","","","","","","","","","","","","","","","","","","","","","","","","","","","","","","","","","","","","","","","","","","","","","","","","","","","","","","","","","","","","","","","","","","","","","","","","","","","","","","","","","","","","","","","","","","","","","","","","","","","","","","","","","","","","","","","","","","","","","","","","","","","","","","","","","","","","","","","","","","","","","","","","","","","","","","","","","","","","","","","","","","","","","","","","","","","","","","","","","","","","","","","","","","","","","","","","","","","","","","","","","","","","","","","","","","","","","","","","","","","","","","","","","","","","","","","","","","","","","","","","","","","","","","","","","","","","","","","","","","","","","","","",""]
[null,null,null,null,null,null,"",null,{"$f":"IF(AND(         I$9>=$E54,       I$9<=$F54, $D54<>0),     \"u\",    \"\")","v":""},"","","","","","","","","",{"$f":"IF(AND(         S$9>=$E54,       S$9<=$F54, $D54<>0),     \"u\",    \"\")","v":""},"","","","","","","","","",{"$f":"IF(AND(         AC$9>=$E54,       AC$9<=$F54, $D54<>0),     \"u\",    \"\")","v":""},"","","","","","","","","",{"$f":"IF(AND(         AM$9>=$E54,       AM$9<=$F54, $D54<>0),     \"u\",    \"\")","v":""},"","","","","","","","","",{"$f":"IF(AND(         AW$9>=$E54,       AW$9<=$F54, $D54<>0),     \"u\",    \"\")","v":""},"","","","","","","","","",{"$f":"IF(AND(         BG$9>=$E54,       BG$9<=$F54, $D54<>0),     \"u\",    \"\")","v":""},"","","","","","","","","",{"$f":"IF(AND(         BQ$9>=$E54,       BQ$9<=$F54, $D54<>0),     \"u\",    \"\")","v":""},"","","","","","","","","",{"$f":"IF(AND(         CA$9>=$E54,       CA$9<=$F54, $D54<>0),     \"u\",    \"\")","v":""},"","","","","","","","","",{"$f":"IF(AND(         CK$9>=$E54,       CK$9<=$F54, $D54<>0),     \"u\",    \"\")","v":""},"","","","","","","","","",{"$f":"IF(AND(         CU$9>=$E54,       CU$9<=$F54, $D54<>0),     \"u\",    \"\")","v":""},"","","","","","","","","",{"$f":"IF(AND(         DE$9>=$E54,       DE$9<=$F54, $D54<>0),     \"u\",    \"\")","v":""},"","","","","","","","","",{"$f":"IF(AND(         DO$9>=$E54,       DO$9<=$F54, $D54<>0),     \"u\",    \"\")","v":""},"","","","","","","","","",{"$f":"IF(AND(         DY$9>=$E54,       DY$9<=$F54, $D54<>0),     \"u\",    \"\")","v":""},"","","","","","","","","",{"$f":"IF(AND(         EI$9>=$E54,       EI$9<=$F54, $D54<>0),     \"u\",    \"\")","v":""},"","","","","","","","","",{"$f":"IF(AND(         ES$9>=$E54,       ES$9<=$F54, $D54<>0),     \"u\",    \"\")","v":""},"","","","","","","","","",{"$f":"IF(AND(         FC$9>=$E54,       FC$9<=$F54, $D54<>0),     \"u\",    \"\")","v":""},"","","","","","","","","",{"$f":"IF(AND(         FM$9>=$E54,       FM$9<=$F54, $D54<>0),     \"u\",    \"\")","v":""},"","","","","","","","","",{"$f":"IF(AND(         FW$9>=$E54,       FW$9<=$F54, $D54<>0),     \"u\",    \"\")","v":""},"","","","","","","","","",{"$f":"IF(AND(         GG$9>=$E54,       GG$9<=$F54, $D54<>0),     \"u\",    \"\")","v":""},"","","","","","","","","",{"$f":"IF(AND(         GQ$9>=$E54,       GQ$9<=$F54, $D54<>0),     \"u\",    \"\")","v":""},"","","","","","","","","",{"$f":"IF(AND(         HA$9>=$E54,       HA$9<=$F54, $D54<>0),     \"u\",    \"\")","v":""},"","","","","","","","","",{"$f":"IF(AND(         HK$9>=$E54,       HK$9<=$F54, $D54<>0),     \"u\",    \"\")","v":""},"","","","","","","","","",{"$f":"IF(AND(         HU$9>=$E54,       HU$9<=$F54, $D54<>0),     \"u\",    \"\")","v":""},"","","","","","","","","",{"$f":"IF(AND(         IE$9>=$E54,       IE$9<=$F54, $D54<>0),     \"u\",    \"\")","v":""},"","","","","","","","","",{"$f":"IF(AND(         IO$9>=$E54,       IO$9<=$F54, $D54<>0),     \"u\",    \"\")","v":""},"","","","","","","","","",{"$f":"IF(AND(         IY$9>=$E54,       IY$9<=$F54, $D54<>0),     \"u\",    \"\")","v":""},"","","","","","","","","",{"$f":"IF(AND(         JI$9>=$E54,       JI$9<=$F54, $D54<>0),     \"u\",    \"\")","v":""},"","","","","","","","","",{"$f":"IF(AND(         JS$9>=$E54,       JS$9<=$F54, $D54<>0),     \"u\",    \"\")","v":""},"","","","","","","","","",{"$f":"IF(AND(         KC$9>=$E54,       KC$9<=$F54, $D54<>0),     \"u\",    \"\")","v":""},"","","","","","","","","",{"$f":"IF(AND(         KM$9>=$E54,       KM$9<=$F54, $D54<>0),     \"u\",    \"\")","v":""},"","","","","","","","","",{"$f":"IF(AND(         KW$9>=$E54,       KW$9<=$F54, $D54<>0),     \"u\",    \"\")","v":""},"","","","","","","","","",{"$f":"IF(AND(         LG$9>=$E54,       LG$9<=$F54, $D54<>0),     \"u\",    \"\")","v":""},"","","","","","","","","",{"$f":"IF(AND(         LQ$9>=$E54,       LQ$9<=$F54, $D54<>0),     \"u\",    \"\")","v":""},"","","","","","","","","",{"$f":"IF(AND(         MA$9>=$E54,       MA$9<=$F54, $D54<>0),     \"u\",    \"\")","v":""},"","","","","","","","","",{"$f":"IF(AND(         MK$9>=$E54,       MK$9<=$F54, $D54<>0),     \"u\",    \"\")","v":""},"","","","","","","","","",{"$f":"IF(AND(         MU$9>=$E54,       MU$9<=$F54, $D54<>0),     \"u\",    \"\")","v":""},"","","","","","","","","",{"$f":"IF(AND(         NE$9>=$E54,       NE$9<=$F54, $D54<>0),     \"u\",    \"\")","v":""},"","","","","","","","","",{"$f":"IF(AND(         NO$9>=$E54,       NO$9<=$F54, $D54<>0),     \"u\",    \"\")","v":""},"","","","","","","","","",{"$f":"IF(AND(         NY$9>=$E54,       NY$9<=$F54, $D54<>0),     \"u\",    \"\")","v":""},"","","","","","","","","","","","",""]
[null,null,null,null,null,null,"",null,"","","","","","","","","","","","","","","","","","","","","","","","","","","","","","","","","","","","","","","","","","","","","","","","","","","","","","","","","","","","","","","","","","","","","","","","","","","","","","","","","","","","","","","","","","","","","","","","","","","","","","","","","","","","","","","","","","","","","","","","","","","","","","","","","","","","","","","","","","","","","","","","","","","","","","","","","","","","","","","","","","","","","","","","","","","","","","","","","","","","","","","","","","","","","","","","","","","","","","","","","","","","","","","","","","","","","","","","","","","","","","","","","","","","","","","","","","","","","","","","","","","","","","","","","","","","","","","","","","","","","","","","","","","","","","","","","","","","","","","","","","","","","","","","","","","","","","","","","","","","","","","","","","","","","","","","","","","","","","","","","","","","","","","","","","","","","","","","","","","","","","","","","","","","","","","","","","","","","","","","","","","","","","","","","","","","","","","","","","","","","","","","","","","","","","","","","",""]
[null,null,null,null,null,null,"",null,"","","","","","","","","","","","","","","","","","","","","","","","","","","","","","","","","","","","","","","","","","","","","","","","","","","","","","","","","","","","","","","","","","","","","","","","","","","","","","","","","","","","","","","","","","","","","","","","","","","","","","","","","","","","","","","","","","","","","","","","","","","","","","","","","","","","","","","","","","","","","","","","","","","","","","","","","","","","","","","","","","","","","","","","","","","","","","","","","","","","","","","","","","","","","","","","","","","","","","","","","","","","","","","","","","","","","","","","","","","","","","","","","","","","","","","","","","","","","","","","","","","","","","","","","","","","","","","","","","","","","","","","","","","","","","","","","","","","","","","","","","","","","","","","","","","","","","","","","","","","","","","","","","","","","","","","","","","","","","","","","","","","","","","","","","","","","","","","","","","","","","","","","","","","","","","","","","","","","","","","","","","","","","","","","","","","","","","","","","","","","","","","","","","","","","","","","",""]
[null,null,null,null,null,null,"",null,"","","","","","","","","","","","","","","","","","","","","","","","","","","","","","","","","","","","","","","","","","","","","","","","","","","","","","","","","","","","","","","","","","","","","","","","","","","","","","","","","","","","","","","","","","","","","","","","","","","","","","","","","","","","","","","","","","","","","","","","","","","","","","","","","","","","","","","","","","","","","","","","","","","","","","","","","","","","","","","","","","","","","","","","","","","","","","","","","","","","","","","","","","","","","","","","","","","","","","","","","","","","","","","","","","","","","","","","","","","","","","","","","","","","","","","","","","","","","","","","","","","","","","","","","","","","","","","","","","","","","","","","","","","","","","","","","","","","","","","","","","","","","","","","","","","","","","","","","","","","","","","","","","","","","","","","","","","","","","","","","","","","","","","","","","","","","","","","","","","","","","","","","","","","","","","","","","","","","","","","","","","","","","","","","","","","","","","","","","","","","","","","","","","","","","","","","",""]
[null,null,null,null,null,null,"",null,"","","","","","","","","","","","","","","","","","","","","","","","","","","","","","","","","","","","","","","","","","","","","","","","","","","","","","","","","","","","","","","","","","","","","","","","","","","","","","","","","","","","","","","","","","","","","","","","","","","","","","","","","","","","","","","","","","","","","","","","","","","","","","","","","","","","","","","","","","","","","","","","","","","","","","","","","","","","","","","","","","","","","","","","","","","","","","","","","","","","","","","","","","","","","","","","","","","","","","","","","","","","","","","","","","","","","","","","","","","","","","","","","","","","","","","","","","","","","","","","","","","","","","","","","","","","","","","","","","","","","","","","","","","","","","","","","","","","","","","","","","","","","","","","","","","","","","","","","","","","","","","","","","","","","","","","","","","","","","","","","","","","","","","","","","","","","","","","","","","","","","","","","","","","","","","","","","","","","","","","","","","","","","","","","","","","","","","","","","","","","","","","","","","","","","","","","",""]
[null,null,null,null,null,null,"",null,"","","","","","","","","","","","","","","","","","","","","","","","","","","","","","","","","","","","","","","","","","","","","","","","","","","","","","","","","","","","","","","","","","","","","","","","","","","","","","","","","","","","","","","","","","","","","","","","","","","","","","","","","","","","","","","","","","","","","","","","","","","","","","","","","","","","","","","","","","","","","","","","","","","","","","","","","","","","","","","","","","","","","","","","","","","","","","","","","","","","","","","","","","","","","","","","","","","","","","","","","","","","","","","","","","","","","","","","","","","","","","","","","","","","","","","","","","","","","","","","","","","","","","","","","","","","","","","","","","","","","","","","","","","","","","","","","","","","","","","","","","","","","","","","","","","","","","","","","","","","","","","","","","","","","","","","","","","","","","","","","","","","","","","","","","","","","","","","","","","","","","","","","","","","","","","","","","","","","","","","","","","","","","","","","","","","","","","","","","","","","","","","","","","","","","","","","",""]
[null,null,null,null,null,null,"",null,"","","","","","","","","","","","","","","","","","","","","","","","","","","","","","","","","","","","","","","","","","","","","","","","","","","","","","","","","","","","","","","","","","","","","","","","","","","","","","","","","","","","","","","","","","","","","","","","","","","","","","","","","","","","","","","","","","","","","","","","","","","","","","","","","","","","","","","","","","","","","","","","","","","","","","","","","","","","","","","","","","","","","","","","","","","","","","","","","","","","","","","","","","","","","","","","","","","","","","","","","","","","","","","","","","","","","","","","","","","","","","","","","","","","","","","","","","","","","","","","","","","","","","","","","","","","","","","","","","","","","","","","","","","","","","","","","","","","","","","","","","","","","","","","","","","","","","","","","","","","","","","","","","","","","","","","","","","","","","","","","","","","","","","","","","","","","","","","","","","","","","","","","","","","","","","","","","","","","","","","","","","","","","","","","","","","","","","","","","","","","","","","","","","","","","","","","",""]
[null,null,null,null,null,null,"",null,"","","","","","","","","","","","","","","","","","","","","","","","","","","","","","","","","","","","","","","","","","","","","","","","","","","","","","","","","","","","","","","","","","","","","","","","","","","","","","","","","","","","","","","","","","","","","","","","","","","","","","","","","","","","","","","","","","","","","","","","","","","","","","","","","","","","","","","","","","","","","","","","","","","","","","","","","","","","","","","","","","","","","","","","","","","","","","","","","","","","","","","","","","","","","","","","","","","","","","","","","","","","","","","","","","","","","","","","","","","","","","","","","","","","","","","","","","","","","","","","","","","","","","","","","","","","","","","","","","","","","","","","","","","","","","","","","","","","","","","","","","","","","","","","","","","","","","","","","","","","","","","","","","","","","","","","","","","","","","","","","","","","","","","","","","","","","","","","","","","","","","","","","","","","","","","","","","","","","","","","","","","","","","","","","","","","","","","","","","","","","","","","","","","","","","","","","",""]
["Beschluss der Schulkonferenz",null,null,null,null,null,"",null,"","","","","","","","","","","","","","","","","","","","","","","","","","","","","","","","","","","","","","","","","","","","","","","","","","","","","","","","","","","","","","","","","","","","","","","","","","","","","","","","","","","","","","","","","","","","","","","","","","","","","","","","","","","","","","","","","","","","","","","","","","","","","","","","","","","","","","","","","","","","","","","","","","","","","","","","","","","","","","","","","","","","","","","","","","","","","","","","","","","","","","","","","","","","","","","","","","","","","","","","","","","","","","","","","","","","","","","","","","","","","","","","","","","","","","","","","","","","","","","","","","","","","","","","","","","","","","","","","","","","","","","","","","","","","","","","","","","","","","","","","","","","","","","","","","","","","","","","","","","","","","","","","","","","","","","","","","","","","","","","","","","","","","","","","","","","","","","","","","","","","","","","","","","","","","","","","","","","","","","","","","","","","","","","","","","","","","","","","","","","","","","","","","","","","","","","","",""]
[null,null,null,null,null,null,"",null,"","","","","","","","","","","","","","","","","","","","","","","","","","","","","","","","","","","","","","","","","","","","","","","","","","","","","","","","","","","","","","","","","","","","","","","","","","","","","","","","","","","","","","","","","","","","","","","","","","","","","","","","","","","","","","","","","","","","","","","","","","","","","","","","","","","","","","","","","","","","","","","","","","","","","","","","","","","","","","","","","","","","","","","","","","","","","","","","","","","","","","","","","","","","","","","","","","","","","","","","","","","","","","","","","","","","","","","","","","","","","","","","","","","","","","","","","","","","","","","","","","","","","","","","","","","","","","","","","","","","","","","","","","","","","","","","","","","","","","","","","","","","","","","","","","","","","","","","","","","","","","","","","","","","","","","","","","","","","","","","","","","","","","","","","","","","","","","","","","","","","","","","","","","","","","","","","","","","","","","","","","","","","","","","","","","","","","","","","","","","","","","","","","","","","","","","","",""]
[null,null,null,null,null,null,"",null,{"$f":"IF(AND(         I$9>=$E64,       I$9<=$F64, $D64<>0),     \"u\",    \"\")","v":""},"","","","","","","","","",{"$f":"IF(AND(         S$9>=$E64,       S$9<=$F64, $D64<>0),     \"u\",    \"\")","v":""},"","","","","","","","","",{"$f":"IF(AND(         AC$9>=$E64,       AC$9<=$F64, $D64<>0),     \"u\",    \"\")","v":""},"","","","","","","","","",{"$f":"IF(AND(         AM$9>=$E64,       AM$9<=$F64, $D64<>0),     \"u\",    \"\")","v":""},"","","","","","","","","",{"$f":"IF(AND(         AW$9>=$E64,       AW$9<=$F64, $D64<>0),     \"u\",    \"\")","v":""},"","","","","","","","","",{"$f":"IF(AND(         BG$9>=$E64,       BG$9<=$F64, $D64<>0),     \"u\",    \"\")","v":""},"","","","","","","","","",{"$f":"IF(AND(         BQ$9>=$E64,       BQ$9<=$F64, $D64<>0),     \"u\",    \"\")","v":""},"","","","","","","","","",{"$f":"IF(AND(         CA$9>=$E64,       CA$9<=$F64, $D64<>0),     \"u\",    \"\")","v":""},"","","","","","","","","",{"$f":"IF(AND(         CK$9>=$E64,       CK$9<=$F64, $D64<>0),     \"u\",    \"\")","v":""},"","","","","","","","","",{"$f":"IF(AND(         CU$9>=$E64,       CU$9<=$F64, $D64<>0),     \"u\",    \"\")","v":""},"","","","","","","","","",{"$f":"IF(AND(         DE$9>=$E64,       DE$9<=$F64, $D64<>0),     \"u\",    \"\")","v":""},"","","","","","","","","",{"$f":"IF(AND(         DO$9>=$E64,       DO$9<=$F64, $D64<>0),     \"u\",    \"\")","v":""},"","","","","","","","","",{"$f":"IF(AND(         DY$9>=$E64,       DY$9<=$F64, $D64<>0),     \"u\",    \"\")","v":""},"","","","","","","","","",{"$f":"IF(AND(         EI$9>=$E64,       EI$9<=$F64, $D64<>0),     \"u\",    \"\")","v":""},"","","","","","","","","",{"$f":"IF(AND(         ES$9>=$E64,       ES$9<=$F64, $D64<>0),     \"u\",    \"\")","v":""},"","","","","","","","","",{"$f":"IF(AND(         FC$9>=$E64,       FC$9<=$F64, $D64<>0),     \"u\",    \"\")","v":""},"","","","","","","","","",{"$f":"IF(AND(         FM$9>=$E64,       FM$9<=$F64, $D64<>0),     \"u\",    \"\")","v":""},"","","","","","","","","",{"$f":"IF(AND(         FW$9>=$E64,       FW$9<=$F64, $D64<>0),     \"u\",    \"\")","v":""},"","","","","","","","","",{"$f":"IF(AND(         GG$9>=$E64,       GG$9<=$F64, $D64<>0),     \"u\",    \"\")","v":""},"","","","","","","","","",{"$f":"IF(AND(         GQ$9>=$E64,       GQ$9<=$F64, $D64<>0),     \"u\",    \"\")","v":""},"","","","","","","","","",{"$f":"IF(AND(         HA$9>=$E64,       HA$9<=$F64, $D64<>0),     \"u\",    \"\")","v":""},"","","","","","","","","",{"$f":"IF(AND(         HK$9>=$E64,       HK$9<=$F64, $D64<>0),     \"u\",    \"\")","v":""},"","","","","","","","","",{"$f":"IF(AND(         HU$9>=$E64,       HU$9<=$F64, $D64<>0),     \"u\",    \"\")","v":""},"","","","","","","","","",{"$f":"IF(AND(         IE$9>=$E64,       IE$9<=$F64, $D64<>0),     \"u\",    \"\")","v":""},"","","","","","","","","",{"$f":"IF(AND(         IO$9>=$E64,       IO$9<=$F64, $D64<>0),     \"u\",    \"\")","v":""},"","","","","","","","","",{"$f":"IF(AND(         IY$9>=$E64,       IY$9<=$F64, $D64<>0),     \"u\",    \"\")","v":""},"","","","","","","","","",{"$f":"IF(AND(         JI$9>=$E64,       JI$9<=$F64, $D64<>0),     \"u\",    \"\")","v":""},"","","","","","","","","",{"$f":"IF(AND(         JS$9>=$E64,       JS$9<=$F64, $D64<>0),     \"u\",    \"\")","v":""},"","","","","","","","","",{"$f":"IF(AND(         KC$9>=$E64,       KC$9<=$F64, $D64<>0),     \"u\",    \"\")","v":""},"","","","","","","","","",{"$f":"IF(AND(         KM$9>=$E64,       KM$9<=$F64, $D64<>0),     \"u\",    \"\")","v":""},"","","","","","","","","",{"$f":"IF(AND(         KW$9>=$E64,       KW$9<=$F64, $D64<>0),     \"u\",    \"\")","v":""},"","","","","","","","","",{"$f":"IF(AND(         LG$9>=$E64,       LG$9<=$F64, $D64<>0),     \"u\",    \"\")","v":""},"","","","","","","","","",{"$f":"IF(AND(         LQ$9>=$E64,       LQ$9<=$F64, $D64<>0),     \"u\",    \"\")","v":""},"","","","","","","","","",{"$f":"IF(AND(         MA$9>=$E64,       MA$9<=$F64, $D64<>0),     \"u\",    \"\")","v":""},"","","","","","","","","",{"$f":"IF(AND(         MK$9>=$E64,       MK$9<=$F64, $D64<>0),     \"u\",    \"\")","v":""},"","","","","","","","","",{"$f":"IF(AND(         MU$9>=$E64,       MU$9<=$F64, $D64<>0),     \"u\",    \"\")","v":""},"","","","","","","","","",{"$f":"IF(AND(         NE$9>=$E64,       NE$9<=$F64, $D64<>0),     \"u\",    \"\")","v":""},"","","","","","","","","",{"$f":"IF(AND(         NO$9>=$E64,       NO$9<=$F64, $D64<>0),     \"u\",    \"\")","v":""},"","","","","","","","","",{"$f":"IF(AND(         NY$9>=$E64,       NY$9<=$F64, $D64<>0),     \"u\",    \"\")","v":""},"","","","","","","","","","","","",""]
[null,null,null,null,null,null,"",null,"","","","","","","","","","","","","","","","","","","","","","","","","","","","","","","","","","","","","","","","","","","","","","","","","","","","","","","","","","","","","","","","","","","","","","","","","","","","","","","","","","","","","","","","","","","","","","","","","","","","","","","","","","","","","","","","","","","","","","","","","","","","","","","","","","","","","","","","","","","","","","","","","","","","","","","","","","","","","","","","","","","","","","","","","","","","","","","","","","","","","","","","","","","","","","","","","","","","","","","","","","","","","","","","","","","","","","","","","","","","","","","","","","","","","","","","","","","","","","","","","","","","","","","","","","","","","","","","","","","","","","","","","","","","","","","","","","","","","","","","","","","","","","","","","","","","","","","","","","","","","","","","","","","","","","","","","","","","","","","","","","","","","","","","","","","","","","","","","","","","","","","","","","","","","","","","","","","","","","","","","","","","","","","","","","","","","","","","","","","","","","","","","","","","","","","","","",""]
[null,null,null,null,null,null,"",null,"","","","","","","","","","","","","","","","","","","","","","","","","","","","","","","","","","","","","","","","","","","","","","","","","","","","","","","","","","","","","","","","","","","","","","","","","","","","","","","","","","","","","","","","","","","","","","","","","","","","","","","","","","","","","","","","","","","","","","","","","","","","","","","","","","","","","","","","","","","","","","","","","","","","","","","","","","","","","","","","","","","","","","","","","","","","","","","","","","","","","","","","","","","","","","","","","","","","","","","","","","","","","","","","","","","","","","","","","","","","","","","","","","","","","","","","","","","","","","","","","","","","","","","","","","","","","","","","","","","","","","","","","","","","","","","","","","","","","","","","","","","","","","","","","","","","","","","","","","","","","","","","","","","","","","","","","","","","","","","","","","","","","","","","","","","","","","","","","","","","","","","","","","","","","","","","","","","","","","","","","","","","","","","","","","","","","","","","","","","","","","","","","","","","","","","","","",""]
["Umsetzung/Weiterentwicklung",null,null,null,null,null,"",null,"","","","","","","","","","","","","","","","","","","","","","","","","","","","","","","","","","","","","","","","","","","","","","","","","","","","","","","","","","","","","","","","","","","","","","","","","","","","","","","","","","","","","","","","","","","","","","","","","","","","","","","","","","","","","","","","","","","","","","","","","","","","","","","","","","","","","","","","","","","","","","","","","","","","","","","","","","","","","","","","","","","","","","","","","","","","","","","","","","","","","","","","","","","","","","","","","","","","","","","","","","","","","","","","","","","","","","","","","","","","","","","","","","","","","","","","","","","","","","","","","","","","","","","","","","","","","","","","","","","","","","","","","","","","","","","","","","","","","","","","","","","","","","","","","","","","","","","","","","","","","","","","","","","","","","","","","","","","","","","","","","","","","","","","","","","","","","","","","","","","","","","","","","","","","","","","","","","","","","","","","","","","","","","","","","","","","","","","","","","","","","","","","","","","","","","","","",""]
[null,null,null,null,null,null,"",null,"","","","","","","","","","","","","","","","","","","","","","","","","","","","","","","","","","","","","","","","","","","","","","","","","","","","","","","","","","","","","","","","","","","","","","","","","","","","","","","","","","","","","","","","","","","","","","","","","","","","","","","","","","","","","","","","","","","","","","","","","","","","","","","","","","","","","","","","","","","","","","","","","","","","","","","","","","","","","","","","","","","","","","","","","","","","","","","","","","","","","","","","","","","","","","","","","","","","","","","","","","","","","","","","","","","","","","","","","","","","","","","","","","","","","","","","","","","","","","","","","","","","","","","","","","","","","","","","","","","","","","","","","","","","","","","","","","","","","","","","","","","","","","","","","","","","","","","","","","","","","","","","","","","","","","","","","","","","","","","","","","","","","","","","","","","","","","","","","","","","","","","","","","","","","","","","","","","","","","","","","","","","","","","","","","","","","","","","","","","","","","","","","","","","","","","","","",""]
[null,null,null,null,null,null,"",null,"","","","","","","","","","","","","","","","","","","","","","","","","","","","","","","","","","","","","","","","","","","","","","","","","","","","","","","","","","","","","","","","","","","","","","","","","","","","","","","","","","","","","","","","","","","","","","","","","","","","","","","","","","","","","","","","","","","","","","","","","","","","","","","","","","","","","","","","","","","","","","","","","","","","","","","","","","","","","","","","","","","","","","","","","","","","","","","","","","","","","","","","","","","","","","","","","","","","","","","","","","","","","","","","","","","","","","","","","","","","","","","","","","","","","","","","","","","","","","","","","","","","","","","","","","","","","","","","","","","","","","","","","","","","","","","","","","","","","","","","","","","","","","","","","","","","","","","","","","","","","","","","","","","","","","","","","","","","","","","","","","","","","","","","","","","","","","","","","","","","","","","","","","","","","","","","","","","","","","","","","","","","","","","","","","","","","","","","","","","","","","","","","","","","","","","","","",""]
[null,null,null,null,null,null,"",null,"","","","","","","","","","","","","","","","","","","","","","","","","","","","","","","","","","","","","","","","","","","","","","","","","","","","","","","","","","","","","","","","","","","","","","","","","","","","","","","","","","","","","","","","","","","","","","","","","","","","","","","","","","","","","","","","","","","","","","","","","","","","","","","","","","","","","","","","","","","","","","","","","","","","","","","","","","","","","","","","","","","","","","","","","","","","","","","","","","","","","","","","","","","","","","","","","","","","","","","","","","","","","","","","","","","","","","","","","","","","","","","","","","","","","","","","","","","","","","","","","","","","","","","","","","","","","","","","","","","","","","","","","","","","","","","","","","","","","","","","","","","","","","","","","","","","","","","","","","","","","","","","","","","","","","","","","","","","","","","","","","","","","","","","","","","","","","","","","","","","","","","","","","","","","","","","","","","","","","","","","","","","","","","","","","","","","","","","","","","","","","","","","","","","","","","","","",""]
[null,null,null,null,null,null,"",null,"","","","","","","","","","","","","","","","","","","","","","","","","","","","","","","","","","","","","","","","","","","","","","","","","","","","","","","","","","","","","","","","","","","","","","","","","","","","","","","","","","","","","","","","","","","","","","","","","","","","","","","","","","","","","","","","","","","","","","","","","","","","","","","","","","","","","","","","","","","","","","","","","","","","","","","","","","","","","","","","","","","","","","","","","","","","","","","","","","","","","","","","","","","","","","","","","","","","","","","","","","","","","","","","","","","","","","","","","","","","","","","","","","","","","","","","","","","","","","","","","","","","","","","","","","","","","","","","","","","","","","","","","","","","","","","","","","","","","","","","","","","","","","","","","","","","","","","","","","","","","","","","","","","","","","","","","","","","","","","","","","","","","","","","","","","","","","","","","","","","","","","","","","","","","","","","","","","","","","","","","","","","","","","","","","","","","","","","","","","","","","","","","","","","","","","","","",""]
["Überprüfen der Wirksamkeit",null,null,null,null,null,{"$f":"IF(AND(    E72=0,F72=0),  \"\",         IF($C$5<=E72,0,IF($C$5>F72,1,_xlfn.DAYS($C$5,E72)/_xlfn.DAYS(F72,E72))))","v":""},null,{"$f":"IF(AND(         I$9>=$E72,       I$9<=$F72, $D72<>0),     \"u\",    \"\")","v":""},{"$f":"IF(AND(         J$9>=$E72,       J$9<=$F72, $D72<>0),     \"u\",    \"\")","v":""},{"$f":"IF(AND(         K$9>=$E72,       K$9<=$F72, $D72<>0),     \"u\",    \"\")","v":""},{"$f":"IF(AND(         L$9>=$E72,       L$9<=$F72, $D72<>0),     \"u\",    \"\")","v":""},{"$f":"IF(AND(         M$9>=$E72,       M$9<=$F72, $D72<>0),     \"u\",    \"\")","v":""},{"$f":"IF(AND(         N$9>=$E72,       N$9<=$F72, $D72<>0),     \"u\",    \"\")","v":""},{"$f":"IF(AND(         O$9>=$E72,       O$9<=$F72, $D72<>0),     \"u\",    \"\")","v":""},{"$f":"IF(AND(         P$9>=$E72,       P$9<=$F72, $D72<>0),     \"u\",    \"\")","v":""},{"$f":"IF(AND(         Q$9>=$E72,       Q$9<=$F72, $D72<>0),     \"u\",    \"\")","v":""},{"$f":"IF(AND(         R$9>=$E72,       R$9<=$F72, $D72<>0),     \"u\",    \"\")","v":""},{"$f":"IF(AND(         S$9>=$E72,       S$9<=$F72, $D72<>0),     \"u\",    \"\")","v":""},{"$f":"IF(AND(         T$9>=$E72,       T$9<=$F72, $D72<>0),     \"u\",    \"\")","v":""},{"$f":"IF(AND(         U$9>=$E72,       U$9<=$F72, $D72<>0),     \"u\",    \"\")","v":""},{"$f":"IF(AND(         V$9>=$E72,       V$9<=$F72, $D72<>0),     \"u\",    \"\")","v":""},{"$f":"IF(AND(         W$9>=$E72,       W$9<=$F72, $D72<>0),     \"u\",    \"\")","v":""},{"$f":"IF(AND(         X$9>=$E72,       X$9<=$F72, $D72<>0),     \"u\",    \"\")","v":""},{"$f":"IF(AND(         Y$9>=$E72,       Y$9<=$F72, $D72<>0),     \"u\",    \"\")","v":""},{"$f":"IF(AND(         Z$9>=$E72,       Z$9<=$F72, $D72<>0),     \"u\",    \"\")","v":""},{"$f":"IF(AND(         AA$9>=$E72,       AA$9<=$F72, $D72<>0),     \"u\",    \"\")","v":""},{"$f":"IF(AND(         AB$9>=$E72,       AB$9<=$F72, $D72<>0),     \"u\",    \"\")","v":""},{"$f":"IF(AND(         AC$9>=$E72,       AC$9<=$F72, $D72<>0),     \"u\",    \"\")","v":""},{"$f":"IF(AND(         AD$9>=$E72,       AD$9<=$F72, $D72<>0),     \"u\",    \"\")","v":""},{"$f":"IF(AND(         AE$9>=$E72,       AE$9<=$F72, $D72<>0),     \"u\",    \"\")","v":""},{"$f":"IF(AND(         AF$9>=$E72,       AF$9<=$F72, $D72<>0),     \"u\",    \"\")","v":""},{"$f":"IF(AND(         AG$9>=$E72,       AG$9<=$F72, $D72<>0),     \"u\",    \"\")","v":""},{"$f":"IF(AND(         AH$9>=$E72,       AH$9<=$F72, $D72<>0),     \"u\",    \"\")","v":""},{"$f":"IF(AND(         AI$9>=$E72,       AI$9<=$F72, $D72<>0),     \"u\",    \"\")","v":""},{"$f":"IF(AND(         AJ$9>=$E72,       AJ$9<=$F72, $D72<>0),     \"u\",    \"\")","v":""},{"$f":"IF(AND(         AK$9>=$E72,       AK$9<=$F72, $D72<>0),     \"u\",    \"\")","v":""},{"$f":"IF(AND(         AL$9>=$E72,       AL$9<=$F72, $D72<>0),     \"u\",    \"\")","v":""},{"$f":"IF(AND(         AM$9>=$E72,       AM$9<=$F72, $D72<>0),     \"u\",    \"\")","v":""},{"$f":"IF(AND(         AN$9>=$E72,       AN$9<=$F72, $D72<>0),     \"u\",    \"\")","v":""},{"$f":"IF(AND(         AO$9>=$E72,       AO$9<=$F72, $D72<>0),     \"u\",    \"\")","v":""},{"$f":"IF(AND(         AP$9>=$E72,       AP$9<=$F72, $D72<>0),     \"u\",    \"\")","v":""},{"$f":"IF(AND(         AQ$9>=$E72,       AQ$9<=$F72, $D72<>0),     \"u\",    \"\")","v":""},{"$f":"IF(AND(         AR$9>=$E72,       AR$9<=$F72, $D72<>0),     \"u\",    \"\")","v":""},{"$f":"IF(AND(         AS$9>=$E72,       AS$9<=$F72, $D72<>0),     \"u\",    \"\")","v":""},{"$f":"IF(AND(         AT$9>=$E72,       AT$9<=$F72, $D72<>0),     \"u\",    \"\")","v":""},{"$f":"IF(AND(         AU$9>=$E72,       AU$9<=$F72, $D72<>0),     \"u\",    \"\")","v":""},{"$f":"IF(AND(         AV$9>=$E72,       AV$9<=$F72, $D72<>0),     \"u\",    \"\")","v":""},{"$f":"IF(AND(         AW$9>=$E72,       AW$9<=$F72, $D72<>0),     \"u\",    \"\")","v":""},{"$f":"IF(AND(         AX$9>=$E72,       AX$9<=$F72, $D72<>0),     \"u\",    \"\")","v":""},{"$f":"IF(AND(         AY$9>=$E72,       AY$9<=$F72, $D72<>0),     \"u\",    \"\")","v":""},{"$f":"IF(AND(         AZ$9>=$E72,       AZ$9<=$F72, $D72<>0),     \"u\",    \"\")","v":""},{"$f":"IF(AND(         BA$9>=$E72,       BA$9<=$F72, $D72<>0),     \"u\",    \"\")","v":""},{"$f":"IF(AND(         BB$9>=$E72,       BB$9<=$F72, $D72<>0),     \"u\",    \"\")","v":""},{"$f":"IF(AND(         BC$9>=$E72,       BC$9<=$F72, $D72<>0),     \"u\",    \"\")","v":""},{"$f":"IF(AND(         BD$9>=$E72,       BD$9<=$F72, $D72<>0),     \"u\",    \"\")","v":""},{"$f":"IF(AND(         BE$9>=$E72,       BE$9<=$F72, $D72<>0),     \"u\",    \"\")","v":""},{"$f":"IF(AND(         BF$9>=$E72,       BF$9<=$F72, $D72<>0),     \"u\",    \"\")","v":""},{"$f":"IF(AND(         BG$9>=$E72,       BG$9<=$F72, $D72<>0),     \"u\",    \"\")","v":""},{"$f":"IF(AND(         BH$9>=$E72,       BH$9<=$F72, $D72<>0),     \"u\",    \"\")","v":""},{"$f":"IF(AND(         BI$9>=$E72,       BI$9<=$F72, $D72<>0),     \"u\",    \"\")","v":""},{"$f":"IF(AND(         BJ$9>=$E72,       BJ$9<=$F72, $D72<>0),     \"u\",    \"\")","v":""},{"$f":"IF(AND(         BK$9>=$E72,       BK$9<=$F72, $D72<>0),     \"u\",    \"\")","v":""},{"$f":"IF(AND(         BL$9>=$E72,       BL$9<=$F72, $D72<>0),     \"u\",    \"\")","v":""},{"$f":"IF(AND(         BM$9>=$E72,       BM$9<=$F72, $D72<>0),     \"u\",    \"\")","v":""},{"$f":"IF(AND(         BN$9>=$E72,       BN$9<=$F72, $D72<>0),     \"u\",    \"\")","v":""},{"$f":"IF(AND(         BO$9>=$E72,       BO$9<=$F72, $D72<>0),     \"u\",    \"\")","v":""},{"$f":"IF(AND(         BP$9>=$E72,       BP$9<=$F72, $D72<>0),     \"u\",    \"\")","v":""},{"$f":"IF(AND(         BQ$9>=$E72,       BQ$9<=$F72, $D72<>0),     \"u\",    \"\")","v":""},{"$f":"IF(AND(         BR$9>=$E72,       BR$9<=$F72, $D72<>0),     \"u\",    \"\")","v":""},{"$f":"IF(AND(         BS$9>=$E72,       BS$9<=$F72, $D72<>0),     \"u\",    \"\")","v":""},{"$f":"IF(AND(         BT$9>=$E72,       BT$9<=$F72, $D72<>0),     \"u\",    \"\")","v":""},{"$f":"IF(AND(         BU$9>=$E72,       BU$9<=$F72, $D72<>0),     \"u\",    \"\")","v":""},{"$f":"IF(AND(         BV$9>=$E72,       BV$9<=$F72, $D72<>0),     \"u\",    \"\")","v":""},{"$f":"IF(AND(         BW$9>=$E72,       BW$9<=$F72, $D72<>0),     \"u\",    \"\")","v":""},{"$f":"IF(AND(         BX$9>=$E72,       BX$9<=$F72, $D72<>0),     \"u\",    \"\")","v":""},{"$f":"IF(AND(         BY$9>=$E72,       BY$9<=$F72, $D72<>0),     \"u\",    \"\")","v":""},{"$f":"IF(AND(         BZ$9>=$E72,       BZ$9<=$F72, $D72<>0),     \"u\",    \"\")","v":""},{"$f":"IF(AND(         CA$9>=$E72,       CA$9<=$F72, $D72<>0),     \"u\",    \"\")","v":""},{"$f":"IF(AND(         CB$9>=$E72,       CB$9<=$F72, $D72<>0),     \"u\",    \"\")","v":""},{"$f":"IF(AND(         CC$9>=$E72,       CC$9<=$F72, $D72<>0),     \"u\",    \"\")","v":""},{"$f":"IF(AND(         CD$9>=$E72,       CD$9<=$F72, $D72<>0),     \"u\",    \"\")","v":""},{"$f":"IF(AND(         CE$9>=$E72,       CE$9<=$F72, $D72<>0),     \"u\",    \"\")","v":""},{"$f":"IF(AND(         CF$9>=$E72,       CF$9<=$F72, $D72<>0),     \"u\",    \"\")","v":""},{"$f":"IF(AND(         CG$9>=$E72,       CG$9<=$F72, $D72<>0),     \"u\",    \"\")","v":""},{"$f":"IF(AND(         CH$9>=$E72,       CH$9<=$F72, $D72<>0),     \"u\",    \"\")","v":""},{"$f":"IF(AND(         CI$9>=$E72,       CI$9<=$F72, $D72<>0),     \"u\",    \"\")","v":""},{"$f":"IF(AND(         CJ$9>=$E72,       CJ$9<=$F72, $D72<>0),     \"u\",    \"\")","v":""},{"$f":"IF(AND(         CK$9>=$E72,       CK$9<=$F72, $D72<>0),     \"u\",    \"\")","v":""},{"$f":"IF(AND(         CL$9>=$E72,       CL$9<=$F72, $D72<>0),     \"u\",    \"\")","v":""},{"$f":"IF(AND(         CM$9>=$E72,       CM$9<=$F72, $D72<>0),     \"u\",    \"\")","v":""},{"$f":"IF(AND(         CN$9>=$E72,       CN$9<=$F72, $D72<>0),     \"u\",    \"\")","v":""},{"$f":"IF(AND(         CO$9>=$E72,       CO$9<=$F72, $D72<>0),     \"u\",    \"\")","v":""},{"$f":"IF(AND(         CP$9>=$E72,       CP$9<=$F72, $D72<>0),     \"u\",    \"\")","v":""},{"$f":"IF(AND(         CQ$9>=$E72,       CQ$9<=$F72, $D72<>0),     \"u\",    \"\")","v":""},{"$f":"IF(AND(         CR$9>=$E72,       CR$9<=$F72, $D72<>0),     \"u\",    \"\")","v":""},{"$f":"IF(AND(         CS$9>=$E72,       CS$9<=$F72, $D72<>0),     \"u\",    \"\")","v":""},{"$f":"IF(AND(         CT$9>=$E72,       CT$9<=$F72, $D72<>0),     \"u\",    \"\")","v":""},{"$f":"IF(AND(         CU$9>=$E72,       CU$9<=$F72, $D72<>0),     \"u\",    \"\")","v":""},{"$f":"IF(AND(         CV$9>=$E72,       CV$9<=$F72, $D72<>0),     \"u\",    \"\")","v":""},{"$f":"IF(AND(         CW$9>=$E72,       CW$9<=$F72, $D72<>0),     \"u\",    \"\")","v":""},{"$f":"IF(AND(         CX$9>=$E72,       CX$9<=$F72, $D72<>0),     \"u\",    \"\")","v":""},{"$f":"IF(AND(         CY$9>=$E72,       CY$9<=$F72, $D72<>0),     \"u\",    \"\")","v":""},{"$f":"IF(AND(         CZ$9>=$E72,       CZ$9<=$F72, $D72<>0),     \"u\",    \"\")","v":""},{"$f":"IF(AND(         DA$9>=$E72,       DA$9<=$F72, $D72<>0),     \"u\",    \"\")","v":""},{"$f":"IF(AND(         DB$9>=$E72,       DB$9<=$F72, $D72<>0),     \"u\",    \"\")","v":""},{"$f":"IF(AND(         DC$9>=$E72,       DC$9<=$F72, $D72<>0),     \"u\",    \"\")","v":""},{"$f":"IF(AND(         DD$9>=$E72,       DD$9<=$F72, $D72<>0),     \"u\",    \"\")","v":""},{"$f":"IF(AND(         DE$9>=$E72,       DE$9<=$F72, $D72<>0),     \"u\",    \"\")","v":""},{"$f":"IF(AND(         DF$9>=$E72,       DF$9<=$F72, $D72<>0),     \"u\",    \"\")","v":""},{"$f":"IF(AND(         DG$9>=$E72,       DG$9<=$F72, $D72<>0),     \"u\",    \"\")","v":""},{"$f":"IF(AND(         DH$9>=$E72,       DH$9<=$F72, $D72<>0),     \"u\",    \"\")","v":""},{"$f":"IF(AND(         DI$9>=$E72,       DI$9<=$F72, $D72<>0),     \"u\",    \"\")","v":""},{"$f":"IF(AND(         DJ$9>=$E72,       DJ$9<=$F72, $D72<>0),     \"u\",    \"\")","v":""},{"$f":"IF(AND(         DK$9>=$E72,       DK$9<=$F72, $D72<>0),     \"u\",    \"\")","v":""},{"$f":"IF(AND(         DL$9>=$E72,       DL$9<=$F72, $D72<>0),     \"u\",    \"\")","v":""},{"$f":"IF(AND(         DM$9>=$E72,       DM$9<=$F72, $D72<>0),     \"u\",    \"\")","v":""},{"$f":"IF(AND(         DN$9>=$E72,       DN$9<=$F72, $D72<>0),     \"u\",    \"\")","v":""},{"$f":"IF(AND(         DO$9>=$E72,       DO$9<=$F72, $D72<>0),     \"u\",    \"\")","v":""},{"$f":"IF(AND(         DP$9>=$E72,       DP$9<=$F72, $D72<>0),     \"u\",    \"\")","v":""},{"$f":"IF(AND(         DQ$9>=$E72,       DQ$9<=$F72, $D72<>0),     \"u\",    \"\")","v":""},{"$f":"IF(AND(         DR$9>=$E72,       DR$9<=$F72, $D72<>0),     \"u\",    \"\")","v":""},{"$f":"IF(AND(         DS$9>=$E72,       DS$9<=$F72, $D72<>0),     \"u\",    \"\")","v":""},{"$f":"IF(AND(         DT$9>=$E72,       DT$9<=$F72, $D72<>0),     \"u\",    \"\")","v":""},{"$f":"IF(AND(         DU$9>=$E72,       DU$9<=$F72, $D72<>0),     \"u\",    \"\")","v":""},{"$f":"IF(AND(         DV$9>=$E72,       DV$9<=$F72, $D72<>0),     \"u\",    \"\")","v":""},{"$f":"IF(AND(         DW$9>=$E72,       DW$9<=$F72, $D72<>0),     \"u\",    \"\")","v":""},{"$f":"IF(AND(         DX$9>=$E72,       DX$9<=$F72, $D72<>0),     \"u\",    \"\")","v":""},{"$f":"IF(AND(         DY$9>=$E72,       DY$9<=$F72, $D72<>0),     \"u\",    \"\")","v":""},{"$f":"IF(AND(         DZ$9>=$E72,       DZ$9<=$F72, $D72<>0),     \"u\",    \"\")","v":""},{"$f":"IF(AND(         EA$9>=$E72,       EA$9<=$F72, $D72<>0),     \"u\",    \"\")","v":""},{"$f":"IF(AND(         EB$9>=$E72,       EB$9<=$F72, $D72<>0),     \"u\",    \"\")","v":""},{"$f":"IF(AND(         EC$9>=$E72,       EC$9<=$F72, $D72<>0),     \"u\",    \"\")","v":""},{"$f":"IF(AND(         ED$9>=$E72,       ED$9<=$F72, $D72<>0),     \"u\",    \"\")","v":""},{"$f":"IF(AND(         EE$9>=$E72,       EE$9<=$F72, $D72<>0),     \"u\",    \"\")","v":""},{"$f":"IF(AND(         EF$9>=$E72,       EF$9<=$F72, $D72<>0),     \"u\",    \"\")","v":""},{"$f":"IF(AND(         EG$9>=$E72,       EG$9<=$F72, $D72<>0),     \"u\",    \"\")","v":""},{"$f":"IF(AND(         EH$9>=$E72,       EH$9<=$F72, $D72<>0),     \"u\",    \"\")","v":""},{"$f":"IF(AND(         EI$9>=$E72,       EI$9<=$F72, $D72<>0),     \"u\",    \"\")","v":""},{"$f":"IF(AND(         EJ$9>=$E72,       EJ$9<=$F72, $D72<>0),     \"u\",    \"\")","v":""},{"$f":"IF(AND(         EK$9>=$E72,       EK$9<=$F72, $D72<>0),     \"u\",    \"\")","v":""},{"$f":"IF(AND(         EL$9>=$E72,       EL$9<=$F72, $D72<>0),     \"u\",    \"\")","v":""},{"$f":"IF(AND(         EM$9>=$E72,       EM$9<=$F72, $D72<>0),     \"u\",    \"\")","v":""},{"$f":"IF(AND(         EN$9>=$E72,       EN$9<=$F72, $D72<>0),     \"u\",    \"\")","v":""},{"$f":"IF(AND(         EO$9>=$E72,       EO$9<=$F72, $D72<>0),     \"u\",    \"\")","v":""},{"$f":"IF(AND(         EP$9>=$E72,       EP$9<=$F72, $D72<>0),     \"u\",    \"\")","v":""},{"$f":"IF(AND(         EQ$9>=$E72,       EQ$9<=$F72, $D72<>0),     \"u\",    \"\")","v":""},{"$f":"IF(AND(         ER$9>=$E72,       ER$9<=$F72, $D72<>0),     \"u\",    \"\")","v":""},{"$f":"IF(AND(         ES$9>=$E72,       ES$9<=$F72, $D72<>0),     \"u\",    \"\")","v":""},{"$f":"IF(AND(         ET$9>=$E72,       ET$9<=$F72, $D72<>0),     \"u\",    \"\")","v":""},{"$f":"IF(AND(         EU$9>=$E72,       EU$9<=$F72, $D72<>0),     \"u\",    \"\")","v":""},{"$f":"IF(AND(         EV$9>=$E72,       EV$9<=$F72, $D72<>0),     \"u\",    \"\")","v":""},{"$f":"IF(AND(         EW$9>=$E72,       EW$9<=$F72, $D72<>0),     \"u\",    \"\")","v":""},{"$f":"IF(AND(         EX$9>=$E72,       EX$9<=$F72, $D72<>0),     \"u\",    \"\")","v":""},{"$f":"IF(AND(         EY$9>=$E72,       EY$9<=$F72, $D72<>0),     \"u\",    \"\")","v":""},{"$f":"IF(AND(         EZ$9>=$E72,       EZ$9<=$F72, $D72<>0),     \"u\",    \"\")","v":""},{"$f":"IF(AND(         FA$9>=$E72,       FA$9<=$F72, $D72<>0),     \"u\",    \"\")","v":""},{"$f":"IF(AND(         FB$9>=$E72,       FB$9<=$F72, $D72<>0),     \"u\",    \"\")","v":""},{"$f":"IF(AND(         FC$9>=$E72,       FC$9<=$F72, $D72<>0),     \"u\",    \"\")","v":""},{"$f":"IF(AND(         FD$9>=$E72,       FD$9<=$F72, $D72<>0),     \"u\",    \"\")","v":""},{"$f":"IF(AND(         FE$9>=$E72,       FE$9<=$F72, $D72<>0),     \"u\",    \"\")","v":""},{"$f":"IF(AND(         FF$9>=$E72,       FF$9<=$F72, $D72<>0),     \"u\",    \"\")","v":""},{"$f":"IF(AND(         FG$9>=$E72,       FG$9<=$F72, $D72<>0),     \"u\",    \"\")","v":""},{"$f":"IF(AND(         FH$9>=$E72,       FH$9<=$F72, $D72<>0),     \"u\",    \"\")","v":""},{"$f":"IF(AND(         FI$9>=$E72,       FI$9<=$F72, $D72<>0),     \"u\",    \"\")","v":""},{"$f":"IF(AND(         FJ$9>=$E72,       FJ$9<=$F72, $D72<>0),     \"u\",    \"\")","v":""},{"$f":"IF(AND(         FK$9>=$E72,       FK$9<=$F72, $D72<>0),     \"u\",    \"\")","v":""},{"$f":"IF(AND(         FL$9>=$E72,       FL$9<=$F72, $D72<>0),     \"u\",    \"\")","v":""},{"$f":"IF(AND(         FM$9>=$E72,       FM$9<=$F72, $D72<>0),     \"u\",    \"\")","v":""},{"$f":"IF(AND(         FN$9>=$E72,       FN$9<=$F72, $D72<>0),     \"u\",    \"\")","v":""},{"$f":"IF(AND(         FO$9>=$E72,       FO$9<=$F72, $D72<>0),     \"u\",    \"\")","v":""},{"$f":"IF(AND(         FP$9>=$E72,       FP$9<=$F72, $D72<>0),     \"u\",    \"\")","v":""},{"$f":"IF(AND(         FQ$9>=$E72,       FQ$9<=$F72, $D72<>0),     \"u\",    \"\")","v":""},{"$f":"IF(AND(         FR$9>=$E72,       FR$9<=$F72, $D72<>0),     \"u\",    \"\")","v":""},{"$f":"IF(AND(         FS$9>=$E72,       FS$9<=$F72, $D72<>0),     \"u\",    \"\")","v":""},{"$f":"IF(AND(         FT$9>=$E72,       FT$9<=$F72, $D72<>0),     \"u\",    \"\")","v":""},{"$f":"IF(AND(         FU$9>=$E72,       FU$9<=$F72, $D72<>0),     \"u\",    \"\")","v":""},{"$f":"IF(AND(         FV$9>=$E72,       FV$9<=$F72, $D72<>0),     \"u\",    \"\")","v":""},{"$f":"IF(AND(         FW$9>=$E72,       FW$9<=$F72, $D72<>0),     \"u\",    \"\")","v":""},{"$f":"IF(AND(         FX$9>=$E72,       FX$9<=$F72, $D72<>0),     \"u\",    \"\")","v":""},{"$f":"IF(AND(         FY$9>=$E72,       FY$9<=$F72, $D72<>0),     \"u\",    \"\")","v":""},{"$f":"IF(AND(         FZ$9>=$E72,       FZ$9<=$F72, $D72<>0),     \"u\",    \"\")","v":""},{"$f":"IF(AND(         GA$9>=$E72,       GA$9<=$F72, $D72<>0),     \"u\",    \"\")","v":""},{"$f":"IF(AND(         GB$9>=$E72,       GB$9<=$F72, $D72<>0),     \"u\",    \"\")","v":""},{"$f":"IF(AND(         GC$9>=$E72,       GC$9<=$F72, $D72<>0),     \"u\",    \"\")","v":""},{"$f":"IF(AND(         GD$9>=$E72,       GD$9<=$F72, $D72<>0),     \"u\",    \"\")","v":""},{"$f":"IF(AND(         GE$9>=$E72,       GE$9<=$F72, $D72<>0),     \"u\",    \"\")","v":""},{"$f":"IF(AND(         GF$9>=$E72,       GF$9<=$F72, $D72<>0),     \"u\",    \"\")","v":""},{"$f":"IF(AND(         GG$9>=$E72,       GG$9<=$F72, $D72<>0),     \"u\",    \"\")","v":""},{"$f":"IF(AND(         GH$9>=$E72,       GH$9<=$F72, $D72<>0),     \"u\",    \"\")","v":""},{"$f":"IF(AND(         GI$9>=$E72,       GI$9<=$F72, $D72<>0),     \"u\",    \"\")","v":""},{"$f":"IF(AND(         GJ$9>=$E72,       GJ$9<=$F72, $D72<>0),     \"u\",    \"\")","v":""},{"$f":"IF(AND(         GK$9>=$E72,       GK$9<=$F72, $D72<>0),     \"u\",    \"\")","v":""},{"$f":"IF(AND(         GL$9>=$E72,       GL$9<=$F72, $D72<>0),     \"u\",    \"\")","v":""},{"$f":"IF(AND(         GM$9>=$E72,       GM$9<=$F72, $D72<>0),     \"u\",    \"\")","v":""},{"$f":"IF(AND(         GN$9>=$E72,       GN$9<=$F72, $D72<>0),     \"u\",    \"\")","v":""},{"$f":"IF(AND(         GO$9>=$E72,       GO$9<=$F72, $D72<>0),     \"u\",    \"\")","v":""},{"$f":"IF(AND(         GP$9>=$E72,       GP$9<=$F72, $D72<>0),     \"u\",    \"\")","v":""},{"$f":"IF(AND(         GQ$9>=$E72,       GQ$9<=$F72, $D72<>0),     \"u\",    \"\")","v":""},{"$f":"IF(AND(         GR$9>=$E72,       GR$9<=$F72, $D72<>0),     \"u\",    \"\")","v":""},{"$f":"IF(AND(         GS$9>=$E72,       GS$9<=$F72, $D72<>0),     \"u\",    \"\")","v":""},{"$f":"IF(AND(         GT$9>=$E72,       GT$9<=$F72, $D72<>0),     \"u\",    \"\")","v":""},{"$f":"IF(AND(         GU$9>=$E72,       GU$9<=$F72, $D72<>0),     \"u\",    \"\")","v":""},{"$f":"IF(AND(         GV$9>=$E72,       GV$9<=$F72, $D72<>0),     \"u\",    \"\")","v":""},{"$f":"IF(AND(         GW$9>=$E72,       GW$9<=$F72, $D72<>0),     \"u\",    \"\")","v":""},{"$f":"IF(AND(         GX$9>=$E72,       GX$9<=$F72, $D72<>0),     \"u\",    \"\")","v":""},{"$f":"IF(AND(         GY$9>=$E72,       GY$9<=$F72, $D72<>0),     \"u\",    \"\")","v":""},{"$f":"IF(AND(         GZ$9>=$E72,       GZ$9<=$F72, $D72<>0),     \"u\",    \"\")","v":""},{"$f":"IF(AND(         HA$9>=$E72,       HA$9<=$F72, $D72<>0),     \"u\",    \"\")","v":""},{"$f":"IF(AND(         HB$9>=$E72,       HB$9<=$F72, $D72<>0),     \"u\",    \"\")","v":""},{"$f":"IF(AND(         HC$9>=$E72,       HC$9<=$F72, $D72<>0),     \"u\",    \"\")","v":""},{"$f":"IF(AND(         HD$9>=$E72,       HD$9<=$F72, $D72<>0),     \"u\",    \"\")","v":""},{"$f":"IF(AND(         HE$9>=$E72,       HE$9<=$F72, $D72<>0),     \"u\",    \"\")","v":""},{"$f":"IF(AND(         HF$9>=$E72,       HF$9<=$F72, $D72<>0),     \"u\",    \"\")","v":""},{"$f":"IF(AND(         HG$9>=$E72,       HG$9<=$F72, $D72<>0),     \"u\",    \"\")","v":""},{"$f":"IF(AND(         HH$9>=$E72,       HH$9<=$F72, $D72<>0),     \"u\",    \"\")","v":""},{"$f":"IF(AND(         HI$9>=$E72,       HI$9<=$F72, $D72<>0),     \"u\",    \"\")","v":""},{"$f":"IF(AND(         HJ$9>=$E72,       HJ$9<=$F72, $D72<>0),     \"u\",    \"\")","v":""},{"$f":"IF(AND(         HK$9>=$E72,       HK$9<=$F72, $D72<>0),     \"u\",    \"\")","v":""},{"$f":"IF(AND(         HL$9>=$E72,       HL$9<=$F72, $D72<>0),     \"u\",    \"\")","v":""},{"$f":"IF(AND(         HM$9>=$E72,       HM$9<=$F72, $D72<>0),     \"u\",    \"\")","v":""},{"$f":"IF(AND(         HN$9>=$E72,       HN$9<=$F72, $D72<>0),     \"u\",    \"\")","v":""},{"$f":"IF(AND(         HO$9>=$E72,       HO$9<=$F72, $D72<>0),     \"u\",    \"\")","v":""},{"$f":"IF(AND(         HP$9>=$E72,       HP$9<=$F72, $D72<>0),     \"u\",    \"\")","v":""},{"$f":"IF(AND(         HQ$9>=$E72,       HQ$9<=$F72, $D72<>0),     \"u\",    \"\")","v":""},{"$f":"IF(AND(         HR$9>=$E72,       HR$9<=$F72, $D72<>0),     \"u\",    \"\")","v":""},{"$f":"IF(AND(         HS$9>=$E72,       HS$9<=$F72, $D72<>0),     \"u\",    \"\")","v":""},{"$f":"IF(AND(         HT$9>=$E72,       HT$9<=$F72, $D72<>0),     \"u\",    \"\")","v":""},{"$f":"IF(AND(         HU$9>=$E72,       HU$9<=$F72, $D72<>0),     \"u\",    \"\")","v":""},{"$f":"IF(AND(         HV$9>=$E72,       HV$9<=$F72, $D72<>0),     \"u\",    \"\")","v":""},{"$f":"IF(AND(         HW$9>=$E72,       HW$9<=$F72, $D72<>0),     \"u\",    \"\")","v":""},{"$f":"IF(AND(         HX$9>=$E72,       HX$9<=$F72, $D72<>0),     \"u\",    \"\")","v":""},{"$f":"IF(AND(         HY$9>=$E72,       HY$9<=$F72, $D72<>0),     \"u\",    \"\")","v":""},{"$f":"IF(AND(         HZ$9>=$E72,       HZ$9<=$F72, $D72<>0),     \"u\",    \"\")","v":""},{"$f":"IF(AND(         IA$9>=$E72,       IA$9<=$F72, $D72<>0),     \"u\",    \"\")","v":""},{"$f":"IF(AND(         IB$9>=$E72,       IB$9<=$F72, $D72<>0),     \"u\",    \"\")","v":""},{"$f":"IF(AND(         IC$9>=$E72,       IC$9<=$F72, $D72<>0),     \"u\",    \"\")","v":""},{"$f":"IF(AND(         ID$9>=$E72,       ID$9<=$F72, $D72<>0),     \"u\",    \"\")","v":""},{"$f":"IF(AND(         IE$9>=$E72,       IE$9<=$F72, $D72<>0),     \"u\",    \"\")","v":""},{"$f":"IF(AND(         IF$9>=$E72,       IF$9<=$F72, $D72<>0),     \"u\",    \"\")","v":""},{"$f":"IF(AND(         IG$9>=$E72,       IG$9<=$F72, $D72<>0),     \"u\",    \"\")","v":""},{"$f":"IF(AND(         IH$9>=$E72,       IH$9<=$F72, $D72<>0),     \"u\",    \"\")","v":""},{"$f":"IF(AND(         II$9>=$E72,       II$9<=$F72, $D72<>0),     \"u\",    \"\")","v":""},{"$f":"IF(AND(         IJ$9>=$E72,       IJ$9<=$F72, $D72<>0),     \"u\",    \"\")","v":""},{"$f":"IF(AND(         IK$9>=$E72,       IK$9<=$F72, $D72<>0),     \"u\",    \"\")","v":""},{"$f":"IF(AND(         IL$9>=$E72,       IL$9<=$F72, $D72<>0),     \"u\",    \"\")","v":""},{"$f":"IF(AND(         IM$9>=$E72,       IM$9<=$F72, $D72<>0),     \"u\",    \"\")","v":""},{"$f":"IF(AND(         IN$9>=$E72,       IN$9<=$F72, $D72<>0),     \"u\",    \"\")","v":""},{"$f":"IF(AND(         IO$9>=$E72,       IO$9<=$F72, $D72<>0),     \"u\",    \"\")","v":""},{"$f":"IF(AND(         IP$9>=$E72,       IP$9<=$F72, $D72<>0),     \"u\",    \"\")","v":""},{"$f":"IF(AND(         IQ$9>=$E72,       IQ$9<=$F72, $D72<>0),     \"u\",    \"\")","v":""},{"$f":"IF(AND(         IR$9>=$E72,       IR$9<=$F72, $D72<>0),     \"u\",    \"\")","v":""},{"$f":"IF(AND(         IS$9>=$E72,       IS$9<=$F72, $D72<>0),     \"u\",    \"\")","v":""},{"$f":"IF(AND(         IT$9>=$E72,       IT$9<=$F72, $D72<>0),     \"u\",    \"\")","v":""},{"$f":"IF(AND(         IU$9>=$E72,       IU$9<=$F72, $D72<>0),     \"u\",    \"\")","v":""},{"$f":"IF(AND(         IV$9>=$E72,       IV$9<=$F72, $D72<>0),     \"u\",    \"\")","v":""},{"$f":"IF(AND(         IW$9>=$E72,       IW$9<=$F72, $D72<>0),     \"u\",    \"\")","v":""},{"$f":"IF(AND(         IX$9>=$E72,       IX$9<=$F72, $D72<>0),     \"u\",    \"\")","v":""},{"$f":"IF(AND(         IY$9>=$E72,       IY$9<=$F72, $D72<>0),     \"u\",    \"\")","v":""},{"$f":"IF(AND(         IZ$9>=$E72,       IZ$9<=$F72, $D72<>0),     \"u\",    \"\")","v":""},{"$f":"IF(AND(         JA$9>=$E72,       JA$9<=$F72, $D72<>0),     \"u\",    \"\")","v":""},{"$f":"IF(AND(         JB$9>=$E72,       JB$9<=$F72, $D72<>0),     \"u\",    \"\")","v":""},{"$f":"IF(AND(         JC$9>=$E72,       JC$9<=$F72, $D72<>0),     \"u\",    \"\")","v":""},{"$f":"IF(AND(         JD$9>=$E72,       JD$9<=$F72, $D72<>0),     \"u\",    \"\")","v":""},{"$f":"IF(AND(         JE$9>=$E72,       JE$9<=$F72, $D72<>0),     \"u\",    \"\")","v":""},{"$f":"IF(AND(         JF$9>=$E72,       JF$9<=$F72, $D72<>0),     \"u\",    \"\")","v":""},{"$f":"IF(AND(         JG$9>=$E72,       JG$9<=$F72, $D72<>0),     \"u\",    \"\")","v":""},{"$f":"IF(AND(         JH$9>=$E72,       JH$9<=$F72, $D72<>0),     \"u\",    \"\")","v":""},{"$f":"IF(AND(         JI$9>=$E72,       JI$9<=$F72, $D72<>0),     \"u\",    \"\")","v":""},{"$f":"IF(AND(         JJ$9>=$E72,       JJ$9<=$F72, $D72<>0),     \"u\",    \"\")","v":""},{"$f":"IF(AND(         JK$9>=$E72,       JK$9<=$F72, $D72<>0),     \"u\",    \"\")","v":""},{"$f":"IF(AND(         JL$9>=$E72,       JL$9<=$F72, $D72<>0),     \"u\",    \"\")","v":""},{"$f":"IF(AND(         JM$9>=$E72,       JM$9<=$F72, $D72<>0),     \"u\",    \"\")","v":""},{"$f":"IF(AND(         JN$9>=$E72,       JN$9<=$F72, $D72<>0),     \"u\",    \"\")","v":""},{"$f":"IF(AND(         JO$9>=$E72,       JO$9<=$F72, $D72<>0),     \"u\",    \"\")","v":""},{"$f":"IF(AND(         JP$9>=$E72,       JP$9<=$F72, $D72<>0),     \"u\",    \"\")","v":""},{"$f":"IF(AND(         JQ$9>=$E72,       JQ$9<=$F72, $D72<>0),     \"u\",    \"\")","v":""},{"$f":"IF(AND(         JR$9>=$E72,       JR$9<=$F72, $D72<>0),     \"u\",    \"\")","v":""},{"$f":"IF(AND(         JS$9>=$E72,       JS$9<=$F72, $D72<>0),     \"u\",    \"\")","v":""},{"$f":"IF(AND(         JT$9>=$E72,       JT$9<=$F72, $D72<>0),     \"u\",    \"\")","v":""},{"$f":"IF(AND(         JU$9>=$E72,       JU$9<=$F72, $D72<>0),     \"u\",    \"\")","v":""},{"$f":"IF(AND(         JV$9>=$E72,       JV$9<=$F72, $D72<>0),     \"u\",    \"\")","v":""},{"$f":"IF(AND(         JW$9>=$E72,       JW$9<=$F72, $D72<>0),     \"u\",    \"\")","v":""},{"$f":"IF(AND(         JX$9>=$E72,       JX$9<=$F72, $D72<>0),     \"u\",    \"\")","v":""},{"$f":"IF(AND(         JY$9>=$E72,       JY$9<=$F72, $D72<>0),     \"u\",    \"\")","v":""},{"$f":"IF(AND(         JZ$9>=$E72,       JZ$9<=$F72, $D72<>0),     \"u\",    \"\")","v":""},{"$f":"IF(AND(         KA$9>=$E72,       KA$9<=$F72, $D72<>0),     \"u\",    \"\")","v":""},{"$f":"IF(AND(         KB$9>=$E72,       KB$9<=$F72, $D72<>0),     \"u\",    \"\")","v":""},{"$f":"IF(AND(         KC$9>=$E72,       KC$9<=$F72, $D72<>0),     \"u\",    \"\")","v":""},{"$f":"IF(AND(         KD$9>=$E72,       KD$9<=$F72, $D72<>0),     \"u\",    \"\")","v":""},{"$f":"IF(AND(         KE$9>=$E72,       KE$9<=$F72, $D72<>0),     \"u\",    \"\")","v":""},{"$f":"IF(AND(         KF$9>=$E72,       KF$9<=$F72, $D72<>0),     \"u\",    \"\")","v":""},{"$f":"IF(AND(         KG$9>=$E72,       KG$9<=$F72, $D72<>0),     \"u\",    \"\")","v":""},{"$f":"IF(AND(         KH$9>=$E72,       KH$9<=$F72, $D72<>0),     \"u\",    \"\")","v":""},{"$f":"IF(AND(         KI$9>=$E72,       KI$9<=$F72, $D72<>0),     \"u\",    \"\")","v":""},{"$f":"IF(AND(         KJ$9>=$E72,       KJ$9<=$F72, $D72<>0),     \"u\",    \"\")","v":""},{"$f":"IF(AND(         KK$9>=$E72,       KK$9<=$F72, $D72<>0),     \"u\",    \"\")","v":""},{"$f":"IF(AND(         KL$9>=$E72,       KL$9<=$F72, $D72<>0),     \"u\",    \"\")","v":""},{"$f":"IF(AND(         KM$9>=$E72,       KM$9<=$F72, $D72<>0),     \"u\",    \"\")","v":""},{"$f":"IF(AND(         KN$9>=$E72,       KN$9<=$F72, $D72<>0),     \"u\",    \"\")","v":""},{"$f":"IF(AND(         KO$9>=$E72,       KO$9<=$F72, $D72<>0),     \"u\",    \"\")","v":""},{"$f":"IF(AND(         KP$9>=$E72,       KP$9<=$F72, $D72<>0),     \"u\",    \"\")","v":""},{"$f":"IF(AND(         KQ$9>=$E72,       KQ$9<=$F72, $D72<>0),     \"u\",    \"\")","v":""},{"$f":"IF(AND(         KR$9>=$E72,       KR$9<=$F72, $D72<>0),     \"u\",    \"\")","v":""},{"$f":"IF(AND(         KS$9>=$E72,       KS$9<=$F72, $D72<>0),     \"u\",    \"\")","v":""},{"$f":"IF(AND(         KT$9>=$E72,       KT$9<=$F72, $D72<>0),     \"u\",    \"\")","v":""},{"$f":"IF(AND(         KU$9>=$E72,       KU$9<=$F72, $D72<>0),     \"u\",    \"\")","v":""},{"$f":"IF(AND(         KV$9>=$E72,       KV$9<=$F72, $D72<>0),     \"u\",    \"\")","v":""},{"$f":"IF(AND(         KW$9>=$E72,       KW$9<=$F72, $D72<>0),     \"u\",    \"\")","v":""},{"$f":"IF(AND(         KX$9>=$E72,       KX$9<=$F72, $D72<>0),     \"u\",    \"\")","v":""},{"$f":"IF(AND(         KY$9>=$E72,       KY$9<=$F72, $D72<>0),     \"u\",    \"\")","v":""},{"$f":"IF(AND(         KZ$9>=$E72,       KZ$9<=$F72, $D72<>0),     \"u\",    \"\")","v":""},{"$f":"IF(AND(         LA$9>=$E72,       LA$9<=$F72, $D72<>0),     \"u\",    \"\")","v":""},{"$f":"IF(AND(         LB$9>=$E72,       LB$9<=$F72, $D72<>0),     \"u\",    \"\")","v":""},{"$f":"IF(AND(         LC$9>=$E72,       LC$9<=$F72, $D72<>0),     \"u\",    \"\")","v":""},{"$f":"IF(AND(         LD$9>=$E72,       LD$9<=$F72, $D72<>0),     \"u\",    \"\")","v":""},{"$f":"IF(AND(         LE$9>=$E72,       LE$9<=$F72, $D72<>0),     \"u\",    \"\")","v":""},{"$f":"IF(AND(         LF$9>=$E72,       LF$9<=$F72, $D72<>0),     \"u\",    \"\")","v":""},{"$f":"IF(AND(         LG$9>=$E72,       LG$9<=$F72, $D72<>0),     \"u\",    \"\")","v":""},{"$f":"IF(AND(         LH$9>=$E72,       LH$9<=$F72, $D72<>0),     \"u\",    \"\")","v":""},{"$f":"IF(AND(         LI$9>=$E72,       LI$9<=$F72, $D72<>0),     \"u\",    \"\")","v":""},{"$f":"IF(AND(         LJ$9>=$E72,       LJ$9<=$F72, $D72<>0),     \"u\",    \"\")","v":""},{"$f":"IF(AND(         LK$9>=$E72,       LK$9<=$F72, $D72<>0),     \"u\",    \"\")","v":""},{"$f":"IF(AND(         LL$9>=$E72,       LL$9<=$F72, $D72<>0),     \"u\",    \"\")","v":""},{"$f":"IF(AND(         LM$9>=$E72,       LM$9<=$F72, $D72<>0),     \"u\",    \"\")","v":""},{"$f":"IF(AND(         LN$9>=$E72,       LN$9<=$F72, $D72<>0),     \"u\",    \"\")","v":""},{"$f":"IF(AND(         LO$9>=$E72,       LO$9<=$F72, $D72<>0),     \"u\",    \"\")","v":""},{"$f":"IF(AND(         LP$9>=$E72,       LP$9<=$F72, $D72<>0),     \"u\",    \"\")","v":""},{"$f":"IF(AND(         LQ$9>=$E72,       LQ$9<=$F72, $D72<>0),     \"u\",    \"\")","v":""},{"$f":"IF(AND(         LR$9>=$E72,       LR$9<=$F72, $D72<>0),     \"u\",    \"\")","v":""},{"$f":"IF(AND(         LS$9>=$E72,       LS$9<=$F72, $D72<>0),     \"u\",    \"\")","v":""},{"$f":"IF(AND(         LT$9>=$E72,       LT$9<=$F72, $D72<>0),     \"u\",    \"\")","v":""},{"$f":"IF(AND(         LU$9>=$E72,       LU$9<=$F72, $D72<>0),     \"u\",    \"\")","v":""},{"$f":"IF(AND(         LV$9>=$E72,       LV$9<=$F72, $D72<>0),     \"u\",    \"\")","v":""},{"$f":"IF(AND(         LW$9>=$E72,       LW$9<=$F72, $D72<>0),     \"u\",    \"\")","v":""},{"$f":"IF(AND(         LX$9>=$E72,       LX$9<=$F72, $D72<>0),     \"u\",    \"\")","v":""},{"$f":"IF(AND(         LY$9>=$E72,       LY$9<=$F72, $D72<>0),     \"u\",    \"\")","v":""},{"$f":"IF(AND(         LZ$9>=$E72,       LZ$9<=$F72, $D72<>0),     \"u\",    \"\")","v":""},{"$f":"IF(AND(         MA$9>=$E72,       MA$9<=$F72, $D72<>0),     \"u\",    \"\")","v":""},{"$f":"IF(AND(         MB$9>=$E72,       MB$9<=$F72, $D72<>0),     \"u\",    \"\")","v":""},{"$f":"IF(AND(         MC$9>=$E72,       MC$9<=$F72, $D72<>0),     \"u\",    \"\")","v":""},{"$f":"IF(AND(         MD$9>=$E72,       MD$9<=$F72, $D72<>0),     \"u\",    \"\")","v":""},{"$f":"IF(AND(         ME$9>=$E72,       ME$9<=$F72, $D72<>0),     \"u\",    \"\")","v":""},{"$f":"IF(AND(         MF$9>=$E72,       MF$9<=$F72, $D72<>0),     \"u\",    \"\")","v":""},{"$f":"IF(AND(         MG$9>=$E72,       MG$9<=$F72, $D72<>0),     \"u\",    \"\")","v":""},{"$f":"IF(AND(         MH$9>=$E72,       MH$9<=$F72, $D72<>0),     \"u\",    \"\")","v":""},{"$f":"IF(AND(         MI$9>=$E72,       MI$9<=$F72, $D72<>0),     \"u\",    \"\")","v":""},{"$f":"IF(AND(         MJ$9>=$E72,       MJ$9<=$F72, $D72<>0),     \"u\",    \"\")","v":""},{"$f":"IF(AND(         MK$9>=$E72,       MK$9<=$F72, $D72<>0),     \"u\",    \"\")","v":""},{"$f":"IF(AND(         ML$9>=$E72,       ML$9<=$F72, $D72<>0),     \"u\",    \"\")","v":""},{"$f":"IF(AND(         MM$9>=$E72,       MM$9<=$F72, $D72<>0),     \"u\",    \"\")","v":""},{"$f":"IF(AND(         MN$9>=$E72,       MN$9<=$F72, $D72<>0),     \"u\",    \"\")","v":""},{"$f":"IF(AND(         MO$9>=$E72,       MO$9<=$F72, $D72<>0),     \"u\",    \"\")","v":""},{"$f":"IF(AND(         MP$9>=$E72,       MP$9<=$F72, $D72<>0),     \"u\",    \"\")","v":""},{"$f":"IF(AND(         MQ$9>=$E72,       MQ$9<=$F72, $D72<>0),     \"u\",    \"\")","v":""},{"$f":"IF(AND(         MR$9>=$E72,       MR$9<=$F72, $D72<>0),     \"u\",    \"\")","v":""},{"$f":"IF(AND(         MS$9>=$E72,       MS$9<=$F72, $D72<>0),     \"u\",    \"\")","v":""},{"$f":"IF(AND(         MT$9>=$E72,       MT$9<=$F72, $D72<>0),     \"u\",    \"\")","v":""},{"$f":"IF(AND(         MU$9>=$E72,       MU$9<=$F72, $D72<>0),     \"u\",    \"\")","v":""},{"$f":"IF(AND(         MV$9>=$E72,       MV$9<=$F72, $D72<>0),     \"u\",    \"\")","v":""},{"$f":"IF(AND(         MW$9>=$E72,       MW$9<=$F72, $D72<>0),     \"u\",    \"\")","v":""},{"$f":"IF(AND(         MX$9>=$E72,       MX$9<=$F72, $D72<>0),     \"u\",    \"\")","v":""},{"$f":"IF(AND(         MY$9>=$E72,       MY$9<=$F72, $D72<>0),     \"u\",    \"\")","v":""},{"$f":"IF(AND(         MZ$9>=$E72,       MZ$9<=$F72, $D72<>0),     \"u\",    \"\")","v":""},{"$f":"IF(AND(         NA$9>=$E72,       NA$9<=$F72, $D72<>0),     \"u\",    \"\")","v":""},{"$f":"IF(AND(         NB$9>=$E72,       NB$9<=$F72, $D72<>0),     \"u\",    \"\")","v":""},{"$f":"IF(AND(         NC$9>=$E72,       NC$9<=$F72, $D72<>0),     \"u\",    \"\")","v":""},{"$f":"IF(AND(         ND$9>=$E72,       ND$9<=$F72, $D72<>0),     \"u\",    \"\")","v":""},{"$f":"IF(AND(         NE$9>=$E72,       NE$9<=$F72, $D72<>0),     \"u\",    \"\")","v":""},{"$f":"IF(AND(         NF$9>=$E72,       NF$9<=$F72, $D72<>0),     \"u\",    \"\")","v":""},{"$f":"IF(AND(         NG$9>=$E72,       NG$9<=$F72, $D72<>0),     \"u\",    \"\")","v":""},{"$f":"IF(AND(         NH$9>=$E72,       NH$9<=$F72, $D72<>0),     \"u\",    \"\")","v":""},{"$f":"IF(AND(         NI$9>=$E72,       NI$9<=$F72, $D72<>0),     \"u\",    \"\")","v":""},{"$f":"IF(AND(         NJ$9>=$E72,       NJ$9<=$F72, $D72<>0),     \"u\",    \"\")","v":""},{"$f":"IF(AND(         NK$9>=$E72,       NK$9<=$F72, $D72<>0),     \"u\",    \"\")","v":""},{"$f":"IF(AND(         NL$9>=$E72,       NL$9<=$F72, $D72<>0),     \"u\",    \"\")","v":""},{"$f":"IF(AND(         NM$9>=$E72,       NM$9<=$F72, $D72<>0),     \"u\",    \"\")","v":""},{"$f":"IF(AND(         NN$9>=$E72,       NN$9<=$F72, $D72<>0),     \"u\",    \"\")","v":""},{"$f":"IF(AND(         NO$9>=$E72,       NO$9<=$F72, $D72<>0),     \"u\",    \"\")","v":""},{"$f":"IF(AND(         NP$9>=$E72,       NP$9<=$F72, $D72<>0),     \"u\",    \"\")","v":""},{"$f":"IF(AND(         NQ$9>=$E72,       NQ$9<=$F72, $D72<>0),     \"u\",    \"\")","v":""},{"$f":"IF(AND(         NR$9>=$E72,       NR$9<=$F72, $D72<>0),     \"u\",    \"\")","v":""},{"$f":"IF(AND(         NS$9>=$E72,       NS$9<=$F72, $D72<>0),     \"u\",    \"\")","v":""},{"$f":"IF(AND(         NT$9>=$E72,       NT$9<=$F72, $D72<>0),     \"u\",    \"\")","v":""},{"$f":"IF(AND(         NU$9>=$E72,       NU$9<=$F72, $D72<>0),     \"u\",    \"\")","v":""},{"$f":"IF(AND(         NV$9>=$E72,       NV$9<=$F72, $D72<>0),     \"u\",    \"\")","v":""},{"$f":"IF(AND(         NW$9>=$E72,       NW$9<=$F72, $D72<>0),     \"u\",    \"\")","v":""},{"$f":"IF(AND(         NX$9>=$E72,       NX$9<=$F72, $D72<>0),     \"u\",    \"\")","v":""},{"$f":"IF(AND(         NY$9>=$E72,       NY$9<=$F72, $D72<>0),     \"u\",    \"\")","v":""},{"$f":"IF(AND(         NZ$9>=$E72,       NZ$9<=$F72, $D72<>0),     \"u\",    \"\")","v":""},{"$f":"IF(AND(         OA$9>=$E72,       OA$9<=$F72, $D72<>0),     \"u\",    \"\")","v":""},{"$f":"IF(AND(         OB$9>=$E72,       OB$9<=$F72, $D72<>0),     \"u\",    \"\")","v":""},{"$f":"IF(AND(         OC$9>=$E72,       OC$9<=$F72, $D72<>0),     \"u\",    \"\")","v":""},{"$f":"IF(AND(         OD$9>=$E72,       OD$9<=$F72, $D72<>0),     \"u\",    \"\")","v":""},{"$f":"IF(AND(         OE$9>=$E72,       OE$9<=$F72, $D72<>0),     \"u\",    \"\")","v":""},{"$f":"IF(AND(         OF$9>=$E72,       OF$9<=$F72, $D72<>0),     \"u\",    \"\")","v":""},{"$f":"IF(AND(         OG$9>=$E72,       OG$9<=$F72, $D72<>0),     \"u\",    \"\")","v":""},{"$f":"IF(AND(         OH$9>=$E72,       OH$9<=$F72, $D72<>0),     \"u\",    \"\")","v":""},{"$f":"IF(AND(         OI$9>=$E72,       OI$9<=$F72, $D72<>0),     \"u\",    \"\")","v":""},{"$f":"IF(AND(         OJ$9>=$E72,       OJ$9<=$F72, $D72<>0),     \"u\",    \"\")","v":""},{"$f":"IF(AND(         OK$9>=$E72,       OK$9<=$F72, $D72<>0),     \"u\",    \"\")","v":""},{"$f":"IF(AND(         OL$9>=$E72,       OL$9<=$F72, $D72<>0),     \"u\",    \"\")","v":""}]
[null,null,null,null,null,null,"",null,"","","","","","","","","","","","","","","","","","","","","","","","","","","","","","","","","","","","","","","","","","","","","","","","","","","","","","","","","","","","","","","","","","","","","","","","","","","","","","","","","","","","","","","","","","","","","","","","","","","","","","","","","","","","","","","","","","","","","","","","","","","","","","","","","","","","","","","","","","","","","","","","","","","","","","","","","","","","","","","","","","","","","","","","","","","","","","","","","","","","","","","","","","","","","","","","","","","","","","","","","","","","","","","","","","","","","","","","","","","","","","","","","","","","","","","","","","","","","","","","","","","","","","","","","","","","","","","","","","","","","","","","","","","","","","","","","","","","","","","","","","","","","","","","","","","","","","","","","","","","","","","","","","","","","","","","","","","","","","","","","","","","","","","","","","","","","","","","","","","","","","","","","","","","","","","","","","","","","","","","","","","","","","","","","","","","","","","","","","","","","","","","","","","","","","","","","",""]
[null,null,null,null,null,null,{"$f":"IF(AND(    E74=0,F74=0),  \"\",         IF($C$5<=E74,0,IF($C$5>F74,1,_xlfn.DAYS($C$5,E74)/_xlfn.DAYS(F74,E74))))","v":""},null,{"$f":"IF(AND(         I$9>=$E74,       I$9<=$F74, $D74<>0),     \"u\",    \"\")","v":""},"","","","","","","","","",{"$f":"IF(AND(         S$9>=$E74,       S$9<=$F74, $D74<>0),     \"u\",    \"\")","v":""},"","","","","","","","","",{"$f":"IF(AND(         AC$9>=$E74,       AC$9<=$F74, $D74<>0),     \"u\",    \"\")","v":""},"","","","","","","","","",{"$f":"IF(AND(         AM$9>=$E74,       AM$9<=$F74, $D74<>0),     \"u\",    \"\")","v":""},"","","","","","","","","",{"$f":"IF(AND(         AW$9>=$E74,       AW$9<=$F74, $D74<>0),     \"u\",    \"\")","v":""},"","","","","","","","","",{"$f":"IF(AND(         BG$9>=$E74,       BG$9<=$F74, $D74<>0),     \"u\",    \"\")","v":""},"","","","","","","","","",{"$f":"IF(AND(         BQ$9>=$E74,       BQ$9<=$F74, $D74<>0),     \"u\",    \"\")","v":""},"","","","","","","","","",{"$f":"IF(AND(         CA$9>=$E74,       CA$9<=$F74, $D74<>0),     \"u\",    \"\")","v":""},"","","","","","","","","",{"$f":"IF(AND(         CK$9>=$E74,       CK$9<=$F74, $D74<>0),     \"u\",    \"\")","v":""},"","","","","","","","","",{"$f":"IF(AND(         CU$9>=$E74,       CU$9<=$F74, $D74<>0),     \"u\",    \"\")","v":""},"","","","","","","","","",{"$f":"IF(AND(         DE$9>=$E74,       DE$9<=$F74, $D74<>0),     \"u\",    \"\")","v":""},"","","","","","","","","",{"$f":"IF(AND(         DO$9>=$E74,       DO$9<=$F74, $D74<>0),     \"u\",    \"\")","v":""},"","","","","","","","","",{"$f":"IF(AND(         DY$9>=$E74,       DY$9<=$F74, $D74<>0),     \"u\",    \"\")","v":""},"","","","","","","","","",{"$f":"IF(AND(         EI$9>=$E74,       EI$9<=$F74, $D74<>0),     \"u\",    \"\")","v":""},"","","","","","","","","",{"$f":"IF(AND(         ES$9>=$E74,       ES$9<=$F74, $D74<>0),     \"u\",    \"\")","v":""},"","","","","","","","","",{"$f":"IF(AND(         FC$9>=$E74,       FC$9<=$F74, $D74<>0),     \"u\",    \"\")","v":""},"","","","","","","","","",{"$f":"IF(AND(         FM$9>=$E74,       FM$9<=$F74, $D74<>0),     \"u\",    \"\")","v":""},"","","","","","","","","",{"$f":"IF(AND(         FW$9>=$E74,       FW$9<=$F74, $D74<>0),     \"u\",    \"\")","v":""},"","","","","","","","","",{"$f":"IF(AND(         GG$9>=$E74,       GG$9<=$F74, $D74<>0),     \"u\",    \"\")","v":""},"","","","","","","","","",{"$f":"IF(AND(         GQ$9>=$E74,       GQ$9<=$F74, $D74<>0),     \"u\",    \"\")","v":""},"","","","","","","","","",{"$f":"IF(AND(         HA$9>=$E74,       HA$9<=$F74, $D74<>0),     \"u\",    \"\")","v":""},"","","","","","","","","",{"$f":"IF(AND(         HK$9>=$E74,       HK$9<=$F74, $D74<>0),     \"u\",    \"\")","v":""},"","","","","","","","","",{"$f":"IF(AND(         HU$9>=$E74,       HU$9<=$F74, $D74<>0),     \"u\",    \"\")","v":""},"","","","","","","","","",{"$f":"IF(AND(         IE$9>=$E74,       IE$9<=$F74, $D74<>0),     \"u\",    \"\")","v":""},"","","","","","","","","",{"$f":"IF(AND(         IO$9>=$E74,       IO$9<=$F74, $D74<>0),     \"u\",    \"\")","v":""},"","","","","","","","","",{"$f":"IF(AND(         IY$9>=$E74,       IY$9<=$F74, $D74<>0),     \"u\",    \"\")","v":""},"","","","","","","","","",{"$f":"IF(AND(         JI$9>=$E74,       JI$9<=$F74, $D74<>0),     \"u\",    \"\")","v":""},"","","","","","","","","",{"$f":"IF(AND(         JS$9>=$E74,       JS$9<=$F74, $D74<>0),     \"u\",    \"\")","v":""},"","","","","","","","","",{"$f":"IF(AND(         KC$9>=$E74,       KC$9<=$F74, $D74<>0),     \"u\",    \"\")","v":""},"","","","","","","","","",{"$f":"IF(AND(         KM$9>=$E74,       KM$9<=$F74, $D74<>0),     \"u\",    \"\")","v":""},"","","","","","","","","",{"$f":"IF(AND(         KW$9>=$E74,       KW$9<=$F74, $D74<>0),     \"u\",    \"\")","v":""},"","","","","","","","","",{"$f":"IF(AND(         LG$9>=$E74,       LG$9<=$F74, $D74<>0),     \"u\",    \"\")","v":""},"","","","","","","","","",{"$f":"IF(AND(         LQ$9>=$E74,       LQ$9<=$F74, $D74<>0),     \"u\",    \"\")","v":""},"","","","","","","","","",{"$f":"IF(AND(         MA$9>=$E74,       MA$9<=$F74, $D74<>0),     \"u\",    \"\")","v":""},"","","","","","","","","",{"$f":"IF(AND(         MK$9>=$E74,       MK$9<=$F74, $D74<>0),     \"u\",    \"\")","v":""},"","","","","","","","","",{"$f":"IF(AND(         MU$9>=$E74,       MU$9<=$F74, $D74<>0),     \"u\",    \"\")","v":""},"","","","","","","","","",{"$f":"IF(AND(         NE$9>=$E74,       NE$9<=$F74, $D74<>0),     \"u\",    \"\")","v":""},"","","","","","","","","",{"$f":"IF(AND(         NO$9>=$E74,       NO$9<=$F74, $D74<>0),     \"u\",    \"\")","v":""},"","","","","","","","","",{"$f":"IF(AND(         NY$9>=$E74,       NY$9<=$F74, $D74<>0),     \"u\",    \"\")","v":""},"","","","","","","","","","","","",""]
[null,null,null,null,null,null,{"$f":"IF(AND(    E75=0,F75=0),  \"\",         IF($C$5<=E75,0,IF($C$5>F75,1,_xlfn.DAYS($C$5,E75)/_xlfn.DAYS(F75,E75))))","v":""},null,"","","","","","","","","","","","","","","","","","","","","","","","","","","","","","","","","","","","","","","","","","","","","","","","","","","","","","","","","","","","","","","","","","","","","","","","","","","","","","","","","","","","","","","","","","","","","","","","","","","","","","","","","","","","","","","","","","","","","","","","","","","","","","","","","","","","","","","","","","","","","","","","","","","","","","","","","","","","","","","","","","","","","","","","","","","","","","","","","","","","","","","","","","","","","","","","","","","","","","","","","","","","","","","","","","","","","","","","","","","","","","","","","","","","","","","","","","","","","","","","","","","","","","","","","","","","","","","","","","","","","","","","","","","","","","","","","","","","","","","","","","","","","","","","","","","","","","","","","","","","","","","","","","","","","","","","","","","","","","","","","","","","","","","","","","","","","","","","","","","","","","","","","","","","","","","","","","","","","","","","","","","","","","","","","","","","","","","","","","","","","","","","","","","","","","","","","",""]
[null,null,null,null,null,null,{"$f":"IF(AND(    E76=0,F76=0),  \"\",         IF($C$5<=E76,0,IF($C$5>F76,1,_xlfn.DAYS($C$5,E76)/_xlfn.DAYS(F76,E76))))","v":""},null,"","","","","","","","","","","","","","","","","","","","","","","","","","","","","","","","","","","","","","","","","","","","","","","","","","","","","","","","","","","","","","","","","","","","","","","","","","","","","","","","","","","","","","","","","","","","","","","","","","","","","","","","","","","","","","","","","","","","","","","","","","","","","","","","","","","","","","","","","","","","","","","","","","","","","","","","","","","","","","","","","","","","","","","","","","","","","","","","","","","","","","","","","","","","","","","","","","","","","","","","","","","","","","","","","","","","","","","","","","","","","","","","","","","","","","","","","","","","","","","","","","","","","","","","","","","","","","","","","","","","","","","","","","","","","","","","","","","","","","","","","","","","","","","","","","","","","","","","","","","","","","","","","","","","","","","","","","","","","","","","","","","","","","","","","","","","","","","","","","","","","","","","","","","","","","","","","","","","","","","","","","","","","","","","","","","","","","","","","","","","","","","","","","","","","","","","","",""]

{"sheet":"Jahresplan","index":2,"n_rows":81,"n_cols":400,"rows_kept":81,"cut":false,"hidden":false,"merged":[[6,379,6,385],[6,386,6,392],[6,393,6,399],[6,337,6,343],[6,344,6,350],[6,351,6,357],[6,358,6,364],[6,365,6,371],[6,372,6,378],[6,295,6,301],[6,302,6,308],[6,309,6,315],[6,316,6,322],[6,323,6,329],[6,330,6,336],[6,253,6,259],[6,260,6,266],[6,267,6,273],[6,274,6,280],[6,281,6,287],[6,288,6,294],[6,218,6,224],[6,225,6,231],[6,232,6,238],[6,239,6,245],[6,246,6,252],[6,169,6,175],[6,176,6,182],[6,183,6,189],[6,190,6,196],[6,197,6,203],[6,204,6,210],[6,155,6,161],[6,162,6,168],[6,85,6,91],[6,92,6,98],[6,99,6,105],[6,106,6,112],[6,113,6,119],[6,120,6,126],[6,211,6,217],[6,71,6,77],[6,78,6,84],[5,337,5,343],[5,344,5,350],[5,351,5,357],[5,246,5,252],[5,169,5,175],[5,176,5,182],[5,183,5,189],[5,190,5,196],[5,197,5,203],[5,204,5,210],[5,127,5,133],[5,134,5,140],[5,141,5,147],[5,148,5,154],[5,155,5,161],[5,162,5,168],[5,85,5,91],[5,92,5,98],[6,127,6,133],[6,134,6,140],[6,141,6,147],[6,148,6,154],[6,8,6,14],[6,15,6,21],[6,22,6,28],[6,29,6,35],[6,36,6,42],[5,295,5,301],[5,302,5,308],[5,309,5,315],[5,316,5,322],[5,253,5,259],[5,260,5,266],[5,267,5,273],[5,274,5,280],[5,281,5,287],[5,288,5,294],[5,211,5,217],[5,218,5,224],[5,225,5,231],[5,232,5,238],[5,239,5,245],[6,43,6,49],[6,50,6,56],[6,57,6,63],[6,64,6,70],[5,120,5,126],[5,43,5,49],[5,50,5,56],[5,57,5,63],[5,64,5,70],[5,71,5,77],[5,78,5,84],[5,358,5,364],[5,365,5,371],[5,323,5,329],[5,330,5,336],[0,0,0,7],[5,8,5,14],[5,15,5,21],[5,22,5,28],[5,29,5,35],[5,36,5,42],[5,99,5,105],[5,106,5,112],[5,113,5,119]]}
[]
[]
[null,null,{"$f":"Wochenplan!C4","v":"00:00:00"}]
[null,null,{"$f":"Wochenplan!C5","v":"2025-02-21"}]
[]
[null,null,null,null,null,null,null,null,"W1",null,null,null,null,null,null,"W2",null,null,null,null,null,null,"W3",null,null,null,null,null,null,"W4",null,null,null,null,null,null,"W5",null,null,null,null,null,null,"W6",null,null,null,null,null,null,"W7",null,null,null,null,null,null,"W8",null,null,null,null,null,null,"W9",null,null,null,null,null,null,"W10",null,null,null,null,null,null,"W11",null,null,null,null,null,null,"W12",null,null,null,null,null,null,"W13",null,null,null,null,null,null,"W14",null,null,null,null,null,null,"W15",null,null,null,null,null,null,"W16",null,null,null,null,null,null,"W17",null,null,null,null,null,null,"W18",null,null,null,null,null,null,"W19",null,null,null,null,null,null,"W20",null,null,null,null,null,null,"W21",null,null,null,null,null,null,"W22",null,null,null,null,null,null,"W23",null,null,null,null,null,null,"W24",null,null,null,null,null,null,"W25",null,null,null,null,null,null,"W26",null,null,null,null,null,null,"W27",null,null,null,null,null,null,"W28",null,null,null,null,null,null,"W29",null,null,null,null,null,null,"W30",null,null,null,null,null,null,"W31",null,null,null,null,null,null,"W32",null,null,null,null,null,null,"W32",null,null,null,null,null,null,"W33",null,null,null,null,null,null,"W34",null,null,null,null,null,null,"W35",null,null,null,null,null,null,"W36",null,null,null,null,null,null,"W37",null,null,null,null,null,null,"W38",null,null,null,null,null,null,"W39",null,null,null,null,null,null,"W40",null,null,null,null,null,null,"W41",null,null,null,null,null,null,"W42",null,null,null,null,null,null,"W43",null,null,null,null,null,null,"W44",null,null,null,null,null,null,"W45",null,null,null,null,null,null,"W46",null,null,null,null,null,null,"W47",null,null,null,null,null,null,"W48",null,null,null,null,null,null,"W49",null,null,null,null,null,null,"W50",null,null,null,null,null,null,"W51"]
[null,null,null,null,null,null,null,null,{"$f":"C3","v":"00:00:00"},null,null,null,null,null,null,{"$f":"O8+1","v":"1900-01-07"},null,null,null,null,null,null,{"$f":"V8+1","v":"1900-01-14"},null,null,null,null,null,null,{"$f":"AC8+1","v":"1900-01-21"},null,null,null,null,null,null,{"$f":"AJ8+1","v":"1900-01-28"},null,null,null,null,null,null,{"$f":"AQ8+1","v":"1900-02-04"},null,null,null,null,null,null,{"$f":"AX8+1","v":"1900-02-11"},null,null,null,null,null,null,{"$f":"BE8+1","v":"1900-02-18"},null,null,null,null,null,null,{"$f":"BL8+1","v":"1900-02-25"},null,null,null,null,null,null,{"$f":"BS8+1","v":"1900-03-03"},null,null,null,null,null,null,{"$f":"BZ8+1","v":"1900-03-10"},null,null,null,null,null,null,{"$f":"CG8+1","v":"1900-03-17"},null,null,null,null,null,null,{"$f":"CN8+1","v":"1900-03-24"},null,null,null,null,null,null,{"$f":"CU8+1","v":"1900-03-31"},null,null,null,null,null,null,{"$f":"DB8+1","v":"1900-04-07"},null,null,null,null,null,null,{"$f":"DI8+1","v":"1900-04-14"},null,null,null,null,null,null,{"$f":"DP8+1","v":"1900-04-21"},null,null,null,null,null,null,{"$f":"DW8+1","v":"1900-04-28"},null,null,null,null,null,null,{"$f":"ED8+1","v":"1900-05-05"},null,null,null,null,null,null,{"$f":"EK8+1","v":"1900-05-12"},null,null,null,null,null,null,{"$f":"ER8+1","v":"1900-05-19"},null,null,null,null,null,null,{"$f":"EY8+1","v":"1900-05-26"},null,null,null,null,null,null,{"$f":"FF8+1","v":"1900-06-02"},null,null,null,null,null,null,{"$f":"FM8+1","v":"1900-06-09"},null,null,null,null,null,null,{"$f":"FT8+1","v":"1900-06-16"},null,null,null,null,null,null,{"$f":"GA8+1","v":"1900-06-23"},null,null,null,null,null,null,{"$f":"GH8+1","v":"1900-06-30"},null,null,null,null,null,null,{"$f":"GO8+1","v":"1900-07-07"},null,null,null,null,null,null,{"$f":"GV8+1","v":"1900-07-14"},null,null,null,null,null,null,{"$f":"HC8+1","v":"1900-07-21"},null,null,null,null,null,null,{"$f":"HJ8+1","v":"1900-07-28"},null,null,null,null,null,null,{"$f":"HQ8+1","v":"1900-08-04"},null,null,null,null,null,null,{"$f":"HX8+1","v":"1900-08-11"},null,null,null,null,null,null,{"$f":"IE8+1","v":"1900-08-18"},null,null,null,null,null,null,{"$f":"IL8+1","v":"1900-08-25"},null,null,null,null,null,null,{"$f":"IS8+1","v":"1900-09-01"},null,null,null,null,null,null,{"$f":"IZ8+1","v":"1900-09-08"},null,null,null,null,null,null,{"$f":"JG8+1","v":"1900-09-15"},null,null,null,null,null,null,{"$f":"JN8+1","v":"1900-09-22"},null,null,null,null,null,null,{"$f":"JU8+1","v":"1900-09-29"},null,null,null,null,null,null,{"$f":"KB8+1","v":"1900-10-06"},null,null,null,null,null,null,{"$f":"KI8+1","v":"1900-10-13"},null,null,null,null,null,null,{"$f":"KP8+1","v":"1900-10-20"},null,null,null,null,null,null,{"$f":"KW8+1","v":"1900-10-27"},null,null,null,null,null,null,{"$f":"LD8+1","v":"1900-11-03"},null,null,null,null,null,null,{"$f":"LK8+1","v":"1900-11-10"},null,null,null,null,null,null,{"$f":"LR8+1","v":"1900-11-17"},null,null,null,null,null,null,{"$f":"LY8+1","v":"1900-11-24"},null,null,null,null,null,null,{"$f":"MF8+1","v":"1900-12-01"},null,null,null,null,null,null,{"$f":"MM8+1","v":"1900-12-08"},null,null,null,null,null,null,{"$f":"MT8+1","v":"1900-12-15"},null,null,null,null,null,null,{"$f":"NA8+1","v":"1900-12-22"},null,null,null,null,null,null,{"$f":"NH8+1","v":"1900-12-29"},null,null,null,null,null,null,{"$f":"NO8+1","v":"1901-01-05"},null,null,null,null,null,null,{"$f":"NV8+1","v":"1901-01-12"},null,null,null,null,null,null,{"$f":"OC8+1","v":"1901-01-19"}]
[null,null,null,null,null,null,null,null,{"$f":"I7","v":"00:00:00"},{"$f":"I8+1","v":"1900-01-01"},{"$f":"J8+1","v":"1900-01-02"},"1900-01-03","1900-01-04","1900-01-05","1900-01-06",{"$f":"P7","v":"1900-01-07"},{"$f":"P8+1","v":"1900-01-08"},{"$f":"Q8+1","v":"1900-01-09"},"1900-01-10","1900-01-11","1900-01-12","1900-01-13",{"$f":"W7","v":"1900-01-14"},{"$f":"W8+1","v":"1900-01-15"},{"$f":"X8+1","v":"1900-01-16"},"1900-01-17","1900-01-18","1900-01-19","1900-01-20",{"$f":"AD7","v":"1900-01-21"},{"$f":"AD8+1","v":"1900-01-22"},{"$f":"AE8+1","v":"1900-01-23"},"1900-01-24","1900-01-25","1900-01-26","1900-01-27",{"$f":"AK7","v":"1900-01-28"},{"$f":"AK8+1","v":"1900-01-29"},{"$f":"AL8+1","v":"1900-01-30"},"1900-01-31","1900-02-01","1900-02-02","1900-02-03",{"$f":"AR7","v":"1900-02-04"},{"$f":"AR8+1","v":"1900-02-05"},{"$f":"AS8+1","v":"1900-02-06"},"1900-02-07","1900-02-08","1900-02-09","1900-02-10",{"$f":"AY7","v":"1900-02-11"},{"$f":"AY8+1","v":"1900-02-12"},{"$f":"AZ8+1","v":"1900-02-13"},"1900-02-14","1900-02-15","1900-02-16","1900-02-17",{"$f":"BF7","v":"1900-02-18"},{"$f":"BF8+1","v":"1900-02-19"},{"$f":"BG8+1","v":"1900-02-20"},"1900-02-21","1900-02-22","1900-02-23","1900-02-24",{"$f":"BM7","v":"1900-02-25"},{"$f":"BM8+1","v":"1900-02-26"},{"$f":"BN8+1","v":"1900-02-27"},"1900-02-28",60,"1900-03-01","1900-03-02",{"$f":"BT7","v":"1900-03-03"},{"$f":"BT8+1","v":"1900-03-04"},{"$f":"BU8+1","v":"1900-03-05"},"1900-03-06","1900-03-07","1900-03-08","1900-03-09",{"$f":"CA7","v":"1900-03-10"},{"$f":"CA8+1","v":"1900-03-11"},{"$f":"CB8+1","v":"1900-03-12"},"1900-03-13","1900-03-14","1900-03-15","1900-03-16",{"$f":"CH7","v":"1900-03-17"},{"$f":"CH8+1","v":"1900-03-18"},{"$f":"CI8+1","v":"1900-03-19"},"1900-03-20","1900-03-21","1900-03-22","1900-03-23",{"$f":"CO7","v":"1900-03-24"},{"$f":"CO8+1","v":"1900-03-25"},{"$f":"CP8+1","v":"1900-03-26"},"1900-03-27","1900-03-28","1900-03-29","1900-03-30",{"$f":"CV7","v":"1900-03-31"},{"$f":"CV8+1","v":"1900-04-01"},{"$f":"CW8+1","v":"1900-04-02"},"1900-04-03","1900-04-04","1900-04-05","1900-04-06",{"$f":"DC7","v":"1900-04-07"},{"$f":"DC8+1","v":"1900-04-08"},{"$f":"DD8+1","v":"1900-04-09"},"1900-04-10","1900-04-11","1900-04-12","1900-04-13",{"$f":"DJ7","v":"1900-04-14"},{"$f":"DJ8+1","v":"1900-04-15"},{"$f":"DK8+1","v":"1900-04-16"},"1900-04-17","1900-04-18","1900-04-19","1900-04-20",{"$f":"DQ7","v":"1900-04-21"},{"$f":"DQ8+1","v":"1900-04-22"},{"$f":"DR8+1","v":"1900-04-23"},"1900-04-24","1900-04-25","1900-04-26","1900-04-27",{"$f":"DX7","v":"1900-04-28"},{"$f":"DX8+1","v":"1900-04-29"},{"$f":"DY8+1","v":"1900-04-30"},"1900-05-01","1900-05-02","1900-05-03","1900-05-04",{"$f":"EE7","v":"1900-05-05"},{"$f":"EE8+1","v":"1900-05-06"},{"$f":"EF8+1","v":"1900-05-07"},"1900-05-08","1900-05-09","1900-05-10","1900-05-11",{"$f":"EL7","v":"1900-05-12"},{"$f":"EL8+1","v":"1900-05-13"},{"$f":"EM8+1","v":"1900-05-14"},"1900-05-15","1900-05-16","1900-05-17","1900-05-18",{"$f":"ES7","v":"1900-05-19"},{"$f":"ES8+1","v":"1900-05-20"},{"$f":"ET8+1","v":"1900-05-21"},"1900-05-22","1900-05-23","1900-05-24","1900-05-25",{"$f":"EZ7","v":"1900-05-26"},{"$f":"EZ8+1","v":"1900-05-27"},{"$f":"FA8+1","v":"1900-05-28"},"1900-05-29","1900-05-30","1900-05-31","1900-06-01",{"$f":"FG7","v":"1900-06-02"},{"$f":"FG8+1","v":"1900-06-03"},{"$f":"FH8+1","v":"1900-06-04"},"1900-06-05","1900-06-06","1900-06-07","1900-06-08",{"$f":"FN7","v":"1900-06-09"},{"$f":"FN8+1","v":"1900-06-10"},{"$f":"FO8+1","v":"1900-06-11"},"1900-06-12","1900-06-13","1900-06-14","1900-06-15",{"$f":"FU7","v":"1900-06-16"},{"$f":"FU8+1","v":"1900-06-17"},{"$f":"FV8+1","v":"1900-06-18"},"1900-06-19","1900-06-20","1900-06-21","1900-06-22",{"$f":"GB7","v":"1900-06-23"},{"$f":"GB8+1","v":"1900-06-24"},{"$f":"GC8+1","v":"1900-06-25"},"1900-06-26","1900-06-27","1900-06-28","1900-06-29",{"$f":"GI7","v":"1900-06-30"},{"$f":"GI8+1","v":"1900-07-01"},{"$f":"GJ8+1","v":"1900-07-02"},"1900-07-03","1900-07-04","1900-07-05","1900-07-06",{"$f":"GP7","v":"1900-07-07"},{"$f":"GP8+1","v":"1900-07-08"},{"$f":"GQ8+1","v":"1900-07-09"},"1900-07-10","1900-07-11","1900-07-12","1900-07-13",{"$f":"GW7","v":"1900-07-14"},{"$f":"GW8+1","v":"1900-07-15"},{"$f":"GX8+1","v":"1900-07-16"},"1900-07-17","1900-07-18","1900-07-19","1900-07-20",{"$f":"HD7","v":"1900-07-21"},{"$f":"HD8+1","v":"1900-07-22"},{"$f":"HE8+1","v":"1900-07-23"},"1900-07-24","1900-07-25","1900-07-26","1900-07-27",{"$f":"HK7","v":"1900-07-28"},{"$f":"HK8+1","v":"1900-07-29"},{"$f":"HL8+1","v":"1900-07-30"},"1900-07-31","1900-08-01","1900-08-02","1900-08-03",{"$f":"HR7","v":"1900-08-04"},{"$f":"HR8+1","v":"1900-08-05"},{"$f":"HS8+1","v":"1900-08-06"},"1900-08-07","1900-08-08","1900-08-09","1900-08-10",{"$f":"HY7","v":"1900-08-11"},{"$f":"HY8+1","v":"1900-08-12"},{"$f":"HZ8+1","v":"1900-08-13"},"1900-08-14","1900-08-15","1900-08-16","1900-08-17",{"$f":"IF7","v":"1900-08-18"},{"$f":"IF8+1","v":"1900-08-19"},{"$f":"IG8+1","v":"1900-08-20"},"1900-08-21","1900-08-22","1900-08-23","1900-08-24",{"$f":"IM7","v":"1900-08-25"},{"$f":"IM8+1","v":"1900-08-26"},{"$f":"IN8+1","v":"1900-08-27"},"1900-08-28","1900-08-29","1900-08-30","1900-08-31",{"$f":"IT7","v":"1900-09-01"},{"$f":"IT8+1","v":"1900-09-02"},{"$f":"IU8+1","v":"1900-09-03"},"1900-09-04","1900-09-05","1900-09-06","1900-09-07",{"$f":"JA7","v":"1900-09-08"},{"$f":"JA8+1","v":"1900-09-09"},{"$f":"JB8+1","v":"1900-09-10"},"1900-09-11","1900-09-12","1900-09-13","1900-09-14",{"$f":"JH7","v":"1900-09-15"},{"$f":"JH8+1","v":"1900-09-16"},{"$f":"JI8+1","v":"1900-09-17"},"1900-09-18","1900-09-19","1900-09-20","1900-09-21",{"$f":"JO7","v":"1900-09-22"},{"$f":"JO8+1","v":"1900-09-23"},{"$f":"JP8+1","v":"1900-09-24"},"1900-09-25","1900-09-26","1900-09-27","1900-09-28",{"$f":"JV7","v":"1900-09-29"},{"$f":"JV8+1","v":"1900-09-30"},{"$f":"JW8+1","v":"1900-10-01"},"1900-10-02","1900-10-03","1900-10-04","1900-10-05",{"$f":"KC7","v":"1900-10-06"},{"$f":"KC8+1","v":"1900-10-07"},{"$f":"KD8+1","v":"1900-10-08"},"1900-10-09","1900-10-10","1900-10-11","1900-10-12",{"$f":"KJ7","v":"1900-10-13"},{"$f":"KJ8+1","v":"1900-10-14"},{"$f":"KK8+1","v":"1900-10-15"},"1900-10-16","1900-10-17","1900-10-18","1900-10-19",{"$f":"KQ7","v":"1900-10-20"},{"$f":"KQ8+1","v":"1900-10-21"},{"$f":"KR8+1","v":"1900-10-22"},"1900-10-23","1900-10-24","1900-10-25","1900-10-26",{"$f":"KX7","v":"1900-10-27"},{"$f":"KX8+1","v":"1900-10-28"},{"$f":"KY8+1","v":"1900-10-29"},"1900-10-30","1900-10-31","1900-11-01","1900-11-02",{"$f":"LE7","v":"1900-11-03"},{"$f":"LE8+1","v":"1900-11-04"},{"$f":"LF8+1","v":"1900-11-05"},"1900-11-06","1900-11-07","1900-11-08","1900-11-09",{"$f":"LL7","v":"1900-11-10"},{"$f":"LL8+1","v":"1900-11-11"},{"$f":"LM8+1","v":"1900-11-12"},"1900-11-13","1900-11-14","1900-11-15","1900-11-16",{"$f":"LS7","v":"1900-11-17"},{"$f":"LS8+1","v":"1900-11-18"},{"$f":"LT8+1","v":"1900-11-19"},"1900-11-20","1900-11-21","1900-11-22","1900-11-23",{"$f":"LZ7","v":"1900-11-24"},{"$f":"LZ8+1","v":"1900-11-25"},{"$f":"MA8+1","v":"1900-11-26"},"1900-11-27","1900-11-28","1900-11-29","1900-11-30",{"$f":"MG7","v":"1900-12-01"},{"$f":"MG8+1","v":"1900-12-02"},{"$f":"MH8+1","v":"1900-12-03"},"1900-12-04","1900-12-05","1900-12-06","1900-12-07",{"$f":"MN7","v":"1900-12-08"},{"$f":"MN8+1","v":"1900-12-09"},{"$f":"MO8+1","v":"1900-12-10"},"1900-12-11","1900-12-12","1900-12-13","1900-12-14",{"$f":"MU7","v":"1900-12-15"},{"$f":"MU8+1","v":"1900-12-16"},{"$f":"MV8+1","v":"1900-12-17"},"1900-12-18","1900-12-19","1900-12-20","1900-12-21",{"$f":"NB7","v":"1900-12-22"},{"$f":"NB8+1","v":"1900-12-23"},{"$f":"NC8+1","v":"1900-12-24"},"1900-12-25","1900-12-26","1900-12-27","1900-12-28",{"$f":"NI7","v":"1900-12-29"},{"$f":"NI8+1","v":"1900-12-30"},{"$f":"NJ8+1","v":"1900-12-31"},"1901-01-01","1901-01-02","1901-01-03","1901-01-04",{"$f":"NP7","v":"1901-01-05"},{"$f":"NP8+1","v":"1901-01-06"},{"$f":"NQ8+1","v":"1901-01-07"},"1901-01-08","1901-01-09","1901-01-10","1901-01-11",{"$f":"NW7","v":"1901-01-12"},{"$f":"NW8+1","v":"1901-01-13"},{"$f":"NX8+1","v":"1901-01-14"},"1901-01-15","1901-01-16","1901-01-17","1901-01-18",{"$f":"OD7","v":"1901-01-19"},{"$f":"OD8+1","v":"1901-01-20"},{"$f":"OE8+1","v":"1901-01-21"},"1901-01-22","1901-01-23","1901-01-24","1901-01-25"]
["Phase",null,"Vorgang","Meilensteine","Beginn","Ende","Sollfortschritt","Istfortschritt",{"$f":"I8","v":"00:00:00"},{"$f":"I9+1","v":"1900-01-01"},"1900-01-02","1900-01-03","1900-01-04","1900-01-05","1900-01-06",{"$f":"P8","v":"1900-01-07"},{"$f":"P9+1","v":"1900-01-08"},"1900-01-09","1900-01-10","1900-01-11","1900-01-12","1900-01-13",{"$f":"W8","v":"1900-01-14"},{"$f":"W9+1","v":"1900-01-15"},"1900-01-16","1900-01-17","1900-01-18","1900-01-19","1900-01-20",{"$f":"AD8","v":"1900-01-21"},{"$f":"AD9+1","v":"1900-01-22"},"1900-01-23","1900-01-24","1900-01-25","1900-01-26","1900-01-27",{"$f":"AK8","v":"1900-01-28"},{"$f":"AK9+1","v":"1900-01-29"},"1900-01-30","1900-01-31","1900-02-01","1900-02-02","1900-02-03",{"$f":"AR8","v":"1900-02-04"},{"$f":"AR9+1","v":"1900-02-05"},"1900-02-06","1900-02-07","1900-02-08","1900-02-09","1900-02-10",{"$f":"AY8","v":"1900-02-11"},{"$f":"AY9+1","v":"1900-02-12"},"1900-02-13","1900-02-14","1900-02-15","1900-02-16","1900-02-17",{"$f":"BF8","v":"1900-02-18"},{"$f":"BF9+1","v":"1900-02-19"},"1900-02-20","1900-02-21","1900-02-22","1900-02-23","1900-02-24",{"$f":"BM8","v":"1900-02-25"},{"$f":"BM9+1","v":"1900-02-26"},"1900-02-27","1900-02-28",60,"1900-03-01","1900-03-02",{"$f":"BT8","v":"1900-03-03"},{"$f":"BT9+1","v":"1900-03-04"},"1900-03-05","1900-03-06","1900-03-07","1900-03-08","1900-03-09",{"$f":"CA8","v":"1900-03-10"},{"$f":"CA9+1","v":"1900-03-11"},"1900-03-12","1900-03-13","1900-03-14","1900-03-15","1900-03-16",{"$f":"CH8","v":"1900-03-17"},{"$f":"CH9+1","v":"1900-03-18"},"1900-03-19","1900-03-20","1900-03-21","1900-03-22","1900-03-23",{"$f":"CO8","v":"1900-03-24"},{"$f":"CO9+1","v":"1900-03-25"},"1900-03-26","1900-03-27","1900-03-28","1900-03-29","1900-03-30",{"$f":"CV8","v":"1900-03-31"},{"$f":"CV9+1","v":"1900-04-01"},"1900-04-02","1900-04-03","1900-04-04","1900-04-05","1900-04-06",{"$f":"DC8","v":"1900-04-07"},{"$f":"DC9+1","v":"1900-04-08"},"1900-04-09","1900-04-10","1900-04-11","1900-04-12","1900-04-13",{"$f":"DJ8","v":"1900-04-14"},{"$f":"DJ9+1","v":"1900-04-15"},"1900-04-16","1900-04-17","1900-04-18","1900-04-19","1900-04-20",{"$f":"DQ8","v":"1900-04-21"},{"$f":"DQ9+1","v":"1900-04-22"},"1900-04-23","1900-04-24","1900-04-25","1900-04-26","1900-04-27",{"$f":"DX8","v":"1900-04-28"},{"$f":"DX9+1","v":"1900-04-29"},"1900-04-30","1900-05-01","1900-05-02","1900-05-03","1900-05-04",{"$f":"EE8","v":"1900-05-05"},{"$f":"EE9+1","v":"1900-05-06"},"1900-05-07","1900-05-08","1900-05-09","1900-05-10","1900-05-11",{"$f":"EL8","v":"1900-05-12"},{"$f":"EL9+1","v":"1900-05-13"},"1900-05-14","1900-05-15","1900-05-16","1900-05-17","1900-05-18",{"$f":"ES8","v":"1900-05-19"},{"$f":"ES9+1","v":"1900-05-20"},"1900-05-21","1900-05-22","1900-05-23","1900-05-24","1900-05-25",{"$f":"EZ8","v":"1900-05-26"},{"$f":"EZ9+1","v":"1900-05-27"},"1900-05-28","1900-05-29","1900-05-30","1900-05-31","1900-06-01",{"$f":"FG8","v":"1900-06-02"},{"$f":"FG9+1","v":"1900-06-03"},"1900-06-04","1900-06-05","1900-06-06","1900-06-07","1900-06-08",{"$f":"FN8","v":"1900-06-09"},{"$f":"FN9+1","v":"1900-06-10"},"1900-06-11","1900-06-12","1900-06-13","1900-06-14","1900-06-15",{"$f":"FU8","v":"1900-06-16"},{"$f":"FU9+1","v":"1900-06-17"},"1900-06-18","1900-06-19","1900-06-20","1900-06-21","1900-06-22",{"$f":"GB8","v":"1900-06-23"},{"$f":"GB9+1","v":"1900-06-24"},"1900-06-25","1900-06-26","1900-06-27","1900-06-28","1900-06-29",{"$f":"GI8","v":"1900-06-30"},{"$f":"GI9+1","v":"1900-07-01"},"1900-07-02","1900-07-03","1900-07-04","1900-07-05","1900-07-06",{"$f":"GP8","v":"1900-07-07"},{"$f":"GP9+1","v":"1900-07-08"},"1900-07-09","1900-07-10","1900-07-11","1900-07-12","1900-07-13",{"$f":"GW8","v":"1900-07-14"},{"$f":"GW9+1","v":"1900-07-15"},"1900-07-16","1900-07-17","1900-07-18","1900-07-19","1900-07-20",{"$f":"HD8","v":"1900-07-21"},{"$f":"HD9+1","v":"1900-07-22"},"1900-07-23","1900-07-24","1900-07-25","1900-07-26","1900-07-27",{"$f":"HK8","v":"1900-07-28"},{"$f":"HK9+1","v":"1900-07-29"},"1900-07-30","1900-07-31","1900-08-01","1900-08-02","1900-08-03",{"$f":"HR8","v":"1900-08-04"},{"$f":"HR9+1","v":"1900-08-05"},"1900-08-06","1900-08-07","1900-08-08","1900-08-09","1900-08-10",{"$f":"HY8","v":"1900-08-11"},{"$f":"HY9+1","v":"1900-08-12"},"1900-08-13","1900-08-14","1900-08-15","1900-08-16","1900-08-17",{"$f":"IF8","v":"1900-08-18"},{"$f":"IF9+1","v":"1900-08-19"},"1900-08-20","1900-08-21","1900-08-22","1900-08-23","1900-08-24",{"$f":"IM8","v":"1900-08-25"},{"$f":"IM9+1","v":"1900-08-26"},"1900-08-27","1900-08-28","1900-08-29","1900-08-30","1900-08-31",{"$f":"IT8","v":"1900-09-01"},{"$f":"IT9+1","v":"1900-09-02"},"1900-09-03","1900-09-04","1900-09-05","1900-09-06","1900-09-07",{"$f":"JA8","v":"1900-09-08"},{"$f":"JA9+1","v":"1900-09-09"},"1900-09-10","1900-09-11","1900-09-12","1900-09-13","1900-09-14",{"$f":"JH8","v":"1900-09-15"},{"$f":"JH9+1","v":"1900-09-16"},"1900-09-17","1900-09-18","1900-09-19","1900-09-20","1900-09-21",{"$f":"JO8","v":"1900-09-22"},{"$f":"JO9+1","v":"1900-09-23"},"1900-09-24","1900-09-25","1900-09-26","1900-09-27","1900-09-28",{"$f":"JV8","v":"1900-09-29"},{"$f":"JV9+1","v":"1900-09-30"},"1900-10-01","1900-10-02","1900-10-03","1900-10-04","1900-10-05",{"$f":"KC8","v":"1900-10-06"},{"$f":"KC9+1","v":"1900-10-07"},"1900-10-08","1900-10-09","1900-10-10","1900-10-11","1900-10-12",{"$f":"KJ8","v":"1900-10-13"},{"$f":"KJ9+1","v":"1900-10-14"},"1900-10-15","1900-10-16","1900-10-17","1900-10-18","1900-10-19",{"$f":"KQ8","v":"1900-10-20"},{"$f":"KQ9+1","v":"1900-10-21"},"1900-10-22","1900-10-23","1900-10-24","1900-10-25","1900-10-26",{"$f":"KX8","v":"1900-10-27"},{"$f":"KX9+1","v":"1900-10-28"},"1900-10-29","1900-10-30","1900-10-31","1900-11-01","1900-11-02",{"$f":"LE8","v":"1900-11-03"},{"$f":"LE9+1","v":"1900-11-04"},"1900-11-05","1900-11-06","1900-11-07","1900-11-08","1900-11-09",{"$f":"LL8","v":"1900-11-10"},{"$f":"LL9+1","v":"1900-11-11"},"1900-11-12","1900-11-13","1900-11-14","1900-11-15","1900-11-16",{"$f":"LS8","v":"1900-11-17"},{"$f":"LS9+1","v":"1900-11-18"},"1900-11-19","1900-11-20","1900-11-21","1900-11-22","1900-11-23",{"$f":"LZ8","v":"1900-11-24"},{"$f":"LZ9+1","v":"1900-11-25"},"1900-11-26","1900-11-27","1900-11-28","1900-11-29","1900-11-30",{"$f":"MG8","v":"1900-12-01"},{"$f":"MG9+1","v":"1900-12-02"},"1900-12-03","1900-12-04","1900-12-05","1900-12-06","1900-12-07",{"$f":"MN8","v":"1900-12-08"},{"$f":"MN9+1","v":"1900-12-09"},"1900-12-10","1900-12-11","1900-12-12","1900-12-13","1900-12-14",{"$f":"MU8","v":"1900-12-15"},{"$f":"MU9+1","v":"1900-12-16"},"1900-12-17","1900-12-18","1900-12-19","1900-12-20","1900-12-21",{"$f":"NB8","v":"1900-12-22"},{"$f":"NB9+1","v":"1900-12-23"},"1900-12-24","1900-12-25","1900-12-26","1900-12-27","1900-12-28",{"$f":"NI8","v":"1900-12-29"},{"$f":"NI9+1","v":"1900-12-30"},"1900-12-31","1901-01-01","1901-01-02","1901-01-03","1901-01-04",{"$f":"NP8","v":"1901-01-05"},{"$f":"NP9+1","v":"1901-01-06"},"1901-01-07","1901-01-08","1901-01-09","1901-01-10","1901-01-11",{"$f":"NW8","v":"1901-01-12"},{"$f":"NW9+1","v":"1901-01-13"},"1901-01-14","1901-01-15","1901-01-16","1901-01-17","1901-01-18",{"$f":"OD8","v":"1901-01-19"},{"$f":"OD9+1","v":"1901-01-20"},"1901-01-21","1901-01-22","1901-01-23","1901-01-24","1901-01-25"]
[{"$f":"Wochenplan!A10","v":"Abschnitt"},{"$f":"Wochenplan!B10","v":"Arbeitspaket"},{"$f":"Wochenplan!C10","v":"Handlungs\nschritt"},"Meilensteine","Beginn","Ende","Soll","Ist"]
[{"$f":"Wochenplan!A12","v":"SL startet Prozess"},{"$f":"Wochenplan!B12","v":0},{"$f":"Wochenplan!C12","v":0},{"$f":"Wochenplan!D12","v":0},null,null,{"$f":"IF(AND(    E11=0,F11=0),  \"---\",         IF($C$4<=E11,0,IF($C$4>F11,1,_xlfn.DAYS($C$4,E11)/_xlfn.DAYS(F11,E11))))","v":"---"},{"$f":"Tabelle17[[#This Row],[Spalte8]]","v":{"$error":"#VALUE!"}},{"$f":"IF(AND(         I$8>=$E11,       I$8<=$F11, $D11<>0),     \"u\",    \"\")","v":""},{"$f":"IF(AND(         J$8>=$E11,       J$8<=$F11, $D11<>0),     \"u\",    \"\")","v":""},"","","","","","","","","","","","","","","",{"$f":"IF(AND(         Z$8>=$E11,       Z$8<=$F11, $D11<>0),     \"u\",    \"\")","v":""},"","","","","","","","","","","","","","","",{"$f":"IF(AND(         AP$8>=$E11,       AP$8<=$F11, $D11<>0),     \"u\",    \"\")","v":""},"","","","","","","","","","","","","","","",{"$f":"IF(AND(         BF$8>=$E11,       BF$8<=$F11, $D11<>0),     \"u\",    \"\")","v":""},"","","","","","","","","","","","","","","",{"$f":"IF(AND(         BV$8>=$E11,       BV$8<=$F11, $D11<>0),     \"u\",    \"\")","v":""},"","","","","","","","","","","","","","","",{"$f":"IF(AND(         CL$8>=$E11,       CL$8<=$F11, $D11<>0),     \"u\",    \"\")","v":""},"","","","","","","","","","","","","","","",{"$f":"IF(AND(         DB$8>=$E11,       DB$8<=$F11, $D11<>0),     \"u\",    \"\")","v":""},"","","","","","","","","","","","","","","",{"$f":"IF(AND(         DR$8>=$E11,       DR$8<=$F11, $D11<>0),     \"u\",    \"\")","v":""},"","","","","","","","","","","","","","","",{"$f":"IF(AND(         EH$8>=$E11,       EH$8<=$F11, $D11<>0),     \"u\",    \"\")","v":""},"","","","","","","","","","","","","","","",{"$f":"IF(AND(         EX$8>=$E11,       EX$8<=$F11, $D11<>0),     \"u\",    \"\")","v":""},"","","","","","","","","","","","","","","",{"$f":"IF(AND(         FN$8>=$E11,       FN$8<=$F11, $D11<>0),     \"u\",    \"\")","v":""},"","","","","","","","","","","","","","","",{"$f":"IF(AND(         GD$8>=$E11,       GD$8<=$F11, $D11<>0),     \"u\",    \"\")","v":""},"","","","","","","","","","","","","","","",{"$f":"IF(AND(         GT$8>=$E11,       GT$8<=$F11, $D11<>0),     \"u\",    \"\")","v":""},"","","","","","","","","","","","","","","",{"$f":"IF(AND(         HJ$8>=$E11,       HJ$8<=$F11, $D11<>0),     \"u\",    \"\")","v":""},"","","","","","","","","","","","","","","",{"$f":"IF(AND(         HZ$8>=$E11,       HZ$8<=$F11, $D11<>0),     \"u\",    \"\")","v":""},"","","","","","","","","","","","","","","",{"$f":"IF(AND(         IP$8>=$E11,       IP$8<=$F11, $D11<>0),     \"u\",    \"\")","v":""},"","","","","","","","","","","","","","","",{"$f":"IF(AND(         JF$8>=$E11,       JF$8<=$F11, $D11<>0),     \"u\",    \"\")","v":""},"","","","","","","","","","","","","","","",{"$f":"IF(AND(         JV$8>=$E11,       JV$8<=$F11, $D11<>0),     \"u\",    \"\")","v":""},"","","","","","","","","","","","","","","",{"$f":"IF(AND(         KL$8>=$E11,       KL$8<=$F11, $D11<>0),     \"u\",    \"\")","v":""},"","","","","","","","","","","","","","","",{"$f":"IF(AND(         LB$8>=$E11,       LB$8<=$F11, $D11<>0),     \"u\",    \"\")","v":""},"","","","","","","","","","","","","","","",{"$f":"IF(AND(         LR$8>=$E11,       LR$8<=$F11, $D11<>0),     \"u\",    \"\")","v":""},"","","","","","","","","","","","","","","",{"$f":"IF(AND(         MH$8>=$E11,       MH$8<=$F11, $D11<>0),     \"u\",    \"\")","v":""},"","","","","","","","","","","","","","","",{"$f":"IF(AND(         MX$8>=$E11,       MX$8<=$F11, $D11<>0),     \"u\",    \"\")","v":""},"","","","","","","","","","","","",""]
[{"$f":"Wochenplan!A13","v":0},null,{"$f":"Wochenplan!C13","v":0},{"$f":"Wochenplan!D13","v":0},null,null,"---",{"$f":"Tabelle17[[#This Row],[Spalte8]]","v":0.25},{"$f":"IF(AND(         I$8>=$E12,       I$8<=$F12, $D12<>0),     \"u\",    \"\")","v":""},"","","","","","","","","","","","","","","","","","","","","","","","","","","","","","","","","","","","","","","","","","","","","","","","","","","","","","","","","","","","","","","","","","","","","","","","","","","","","","","","","","","","","","","","","","","","","","","","","","","","","","","","","","","","","","","","","","","","","","","","","","","","","","","","","","","","","","","","","","","","","","","","","","","","","","","","","","","","","","","","","","","","","","","","","","","","","","","","","","","","","","","","","","","","","","","","","","","","","","","","","","","","","","","","","","","","","","","","","","","","","","","","","","","","","","","","","","","","","","","","","","","","","","","","","","","","","","","","","","","","","","","","","","","","","","","","","","","","","","","","","","","","","","","","","","","","","","","","","","","","","","","","","","","","","","","","","","","","","","","","","","","","","","","","","","","","","","","","","","","","","","","","","","","","","","","","","","","","","","","","","","","","","",""]
[{"$f":"Wochenplan!A14","v":0},null,{"$f":"Wochenplan!C14","v":0},{"$f":"Wochenplan!D14","v":0},null,null,"---",{"$f":"Tabelle17[[#This Row],[Spalte8]]","v":0.1},"","","","","","","","","","","","","","","","","","","","","","","","","","","","","","","","","","","","","","","","","","","","","","","","","","","","","","","","","","","","","","","","","","","","","","","","","","","","","","","","","","","","","","","","","","","","","","","","","","","","","","","","","","","","","","","","","","","","","","","","","","","","","","","","","","","","","","","","","","","","","","","","","","","","","","","","","","","","","","","","","","","","","","","","","","","","","","","","","","","","","","","","","","","","","","","","","","","","","","","","","","","","","","","","","","","","","","","","","","","","","","","","","","","","","","","","","","","","","","","","","","","","","","","","","","","","","","","","","","","","","","","","","","","","","","","","","","","","","","","","","","","","","","","","","","","","","","","","","","","","","","","","","","","","","","","","","","","","","","","","","","","","","","","","","","","","","","","","","","","","","","","","","","","","","","","","","","","","","","","","","","","","","","",""]
[{"$f":"Wochenplan!A15","v":0},{"$f":"Wochenplan!B15","v":0},null,{"$f":"Wochenplan!D15","v":0},null,null,"---",{"$f":"Tabelle17[[#This Row],[Spalte8]]","v":0.5},"","","","","","","","","","","","","","","","","","","","","","","","","","","","","","","","","","","","","","","","","","","","","","","","","","","","","","","","","","","","","","","","","","","","","","","","","","","","","","","","","","","","","","","","","","","","","","","","","","","","","","","","","","","","","","","","","","","","","","","","","","","","","","","","","","","","","","","","","","","","","","","","","","","","","","","","","","","","","","","","","","","","","","","","","","","","","","","","","","","","","","","","","","","","","","","","","","","","","","","","","","","","","","","","","","","","","","","","","","","","","","","","","","","","","","","","","","","","","","","","","","","","","","","","","","","","","","","","","","","","","","","","","","","","","","","","","","","","","","","","","","","","","","","","","","","","","","","","","","","","","","","","","","","","","","","","","","","","","","","","","","","","","","","","","","","","","","","","","","","","","","","","","","","","","","","","","","","","","","","","","","","","","","",""]
[{"$f":"Wochenplan!A16","v":0},{"$f":"Wochenplan!B16","v":0},{"$f":"Wochenplan!C16","v":0},{"$f":"Wochenplan!D16","v":0},{"$f":"IF(Wochenplan!E16=0,\"\",Wochenplan!E16)","v":""},{"$f":"IF(Wochenplan!F16=0,\"\",Wochenplan!F16)","v":""},0,{"$f":"Tabelle17[[#This Row],[Spalte8]]","v":0.4},"","","","","","","","","","","","","","","","","","","","","","","","","","","","","","","","","","","","","","","","","","","","","","","","","","","","","","","","","","","","","","","","","","","","","","","","","","","","","","","","","","","","","","","","","","","","","","","","","","","","","","","","","","","","","","","","","","","","","","","","","","","","","","","","","","","","","","","","","","","","","","","","","","","","","","","","","","","","","","","","","","","","","","","","","","","","","","","","","","","","","","","","","","","","","","","","","","","","","","","","","","","","","","","","","","","","","","","","","","","","","","","","","","","","","","","","","","","","","","","","","","","","","","","","","","","","","","","","","","","","","","","","","","","","","","","","","","","","","","","","","","","","","","","","","","","","","","","","","","","","","","","","","","","","","","","","","","","","","","","","","","","","","","","","","","","","","","","","","","","","","","","","","","","","","","","","","","","","","","","","","","","","","","",""]
[{"$f":"Wochenplan!A17","v":0},{"$f":"Wochenplan!B17","v":0},{"$f":"Wochenplan!C17","v":0},{"$f":"Wochenplan!D17","v":0},{"$f":"IF(Wochenplan!E17=0,\"\",Wochenplan!E17)","v":""},{"$f":"IF(Wochenplan!F17=0,\"\",Wochenplan!F17)","v":""},0,{"$f":"Tabelle17[[#This Row],[Spalte8]]","v":0},"","","","","","","","","","","","","","","","","","","","","","","","","","","","","","","","","","","","","","","","","","","","","","","","","","","","","","","","","","","","","","","","","","","","","","","","","","","","","","","","","","","","","","","","","","","","","","","","","","","","","","","","","","","","","","","","","","","","","","","","","","","","","","","","","","","","","","","","","","","","","","","","","","","","","","","","","","","","","","","","","","","","","","","","","","","","","","","","","","","","","","","","","","","","","","","","","","","","","","","","","","","","","","","","","","","","","","","","","","","","","","","","","","","","","","","","","","","","","","","","","","","","","","","","","","","","","","","","","","","","","","","","","","","","","","","","","","","","","","","","","","","","","","","","","","","","","","","","","","","","","","","","","","","","","","","","","","","","","","","","","","","","","","","","","","","","","","","","","","","","","","","","","","","","","","","","","","","","","","","","","","","","","","",""]
[{"$f":"Wochenplan!A18","v":0},{"$f":"Wochenplan!B19","v":0},null,{"$f":"Wochenplan!D19","v":0},{"$f":"IF(Wochenplan!E19=0,\"\",Wochenplan!E19)","v":""},{"$f":"IF(Wochenplan!F19=0,\"\",Wochenplan!F19)","v":""},0,{"$f":"Tabelle17[[#This Row],[Spalte8]]","v":0.3},"","","","","","","","","","","","","","","","","","","","","","","","","","","","","","","","","","","","","","","","","","","","","","","","","","","","","","","","","","","","","","","","","","","","","","","","","","","","","","","","","","","","","","","","","","","","","","","","","","","","","","","","","","","","","","","","","","","","","","","","","","","","","","","","","","","","","","","","","","","","","","","","","","","","","","","","","","","","","","","","","","","","","","","","","","","","","","","","","","","","","","","","","","","","","","","","","","","","","","","","","","","","","","","","","","","","","","","","","","","","","","","","","","","","","","","","","","","","","","","","","","","","","","","","","","","","","","","","","","","","","","","","","","","","","","","","","","","","","","","","","","","","","","","","","","","","","","","","","","","","","","","","","","","","","","","","","","","","","","","","","","","","","","","","","","","","","","","","","","","","","","","","","","","","","","","","","","","","","","","","","","","","","","",""]
[{"$f":"Wochenplan!A19","v":0},{"$f":"Wochenplan!B20","v":0},{"$f":"Wochenplan!C20","v":0},{"$f":"Wochenplan!D20","v":0},{"$f":"IF(Wochenplan!E20=0,\"\",Wochenplan!E20)","v":""},{"$f":"IF(Wochenplan!F20=0,\"\",Wochenplan!F20)","v":""},0,{"$f":"Tabelle17[[#This Row],[Spalte8]]","v":0},"","","","","","","","","","","","","","","","","","","","","","","","","","","","","","","","","","","","","","","","","","","","","","","","","","","","","","","","","","","","","","","","","","","","","","","","","","","","","","","","","","","","","","","","","","","","","","","","","","","","","","","","","","","","","","","","","","","","","","","","","","","","","","","","","","","","","","","","","","","","","","","","","","","","","","","","","","","","","","","","","","","","","","","","","","","","","","","","","","","","","","","","","","","","","","","","","","","","","","","","","","","","","","","","","","","","","","","","","","","","","","","","","","","","","","","","","","","","","","","","","","","","","","","","","","","","","","","","","","","","","","","","","","","","","","","","","","","","","","","","","","","","","","","","","","","","","","","","","","","","","","","","","","","","","","","","","","","","","","","","","","","","","","","","","","","","","","","","","","","","","","","","","","","","","","","","","","","","","","","","","","","","","","",""]
[{"$f":"Wochenplan!A20","v":0},{"$f":"Wochenplan!B21","v":0},{"$f":"Wochenplan!C21","v":0},{"$f":"Wochenplan!D21","v":0},{"$f":"IF(Wochenplan!E21=0,\"\",Wochenplan!E21)","v":""},{"$f":"IF(Wochenplan!F21=0,\"\",Wochenplan!F21)","v":""},{"$f":"IF(AND(    E19=0,F19=0),  \"---\",         IF($C$4<=E19,0,IF($C$4>F19,1,_xlfn.DAYS($C$4,E19)/_xlfn.DAYS(F19,E19))))","v":0},{"$f":"Tabelle17[[#This Row],[Spalte8]]","v":0},"","","","","","","","","","","","","","","","","","","","","","","","","","","","","","","","","","","","","","","","","","","","","","","","","","","","","","","","","","","","","","","","","","","","","","","","","","","","","","","","","","","","","","","","","","","","","","","","","","","","","","","","","","","","","","","","","","","","","","","","","","","","","","","","","","","","","","","","","","","","","","","","","","","","","","","","","","","","","","","","","","","","","","","","","","","","","","","","","","","","","","","","","","","","","","","","","","","","","","","","","","","","","","","","","","","","","","","","","","","","","","","","","","","","","","","","","","","","","","","","","","","","","","","","","","","","","","","","","","","","","","","","","","","","","","","","","","","","","","","","","","","","","","","","","","","","","","","","","","","","","","","","","","","","","","","","","","","","","","","","","","","","","","","","","","","","","","","","","","","","","","","","","","","","","","","","","","","","","","","","","","","","","","",""]
[{"$f":"Wochenplan!A21","v":"Fortbildungsmaßnahmen"},{"$f":"Wochenplan!B21","v":0},{"$f":"Wochenplan!C21","v":0},{"$f":"Wochenplan!D21","v":0},{"$f":"IF(Wochenplan!E21=0,\"\",Wochenplan!E21)","v":""},{"$f":"IF(Wochenplan!F21=0,\"\",Wochenplan!F21)","v":""},0,{"$f":"Tabelle17[[#This Row],[Spalte8]]","v":0},"","","","","","","","","","","","","","","","","","","","","","","","","","","","","","","","","","","","","","","","","","","","","","","","","","","","","","","","","","","","","","","","","","","","","","","","","","","","","","","","","","","","","","","","","","","","","","","","","","","","","","","","","","","","","","","","","","","","","","","","","","","","","","","","","","","","","","","","","","","","","","","","","","","","","","","","","","","","","","","","","","","","","","","","","","","","","","","","","","","","","","","","","","","","","","","","","","","","","","","","","","","","","","","","","","","","","","","","","","","","","","","","","","","","","","","","","","","","","","","","","","","","","","","","","","","","","","","","","","","","","","","","","","","","","","","","","","","","","","","","","","","","","","","","","","","","","","","","","","","","","","","","","","","","","","","","","","","","","","","","","","","","","","","","","","","","","","","","","","","","","","","","","","","","","","","","","","","","","","","","","","","","","","",""]
[{"$f":"Wochenplan!A22","v":0},{"$f":"Wochenplan!B22","v":0},null,{"$f":"Wochenplan!D22","v":0},{"$f":"IF(Wochenplan!E22=0,\"\",Wochenplan!E22)","v":""},{"$f":"IF(Wochenplan!F22=0,\"\",Wochenplan!F22)","v":""},0,{"$f":"Tabelle17[[#This Row],[Spalte8]]","v":0},"","","","","","","","","","","","","","","","","","","","","","","","","","","","","","","","","","","","","","","","","","","","","","","","","","","","","","","","","","","","","","","","","","","","","","","","","","","","","","","","","","","","","","","","","","","","","","","","","","","","","","","","","","","","","","","","","","","","","","","","","","","","","","","","","","","","","","","","","","","","","","","","","","","","","","","","","","","","","","","","","","","","","","","","","","","","","","","","","","","","","","","","","","","","","","","","","","","","","","","","","","","","","","","","","","","","","","","","","","","","","","","","","","","","","","","","","","","","","","","","","","","","","","","","","","","","","","","","","","","","","","","","","","","","","","","","","","","","","","","","","","","","","","","","","","","","","","","","","","","","","","","","","","","","","","","","","","","","","","","","","","","","","","","","","","","","","","","","","","","","","","","","","","","","","","","","","","","","","","","","","","","","","","",""]
[{"$f":"Wochenplan!A23","v":0},null,{"$f":"Wochenplan!C23","v":0},{"$f":"Wochenplan!D23","v":0},{"$f":"IF(Wochenplan!E23=0,\"\",Wochenplan!E23)","v":""},{"$f":"IF(Wochenplan!F23=0,\"\",Wochenplan!F23)","v":""},0,{"$f":"Tabelle17[[#This Row],[Spalte8]]","v":0},"","","","","","","","","","","","","","","","","","","","","","","","","","","","","","","","","","","","","","","","","","","","","","","","","","","","","","","","","","","","","","","","","","","","","","","","","","","","","","","","","","","","","","","","","","","","","","","","","","","","","","","","","","","","","","","","","","","","","","","","","","","","","","","","","","","","","","","","","","","","","","","","","","","","","","","","","","","","","","","","","","","","","","","","","","","","","","","","","","","","","","","","","","","","","","","","","","","","","","","","","","","","","","","","","","","","","","","","","","","","","","","","","","","","","","","","","","","","","","","","","","","","","","","","","","","","","","","","","","","","","","","","","","","","","","","","","","","","","","","","","","","","","","","","","","","","","","","","","","","","","","","","","","","","","","","","","","","","","","","","","","","","","","","","","","","","","","","","","","","","","","","","","","","","","","","","","","","","","","","","","","","","","","",""]
[{"$f":"Wochenplan!A24","v":0},null,{"$f":"Wochenplan!C24","v":0},{"$f":"Wochenplan!D24","v":0},{"$f":"IF(Wochenplan!E24=0,\"\",Wochenplan!E24)","v":""},{"$f":"IF(Wochenplan!F24=0,\"\",Wochenplan!F24)","v":""},0,{"$f":"Tabelle17[[#This Row],[Spalte8]]","v":0},"","","","","","","","","","","","","","","","","","","","","","","","","","","","","","","","","","","","","","","","","","","","","","","","","","","","","","","","","","","","","","","","","","","","","","","","","","","","","","","","","","","","","","","","","","","","","","","","","","","","","","","","","","","","","","","","","","","","","","","","","","","","","","","","","","","","","","","","","","","","","","","","","","","","","","","","","","","","","","","","","","","","","","","","","","","","","","","","","","","","","","","","","","","","","","","","","","","","","","","","","","","","","","","","","","","","","","","","","","","","","","","","","","","","","","","","","","","","","","","","","","","","","","","","","","","","","","","","","","","","","","","","","","","","","","","","","","","","","","","","","","","","","","","","","","","","","","","","","","","","","","","","","","","","","","","","","","","","","","","","","","","","","","","","","","","","","","","","","","","","","","","","","","","","","","","","","","","","","","","","","","","","","","",""]
[{"$f":"Wochenplan!A25","v":0},null,{"$f":"Wochenplan!C25","v":0},{"$f":"Wochenplan!D25","v":0},{"$f":"IF(Wochenplan!E25=0,\"\",Wochenplan!E25)","v":""},{"$f":"IF(Wochenplan!F25=0,\"\",Wochenplan!F25)","v":""},0,{"$f":"Tabelle17[[#This Row],[Spalte8]]","v":0},"","","","","","","","","","","","","","","","","","","","","","","","","","","","","","","","","","","","","","","","","","","","","","","","","","","","","","","","","","","","","","","","","","","","","","","","","","","","","","","","","","","","","","","","","","","","","","","","","","","","","","","","","","","","","","","","","","","","","","","","","","","","","","","","","","","","","","","","","","","","","","","","","","","","","","","","","","","","","","","","","","","","","","","","","","","","","","","","","","","","","","","","","","","","","","","","","","","","","","","","","","","","","","","","","","","","","","","","","","","","","","","","","","","","","","","","","","","","","","","","","","","","","","","","","","","","","","","","","","","","","","","","","","","","","","","","","","","","","","","","","","","","","","","","","","","","","","","","","","","","","","","","","","","","","","","","","","","","","","","","","","","","","","","","","","","","","","","","","","","","","","","","","","","","","","","","","","","","","","","","","","","","","","",""]
[{"$f":"Wochenplan!A26","v":0},{"$f":"Wochenplan!B26","v":0},{"$f":"Wochenplan!C26","v":0},{"$f":"Wochenplan!D26","v":0},{"$f":"IF(Wochenplan!E26=0,\"\",Wochenplan!E26)","v":""},{"$f":"IF(Wochenplan!F26=0,\"\",Wochenplan!F26)","v":""},0,{"$f":"Tabelle17[[#This Row],[Spalte8]]","v":0},"","","","","","","","","","","","","","","","","","","","","","","","","","","","","","","","","","","","","","","","","","","","","","","","","","","","","","","","","","","","","","","","","","","","","","","","","","","","","","","","","","","","","","","","","","","","","","","","","","","","","","","","","","","","","","","","","","","","","","","","","","","","","","","","","","","","","","","","","","","","","","","","","","","","","","","","","","","","","","","","","","","","","","","","","","","","","","","","","","","","","","","","","","","","","","","","","","","","","","","","","","","","","","","","","","","","","","","","","","","","","","","","","","","","","","","","","","","","","","","","","","","","","","","","","","","","","","","","","","","","","","","","","","","","","","","","","","","","","","","","","","","","","","","","","","","","","","","","","","","","","","","","","","","","","","","","","","","","","","","","","","","","","","","","","","","","","","","","","","","","","","","","","","","","","","","","","","","","","","","","","","","","","","",""]
[{"$f":"Wochenplan!A27","v":0},{"$f":"Wochenplan!B27","v":0},{"$f":"Wochenplan!C27","v":0},{"$f":"Wochenplan!D27","v":0},{"$f":"IF(Wochenplan!E27=0,\"\",Wochenplan!E27)","v":""},{"$f":"IF(Wochenplan!F27=0,\"\",Wochenplan!F27)","v":""},0,{"$f":"Tabelle17[[#This Row],[Spalte8]]","v":0},"","","","","","","","","","","","","","","","",{"$f":"IF(AND(         Y$8>=$E26,       Y$8<=$F26, $D26<>0),     \"u\",    \"\")","v":""},"","","","","","","","","","","","","","","",{"$f":"IF(AND(         AO$8>=$E26,       AO$8<=$F26, $D26<>0),     \"u\",    \"\")","v":""},"","","","","","","","","","","","","","","",{"$f":"IF(AND(         BE$8>=$E26,       BE$8<=$F26, $D26<>0),     \"u\",    \"\")","v":""},"","","","","","","","","","","","","","","",{"$f":"IF(AND(         BU$8>=$E26,       BU$8<=$F26, $D26<>0),     \"u\",    \"\")","v":""},"","","","","","","","","","","","","","","",{"$f":"IF(AND(         CK$8>=$E26,       CK$8<=$F26, $D26<>0),     \"u\",    \"\")","v":""},"","","","","","","","","","","","","","","",{"$f":"IF(AND(         DA$8>=$E26,       DA$8<=$F26, $D26<>0),     \"u\",    \"\")","v":""},"","","","","","","","","","","","","","","",{"$f":"IF(AND(         DQ$8>=$E26,       DQ$8<=$F26, $D26<>0),     \"u\",    \"\")","v":""},"","","","","","","","","","","","","","","",{"$f":"IF(AND(         EG$8>=$E26,       EG$8<=$F26, $D26<>0),     \"u\",    \"\")","v":""},"","","","","","","","","","","","","","","",{"$f":"IF(AND(         EW$8>=$E26,       EW$8<=$F26, $D26<>0),     \"u\",    \"\")","v":""},"","","","","","","","","","","","","","","",{"$f":"IF(AND(         FM$8>=$E26,       FM$8<=$F26, $D26<>0),     \"u\",    \"\")","v":""},"","","","","","","","","","","","","","","",{"$f":"IF(AND(         GC$8>=$E26,       GC$8<=$F26, $D26<>0),     \"u\",    \"\")","v":""},"","","","","","","","","","","","","","","",{"$f":"IF(AND(         GS$8>=$E26,       GS$8<=$F26, $D26<>0),     \"u\",    \"\")","v":""},"","","","","","","","","","","","","","","",{"$f":"IF(AND(         HI$8>=$E26,       HI$8<=$F26, $D26<>0),     \"u\",    \"\")","v":""},"","","","","","","","","","","","","","","",{"$f":"IF(AND(         HY$8>=$E26,       HY$8<=$F26, $D26<>0),     \"u\",    \"\")","v":""},"","","","","","","","","","","","","","","",{"$f":"IF(AND(         IO$8>=$E26,       IO$8<=$F26, $D26<>0),     \"u\",    \"\")","v":""},"","","","","","","","","","","","","","","",{"$f":"IF(AND(         JE$8>=$E26,       JE$8<=$F26, $D26<>0),     \"u\",    \"\")","v":""},"","","","","","","","","","","","","","","",{"$f":"IF(AND(         JU$8>=$E26,       JU$8<=$F26, $D26<>0),     \"u\",    \"\")","v":""},"","","","","","","","","","","","","","","",{"$f":"IF(AND(         KK$8>=$E26,       KK$8<=$F26, $D26<>0),     \"u\",    \"\")","v":""},"","","","","","","","","","","","","","","",{"$f":"IF(AND(         LA$8>=$E26,       LA$8<=$F26, $D26<>0),     \"u\",    \"\")","v":""},"","","","","","","","","","","","","","","",{"$f":"IF(AND(         LQ$8>=$E26,       LQ$8<=$F26, $D26<>0),     \"u\",    \"\")","v":""},"","","","","","","","","","","","","","","",{"$f":"IF(AND(         MG$8>=$E26,       MG$8<=$F26, $D26<>0),     \"u\",    \"\")","v":""},"","","","","","","","","","","","","","","",{"$f":"IF(AND(         MW$8>=$E26,       MW$8<=$F26, $D26<>0),     \"u\",    \"\")","v":""},"","","","","","","","","","","","","",""]
[{"$f":"Wochenplan!A28","v":0},{"$f":"Wochenplan!B28","v":0},{"$f":"Wochenplan!C28","v":0},{"$f":"Wochenplan!D28","v":0},{"$f":"IF(Wochenplan!E28=0,\"\",Wochenplan!E28)","v":""},{"$f":"IF(Wochenplan!F28=0,\"\",Wochenplan!F28)","v":""},0,{"$f":"Tabelle17[[#This Row],[Spalte8]]","v":0},"","","","","","","","","","","","","","","","","","","","","","","","","","","","","","","","","","","","","","","","","","","","","","","","","","","","","","","","","","","","","","","","","","","","","","","","","","","","","","","","","","","","","","","","","","","","","","","","","","","","","","","","","","","","","","","","","","","","","","","","","","","","","","","","","","","","","","","","","","","","","","","","","","","","","","","","","","","","","","","","","","","","","","","","","","","","","","","","","","","","","","","","","","","","","","","","","","","","","","","","","","","","","","","","","","","","","","","","","","","","","","","","","","","","","","","","","","","","","","","","","","","","","","","","","","","","","","","","","","","","","","","","","","","","","","","","","","","","","","","","","","","","","","","","","","","","","","","","","","","","","","","","","","","","","","","","","","","","","","","","","","","","","","","","","","","","","","","","","","","","","","","","","","","","","","","","","","","","","","","","","","","","","","",""]
[{"$f":"Wochenplan!A29","v":0},{"$f":"Wochenplan!B29","v":0},{"$f":"Wochenplan!C29","v":0},{"$f":"Wochenplan!D29","v":0},{"$f":"IF(Wochenplan!E29=0,\"\",Wochenplan!E29)","v":""},{"$f":"IF(Wochenplan!F29=0,\"\",Wochenplan!F29)","v":""},0,{"$f":"Tabelle17[[#This Row],[Spalte8]]","v":0},{"$f":"IF(AND(         I$8>=$E28,       I$8<=$F28, $D28<>0),     \"u\",    \"\")","v":""},"","","","","","","","","","","","","","","","","","","","","","","","","","","","","","","","","","","","","","","","","","","","","","","","","","","","","","","","","","","","","","","","","","","","","","","","","","","","","","","","","","","","","","","","","","","","","","","","","","","","","","","","","","","","","","","","","","","","","","","","","","","","","","","","","","","","","","","","","","","","","","","","","","","","","","","","","","","","","","","","","","","","","","","","","","","","","","","","","","","","","","","","","","","","","","","","","","","","","","","","","","","","","","","","","","","","","","","","","","","","","","","","","","","","","","","","","","","","","","","","","","","","","","","","","","","","","","","","","","","","","","","","","","","","","","","","","","","","","","","","","","","","","","","","","","","","","","","","","","","","","","","","","","","","","","","","","","","","","","","","","","","","","","","","","","","","","","","","","","","","","","","","","","","","","","","","","","","","","","","","","","","","","",""]
[{"$f":"Wochenplan!A30","v":"Potentialanalyse"},{"$f":"Wochenplan!B30","v":0},{"$f":"Wochenplan!C30","v":0},{"$f":"Wochenplan!D30","v":0},{"$f":"IF(Wochenplan!E30=0,\"\",Wochenplan!E30)","v":""},{"$f":"IF(Wochenplan!F30=0,\"\",Wochenplan!F30)","v":""},0,{"$f":"Tabelle17[[#This Row],[Spalte8]]","v":0},"","","","","","","","","","","","","","","","","","","","","","","","","","","","","","","","","","","","","","","","","","","","","","","","","","","","","","","","","","","","","","","","","","","","","","","","","","","","","","","","","","","","","","","","","","","","","","","","","","","","","","","","","","","","","","","","","","","","","","","","","","","","","","","","","","","","","","","","","","","","","","","","","","","","","","","","","","","","","","","","","","","","","","","","","","","","","","","","","","","","","","","","","","","","","","","","","","","","","","","","","","","","","","","","","","","","","","","","","","","","","","","","","","","","","","","","","","","","","","","","","","","","","","","","","","","","","","","","","","","","","","","","","","","","","","","","","","","","","","","","","","","","","","","","","","","","","","","","","","","","","","","","","","","","","","","","","","","","","","","","","","","","","","","","","","","","","","","","","","","","","","","","","","","","","","","","","","","","","","","","","","","","","","",""]
[{"$f":"Wochenplan!A31","v":0},{"$f":"Wochenplan!B31","v":0},{"$f":"Wochenplan!C31","v":0},{"$f":"Wochenplan!D31","v":0},{"$f":"IF(Wochenplan!E31=0,\"\",Wochenplan!E31)","v":""},{"$f":"IF(Wochenplan!F31=0,\"\",Wochenplan!F31)","v":""},0,{"$f":"Tabelle17[[#This Row],[Spalte8]]","v":0},"","","","","","","","","","","","","","","","","","","","","","","","","","","","","","","","","","","","","","","","","","","","","","","","","","","","","","","","","","","","","","","","","","","","","","","","","","","","","","","","","","","","","","","","","","","","","","","","","","","","","","","","","","","","","","","","","","","","","","","","","","","","","","","","","","","","","","","","","","","","","","","","","","","","","","","","","","","","","","","","","","","","","","","","","","","","","","","","","","","","","","","","","","","","","","","","","","","","","","","","","","","","","","","","","","","","","","","","","","","","","","","","","","","","","","","","","","","","","","","","","","","","","","","","","","","","","","","","","","","","","","","","","","","","","","","","","","","","","","","","","","","","","","","","","","","","","","","","","","","","","","","","","","","","","","","","","","","","","","","","","","","","","","","","","","","","","","","","","","","","","","","","","","","","","","","","","","","","","","","","","","","","","","",""]
[{"$f":"Wochenplan!A32","v":0},{"$f":"Wochenplan!B32","v":0},{"$f":"Wochenplan!C32","v":0},{"$f":"Wochenplan!D32","v":0},{"$f":"IF(Wochenplan!E32=0,\"\",Wochenplan!E32)","v":""},{"$f":"IF(Wochenplan!F32=0,\"\",Wochenplan!F32)","v":""},0,{"$f":"Tabelle17[[#This Row],[Spalte8]]","v":0},"","","","","","","","","","","","","","","","","","","","","","","","","","","","","","","","","","","","","","","","","","","","","","","","","","","","","","","","","","","","","","","","","","","","","","","","","","","","","","","","","","","","","","","","","","","","","","","","","","","","","","","","","","","","","","","","","","","","","","","","","","","","","","","","","","","","","","","","","","","","","","","","","","","","","","","","","","","","","","","","","","","","","","","","","","","","","","","","","","","","","","","","","","","","","","","","","","","","","","","","","","","","","","","","","","","","","","","","","","","","","","","","","","","","","","","","","","","","","","","","","","","","","","","","","","","","","","","","","","","","","","","","","","","","","","","","","","","","","","","","","","","","","","","","","","","","","","","","","","","","","","","","","","","","","","","","","","","","","","","","","","","","","","","","","","","","","","","","","","","","","","","","","","","","","","","","","","","","","","","","","","","","","","",""]
[{"$f":"Wochenplan!A33","v":0},{"$f":"Wochenplan!B33","v":0},{"$f":"Wochenplan!C33","v":0},{"$f":"Wochenplan!D33","v":0},{"$f":"IF(Wochenplan!E33=0,\"\",Wochenplan!E33)","v":""},{"$f":"IF(Wochenplan!F33=0,\"\",Wochenplan!F33)","v":""},0,{"$f":"Tabelle17[[#This Row],[Spalte8]]","v":0},"","","","","","","","","","","","","","","","","","","","","","","","","","","","","","","","","","","","","","","","","","","","","","","","","","","","","","","","","","","","","","","","","","","","","","","","","","","","","","","","","","","","","","","","","","","","","","","","","","","","","","","","","","","","","","","","","","","","","","","","","","","","","","","","","","","","","","","","","","","","","","","","","","","","","","","","","","","","","","","","","","","","","","","","","","","","","","","","","","","","","","","","","","","","","","","","","","","","","","","","","","","","","","","","","","","","","","","","","","","","","","","","","","","","","","","","","","","","","","","","","","","","","","","","","","","","","","","","","","","","","","","","","","","","","","","","","","","","","","","","","","","","","","","","","","","","","","","","","","","","","","","","","","","","","","","","","","","","","","","","","","","","","","","","","","","","","","","","","","","","","","","","","","","","","","","","","","","","","","","","","","","","","","",""]
[{"$f":"Wochenplan!A34","v":0},{"$f":"Wochenplan!B34","v":0},{"$f":"Wochenplan!C34","v":0},{"$f":"Wochenplan!D34","v":0},{"$f":"IF(Wochenplan!E34=0,\"\",Wochenplan!E34)","v":""},{"$f":"IF(Wochenplan!F34=0,\"\",Wochenplan!F34)","v":""},0,{"$f":"Tabelle17[[#This Row],[Spalte8]]","v":0},"","","","","","","","","","","","","","","","","","","","","","","","","","","","","","","","","","","","","","","","","","","","","","","","","","","","","","","","","","","","","","","","","","","","","","","","","","","","","","","","","","","","","","","","","","","","","","","","","","","","","","","","","","","","","","","","","","","","","","","","","","","","","","","","","","","","","","","","","","","","","","","","","","","","","","","","","","","","","","","","","","","","","","","","","","","","","","","","","","","","","","","","","","","","","","","","","","","","","","","","","","","","","","","","","","","","","","","","","","","","","","","","","","","","","","","","","","","","","","","","","","","","","","","","","","","","","","","","","","","","","","","","","","","","","","","","","","","","","","","","","","","","","","","","","","","","","","","","","","","","","","","","","","","","","","","","","","","","","","","","","","","","","","","","","","","","","","","","","","","","","","","","","","","","","","","","","","","","","","","","","","","","","","",""]
[{"$f":"Wochenplan!A35","v":"Risikoanalyse"},{"$f":"Wochenplan!B35","v":0},{"$f":"Wochenplan!C35","v":0},{"$f":"Wochenplan!D35","v":0},{"$f":"IF(Wochenplan!E35=0,\"\",Wochenplan!E35)","v":""},{"$f":"IF(Wochenplan!F35=0,\"\",Wochenplan!F35)","v":""},0,{"$f":"Tabelle17[[#This Row],[Spalte8]]","v":0},"","","","","","","","","","","","","","","","","","","","","","","","","","","","","","","","","","","","","","","","","","","","","","","","","","","","","","","","","","","","","","","","","","","","","","","","","","","","","","","","","","","","","","","","","","","","","","","","","","","","","","","","","","","","","","","","","","","","","","","","","","","","","","","","","","","","","","","","","","","","","","","","","","","","","","","","","","","","","","","","","","","","","","","","","","","","","","","","","","","","","","","","","","","","","","","","","","","","","","","","","","","","","","","","","","","","","","","","","","","","","","","","","","","","","","","","","","","","","","","","","","","","","","","","","","","","","","","","","","","","","","","","","","","","","","","","","","","","","","","","","","","","","","","","","","","","","","","","","","","","","","","","","","","","","","","","","","","","","","","","","","","","","","","","","","","","","","","","","","","","","","","","","","","","","","","","","","","","","","","","","","","","","","",""]
[{"$f":"Wochenplan!A36","v":0},{"$f":"Wochenplan!B36","v":0},{"$f":"Wochenplan!C36","v":0},{"$f":"Wochenplan!D36","v":0},{"$f":"IF(Wochenplan!E36=0,\"\",Wochenplan!E36)","v":""},{"$f":"IF(Wochenplan!F36=0,\"\",Wochenplan!F36)","v":""},0,{"$f":"Tabelle17[[#This Row],[Spalte8]]","v":0},"","","","","","","","","","","","","","","","","","","","","","","","","","","","","","","","","","","","","","","","","","","","","","","","","","","","","","","","","","","","","","","","","","","","","","","","","","","","","","","","","","","","","","","","","","","","","","","","","","","","","","","","","","","","","","","","","","","","","","","","","","","","","","","","","","","","","","","","","","","","","","","","","","","","","","","","","","","","","","","","","","","","","","","","","","","","","","","","","","","","","","","","","","","","","","","","","","","","","","","","","","","","","","","","","","","","","","","","","","","","","","","","","","","","","","","","","","","","","","","","","","","","","","","","","","","","","","","","","","","","","","","","","","","","","","","","","","","","","","","","","","","","","","","","","","","","","","","","","","","","","","","","","","","","","","","","","","","","","","","","","","","","","","","","","","","","","","","","","","","","","","","","","","","","","","","","","","","","","","","","","","","","","","",""]
[{"$f":"Wochenplan!A37","v":0},{"$f":"Wochenplan!B37","v":0},{"$f":"Wochenplan!C37","v":0},{"$f":"Wochenplan!D37","v":0},{"$f":"IF(Wochenplan!E37=0,\"\",Wochenplan!E37)","v":""},{"$f":"IF(Wochenplan!F37=0,\"\",Wochenplan!F37)","v":""},0,{"$f":"Tabelle17[[#This Row],[Spalte8]]","v":0},"","","","","","","","","","","","","","","","","","","","","","","","","","","","","","","","","","","","","","","","","","","","","","","","","","","","","","","","","","","","","","","","","","","","","","","","","","","","","","","","","","","","","","","","","","","","","","","","","","","","","","","","","","","","","","","","","","","","","","","","","","","","","","","","","","","","","","","","","","","","","","","","","","","","","","","","","","","","","","","","","","","","","","","","","","","","","","","","","","","","","","","","","","","","","","","","","","","","","","","","","","","","","","","","","","","","","","","","","","","","","","","","","","","","","","","","","","","","","","","","","","","","","","","","","","","","","","","","","","","","","","","","","","","","","","","","","","","","","","","","","","","","","","","","","","","","","","","","","","","","","","","","","","","","","","","","","","","","","","","","","","","","","","","","","","","","","","","","","","","","","","","","","","","","","","","","","","","","","","","","","","","","","","",""]
[{"$f":"Wochenplan!A38","v":0},{"$f":"Wochenplan!B38","v":0},{"$f":"Wochenplan!C38","v":0},{"$f":"Wochenplan!D38","v":0},{"$f":"IF(Wochenplan!E38=0,\"\",Wochenplan!E38)","v":""},{"$f":"IF(Wochenplan!F38=0,\"\",Wochenplan!F38)","v":""},0,{"$f":"Tabelle17[[#This Row],[Spalte8]]","v":0},"","","","","","","","","","","","","","","","","","","","","","","","","","","","","","","","","","","","","","","","","","","","","","","","","","","","","","","","","","","","","","","","","","","","","","","","","","","","","","","","","","","","","","","","","","","","","","","","","","","","","","","","","","","","","","","","","","","","","","","","","","","","","","","","","","","","","","","","","","","","","","","","","","","","","","","","","","","","","","","","","","","","","","","","","","","","","","","","","","","","","","","","","","","","","","","","","","","","","","","","","","","","","","","","","","","","","","","","","","","","","","","","","","","","","","","","","","","","","","","","","","","","","","","","","","","","","","","","","","","","","","","","","","","","","","","","","","","","","","","","","","","","","","","","","","","","","","","","","","","","","","","","","","","","","","","","","","","","","","","","","","","","","","","","","","","","","","","","","","","","","","","","","","","","","","","","","","","","","","","","","","","","","","",""]
[{"$f":"Wochenplan!A39","v":0},{"$f":"Wochenplan!B39","v":0},{"$f":"Wochenplan!C39","v":0},{"$f":"Wochenplan!D39","v":0},{"$f":"IF(Wochenplan!E39=0,\"\",Wochenplan!E39)","v":""},{"$f":"IF(Wochenplan!F39=0,\"\",Wochenplan!F39)","v":""},{"$f":"IF(AND(    E38=0,F38=0),  \"---\",         IF($C$4<=E38,0,IF($C$4>F38,1,_xlfn.DAYS($C$4,E38)/_xlfn.DAYS(F38,E38))))","v":0},{"$f":"Tabelle17[[#This Row],[Spalte8]]","v":0},"","","","","","","","","","","","","","","","","","","","","","","","","","","","","","","","","","","","","","","","","","","","","","","","","","","","","","","","","","","","","","","","","","","","","","","","","","","","","","","","","","","","","","","","","","","","","","","","","","","","","","","","","","","","","","","","","","","","","","","","","","","","","","","","","","","","","","","","","","","","","","","","","","","","","","","","","","","","","","","","","","","","","","","","","","","","","","","","","","","","","","","","","","","","","","","","","","","","","","","","","","","","","","","","","","","","","","","","","","","","","","","","","","","","","","","","","","","","","","","","","","","","","","","","","","","","","","","","","","","","","","","","","","","","","","","","","","","","","","","","","","","","","","","","","","","","","","","","","","","","","","","","","","","","","","","","","","","","","","","","","","","","","","","","","","","","","","","","","","","","","","","","","","","","","","","","","","","","","","","","","","","","","","",""]
[{"$f":"Wochenplan!A40","v":0},{"$f":"Wochenplan!B40","v":0},{"$f":"Wochenplan!C40","v":0},{"$f":"Wochenplan!D40","v":0},{"$f":"IF(Wochenplan!E40=0,\"\",Wochenplan!E40)","v":""},{"$f":"IF(Wochenplan!F40=0,\"\",Wochenplan!F40)","v":""},0,{"$f":"Tabelle17[[#This Row],[Spalte8]]","v":0},"","","","","","","","","","","","","","","","","","","","","","","","","","","","","","","","","","","","","","","","","","","","","","","","","","","","","","","","","","","","","","","","","","","","","","","","","","","","","","","","","","","","","","","","","","","","","","","","","","","","","","","","","","","","","","","","","","","","","","","","","","","","","","","","","","","","","","","","","","","","","","","","","","","","","","","","","","","","","","","","","","","","","","","","","","","","","","","","","","","","","","","","","","","","","","","","","","","","","","","","","","","","","","","","","","","","","","","","","","","","","","","","","","","","","","","","","","","","","","","","","","","","","","","","","","","","","","","","","","","","","","","","","","","","","","","","","","","","","","","","","","","","","","","","","","","","","","","","","","","","","","","","","","","","","","","","","","","","","","","","","","","","","","","","","","","","","","","","","","","","","","","","","","","","","","","","","","","","","","","","","","","","","","",""]
[{"$f":"Wochenplan!A41","v":0},{"$f":"Wochenplan!B41","v":0},{"$f":"Wochenplan!C41","v":0},{"$f":"Wochenplan!D41","v":0},{"$f":"IF(Wochenplan!E41=0,\"\",Wochenplan!E41)","v":""},{"$f":"IF(Wochenplan!F41=0,\"\",Wochenplan!F41)","v":""},0,{"$f":"Tabelle17[[#This Row],[Spalte8]]","v":0},"","","","","","","","","","","","","","","","","","","","","","","","","","","","","","","","","","","","","","","","","","","","","","","","","","","","","","","","","","","","","","","","","","","","","","","","","","","","","","","","","","","","","","","","","","","","","","","","","","","","","","","","","","","","","","","","","","","","","","","","","","","","","","","","","","","","","","","","","","","","","","","","","","","","","","","","","","","","","","","","","","","","","","","","","","","","","","","","","","","","","","","","","","","","","","","","","","","","","","","","","","","","","","","","","","","","","","","","","","","","","","","","","","","","","","","","","","","","","","","","","","","","","","","","","","","","","","","","","","","","","","","","","","","","","","","","","","","","","","","","","","","","","","","","","","","","","","","","","","","","","","","","","","","","","","","","","","","","","","","","","","","","","","","","","","","","","","","","","","","","","","","","","","","","","","","","","","","","","","","","","","","","","","",""]
[{"$f":"Wochenplan!A42","v":0},{"$f":"Wochenplan!B42","v":0},{"$f":"Wochenplan!C42","v":0},{"$f":"Wochenplan!D42","v":0},{"$f":"IF(Wochenplan!E42=0,\"\",Wochenplan!E42)","v":""},{"$f":"IF(Wochenplan!F42=0,\"\",Wochenplan!F42)","v":""},0,{"$f":"Tabelle17[[#This Row],[Spalte8]]","v":0},"","","","","","","","","","","","","","","","","","","","","","","","","","","","","","","","","","","","","","","","","","","","","","","","","","","","","","","","","","","","","","","","","","","","","","","","","","","","","","","","","","","","","","","","","","","","","","","","","","","","","","","","","","","","","","","","","","","","","","","","","","","","","","","","","","","","","","","","","","","","","","","","","","","","","","","","","","","","","","","","","","","","","","","","","","","","","","","","","","","","","","","","","","","","","","","","","","","","","","","","","","","","","","","","","","","","","","","","","","","","","","","","","","","","","","","","","","","","","","","","","","","","","","","","","","","","","","","","","","","","","","","","","","","","","","","","","","","","","","","","","","","","","","","","","","","","","","","","","","","","","","","","","","","","","","","","","","","","","","","","","","","","","","","","","","","","","","","","","","","","","","","","","","","","","","","","","","","","","","","","","","","","","","",""]
[{"$f":"Wochenplan!A43","v":0},{"$f":"Wochenplan!B43","v":0},{"$f":"Wochenplan!C43","v":0},{"$f":"Wochenplan!D43","v":0},{"$f":"IF(Wochenplan!E43=0,\"\",Wochenplan!E43)","v":""},{"$f":"IF(Wochenplan!F43=0,\"\",Wochenplan!F43)","v":""},0,{"$f":"Tabelle17[[#This Row],[Spalte8]]","v":0.25},"","","","","","","","","","","","","","","","","","","","","","","","","","","","","","",{"$f":"IF(AND(         AM$8>=$E42,       AM$8<=$F42, $D42<>0),     \"u\",    \"\")","v":""},"","","","","","","","","","","","","","","",{"$f":"IF(AND(         BC$8>=$E42,       BC$8<=$F42, $D42<>0),     \"u\",    \"\")","v":""},"","","","","","","","","","","","","","","",{"$f":"IF(AND(         BS$8>=$E42,       BS$8<=$F42, $D42<>0),     \"u\",    \"\")","v":""},"","","","","","","","","","","","","","","",{"$f":"IF(AND(         CI$8>=$E42,       CI$8<=$F42, $D42<>0),     \"u\",    \"\")","v":""},"","","","","","","","","","","","","","","",{"$f":"IF(AND(         CY$8>=$E42,       CY$8<=$F42, $D42<>0),     \"u\",    \"\")","v":""},"","","","","","","","","","","","","","","",{"$f":"IF(AND(         DO$8>=$E42,       DO$8<=$F42, $D42<>0),     \"u\",    \"\")","v":""},"","","","","","","","","","","","","","","",{"$f":"IF(AND(         EE$8>=$E42,       EE$8<=$F42, $D42<>0),     \"u\",    \"\")","v":""},"","","","","","","","","","","","","","","",{"$f":"IF(AND(         EU$8>=$E42,       EU$8<=$F42, $D42<>0),     \"u\",    \"\")","v":""},"","","","","","","","","","","","","","","",{"$f":"IF(AND(         FK$8>=$E42,       FK$8<=$F42, $D42<>0),     \"u\",    \"\")","v":""},"","","","","","","","","","","","","","","",{"$f":"IF(AND(         GA$8>=$E42,       GA$8<=$F42, $D42<>0),     \"u\",    \"\")","v":""},"","","","","","","","","","","","","","","",{"$f":"IF(AND(         GQ$8>=$E42,       GQ$8<=$F42, $D42<>0),     \"u\",    \"\")","v":""},"","","","","","","","","","","","","","","",{"$f":"IF(AND(         HG$8>=$E42,       HG$8<=$F42, $D42<>0),     \"u\",    \"\")","v":""},"","","","","","","","","","","","","","","",{"$f":"IF(AND(         HW$8>=$E42,       HW$8<=$F42, $D42<>0),     \"u\",    \"\")","v":""},"","","","","","","","","","","","","","","",{"$f":"IF(AND(         IM$8>=$E42,       IM$8<=$F42, $D42<>0),     \"u\",    \"\")","v":""},"","","","","","","","","","","","","","","",{"$f":"IF(AND(         JC$8>=$E42,       JC$8<=$F42, $D42<>0),     \"u\",    \"\")","v":""},"","","","","","","","","","","","","","","",{"$f":"IF(AND(         JS$8>=$E42,       JS$8<=$F42, $D42<>0),     \"u\",    \"\")","v":""},"","","","","","","","","","","","","","","",{"$f":"IF(AND(         KI$8>=$E42,       KI$8<=$F42, $D42<>0),     \"u\",    \"\")","v":""},"","","","","","","","","","","","","","","",{"$f":"IF(AND(         KY$8>=$E42,       KY$8<=$F42, $D42<>0),     \"u\",    \"\")","v":""},"","","","","","","","","","","","","","","",{"$f":"IF(AND(         LO$8>=$E42,       LO$8<=$F42, $D42<>0),     \"u\",    \"\")","v":""},"","","","","","","","","","","","","","","",{"$f":"IF(AND(         ME$8>=$E42,       ME$8<=$F42, $D42<>0),     \"u\",    \"\")","v":""},"","","","","","","","","","","","","","","",{"$f":"IF(AND(         MU$8>=$E42,       MU$8<=$F42, $D42<>0),     \"u\",    \"\")","v":""},"","","","","","","","","","","","","","","",""]
[{"$f":"Wochenplan!A44","v":"Pädagogischer Tag"},{"$f":"Wochenplan!B44","v":0},{"$f":"Wochenplan!C44","v":0},{"$f":"Wochenplan!D44","v":0},{"$f":"IF(Wochenplan!E44=0,\"\",Wochenplan!E44)","v":""},{"$f":"IF(Wochenplan!F44=0,\"\",Wochenplan!F44)","v":""},0,{"$f":"Tabelle17[[#This Row],[Spalte8]]","v":0.1},"","","","","","","","","","","","","","","",{"$f":"IF(AND(         X$8>=$E43,       X$8<=$F43, $D43<>0),     \"u\",    \"\")","v":""},"","","","","","","","","","","","","","","","","","","","","","","","","","","","","","","","","","","","","","","","","","","","","","","","","","","","","","","","","","","","","","","","","","","","","","","","","","","","","","","","","","","","","","","","","","","","","","","","","","","","","","","","","","","","","","","","","","","","","","","","","","","","","","","","","","","","","","","","","","","","","","","","","","","","","","","","","","","","","","","","","","","","","","","","","","","","","","","","","","","","","","","","","","","","","","","","","","","","","","","","","","","","","","","","","","","","","","","","","","","","","","","","","","","","","","","","","","","","","","","","","","","","","","","","","","","","","","","","","","","","","","","","","","","","","","","","","","","","","","","","","","","","","","","","","","","","","","","","","","","","","","","","","","","","","","","","","","","","","","","","","","","","","","","","","","","","","","","","","","","","","","","","","","","","","","",{"$f":"IF(AND(         NK$8>=$E43,       NK$8<=$F43, $D43<>0),     \"u\",    \"\")","v":""}]
[{"$f":"Wochenplan!A45","v":0},{"$f":"Wochenplan!B45","v":0},{"$f":"Wochenplan!C45","v":0},{"$f":"Wochenplan!D45","v":0},{"$f":"IF(Wochenplan!E45=0,\"\",Wochenplan!E45)","v":""},{"$f":"IF(Wochenplan!F45=0,\"\",Wochenplan!F45)","v":""},{"$f":"IF(AND(    E44=0,F44=0),  \"---\",         IF($C$4<=E44,0,IF($C$4>F44,1,_xlfn.DAYS($C$4,E44)/_xlfn.DAYS(F44,E44))))","v":0},{"$f":"Tabelle17[[#This Row],[Spalte8]]","v":0.5},{"$f":"IF(AND(         I$8>=$E44,       I$8<=$F44, $D44<>0),     \"u\",    \"\")","v":""},"","","","","","","","","","","","","","","","","","","","","","","","","","","","","","","","","","","","","","","","","","","","","","","","","","","","","","","","","","","","","","","","","","","","","","","","","","","","","","","","","","","","","","","","","","","","","","","","","","","","","","","","","","","","","","","","","","","","","","","","","","","","","","","","","","","","","","","","","","","","","","","","","","","","","","","","","","","","","","","","","","","","","","","","","","","","","","","","","","","","","","","","","","","","","","","","","","","","","","","","","","","","","","","","","","","","","","","","","","","","","","","","","","","","","","","","","","","","","","","","","","","","","","","","","","","","","","","","","","","","","","","","","","","","","","","","","","","","","","","","","","","","","","","","","","","","","","","","","","","","","","","","","","","","","","","","","","","","","","","","","","","","","","","","","","","","","","","","","","","","","","","","","","","","","","","","","","","","","","","","","","","","","",""]
[{"$f":"Wochenplan!A46","v":0},{"$f":"Wochenplan!B46","v":0},{"$f":"Wochenplan!C46","v":0},{"$f":"Wochenplan!D46","v":0},{"$f":"IF(Wochenplan!E46=0,\"\",Wochenplan!E46)","v":""},{"$f":"IF(Wochenplan!F46=0,\"\",Wochenplan!F46)","v":""},0,{"$f":"Tabelle17[[#This Row],[Spalte8]]","v":0.4},"","","","","","","","","","","","","","","","","","","","","","","","","","","","","","","","","","","","","","","","","","","","","","","","","","","","","","","","","","","","","","","","","","","","","","","","","","","","","","","","","","","","","","","","","","","","","","","","","","","","","","","","","","","","","","","","","","","","","","","","","","","","","","","","","","","","","","","","","","","","","","","","","","","","","","","","","","","","","","","","","","","","","","","","","","","","","","","","","","","","","","","","","","","","","","","","","","","","","","","","","","","","","","","","","","","","","","","","","","","","","","","","","","","","","","","","","","","","","","","","","","","","","","","","","","","","","","","","","","","","","","","","","","","","","","","","","","","","","","","","","","","","","","","","","","","","","","","","","","","","","","","","","","","","","","","","","","","","","","","","","","","","","","","","","","","","","","","","","","","","","","","","","","","","","","","","","","","","","","","","","","","","","","",""]
[{"$f":"Wochenplan!A47","v":0},{"$f":"Wochenplan!B47","v":0},{"$f":"Wochenplan!C47","v":0},{"$f":"Wochenplan!D47","v":0},{"$f":"IF(Wochenplan!E47=0,\"\",Wochenplan!E47)","v":""},{"$f":"IF(Wochenplan!F47=0,\"\",Wochenplan!F47)","v":""},0,{"$f":"Tabelle17[[#This Row],[Spalte8]]","v":0},"","","","","","","","","","","","","","","","","","","","","","","","","","","","","","","","","","","","","","","","","","","","","","","","","","","","","","","","","","","","","","","","","","","","","","","","","","","","","","","","","","","","","","","","","","","","","","","","","","","","","","","","","","","","","","","","","","","","","","","","","","","","","","","","","","","","","","","","","","","","","","","","","","","","","","","","","","","","","","","","","","","","","","","","","","","","","","","","","","","","","","","","","","","","","","","","","","","","","","","","","","","","","","","","","","","","","","","","","","","","","","","","","","","","","","","","","","","","","","","","","","","","","","","","","","","","","","","","","","","","","","","","","","","","","","","","","","","","","","","","","","","","","","","","","","","","","","","","","","","","","","","","","","","","","","","","","","","","","","","","","","","","","","","","","","","","","","","","","","","","","","","","","","","","","","","","","","","","","","","","","","","","","","",""]
[{"$f":"Wochenplan!A48","v":0},{"$f":"Wochenplan!B48","v":0},{"$f":"Wochenplan!C48","v":0},{"$f":"Wochenplan!D48","v":0},{"$f":"IF(Wochenplan!E48=0,\"\",Wochenplan!E48)","v":""},{"$f":"IF(Wochenplan!F48=0,\"\",Wochenplan!F48)","v":""},{"$f":"IF(AND(    E47=0,F47=0),  \"---\",         IF($C$4<=E47,0,IF($C$4>F47,1,_xlfn.DAYS($C$4,E47)/_xlfn.DAYS(F47,E47))))","v":0},{"$f":"Tabelle17[[#This Row],[Spalte8]]","v":0.3},"","","","","","","","","","","","","","","","","","","","","","","","","","","","","","","","","","","","","","","","","","","","","","","","","","","","","","","","","","","","","","","","","","","","","","","","","","","","","","","","","","","","","","","","","","","","","","","","","","","","","","","","","","","","","","","","","","","","","","","","","","","","","","","","","","","","","","","","","","","","","","","","","","","","","","","","","","","","","","","","","","","","","","","","","","","","","","","","","","","","","","","","","","","","","","","","","","","","","","","","","","","","","","","","","","","","","","","","","","","","","","","","","","","","","","","","","","","","","","","","","","","","","","","","","","","","","","","","","","","","","","","","","","","","","","","","","","","","","","","","","","","","","","","","","","","","","","","","","","","","","","","","","","","","","","","","","","","","","","","","","","","","","","","","","","","","","","","","","","","","","","","","","","","","","","","","","","","","","","","","","","","","","","",""]
[{"$f":"Wochenplan!A49","v":0},{"$f":"Wochenplan!B49","v":0},{"$f":"Wochenplan!C49","v":0},{"$f":"Wochenplan!D49","v":0},{"$f":"IF(Wochenplan!E49=0,\"\",Wochenplan!E49)","v":""},{"$f":"IF(Wochenplan!F49=0,\"\",Wochenplan!F49)","v":""},0,{"$f":"Tabelle17[[#This Row],[Spalte8]]","v":0},"","","","","","","","","","","","","","","","","","","","","","","","","","","","","","","","","","","","","","","","","","","","","","","","","","","","","","","","","","","","","","","","","","","","","","","","","","","","","","","","","","","","","","","","","","","","","","","","","","","","","","","","","","","","","","","","","","","","","","","","","","","","","","","","","","","","","","","","","","","","","","","","","","","","","","","","","","","","","","","","","","","","","","","","","","","","","","","","","","","","","","","","","","","","","","","","","","","","","","","","","","","","","","","","","","","","","","","","","","","","","","","","","","","","","","","","","","","","","","","","","","","","","","","","","","","","","","","","","","","","","","","","","","","","","","","","","","","","","","","","","","","","","","","","","","","","","","","","","","","","","","","","","","","","","","","","","","","","","","","","","","","","","","","","","","","","","","","","","","","","","","","","","","","","","","","","","","","","","","","","","","","","","","",""]
[{"$f":"Wochenplan!A50","v":0},{"$f":"Wochenplan!B50","v":0},{"$f":"Wochenplan!C50","v":0},{"$f":"Wochenplan!D50","v":0},{"$f":"IF(Wochenplan!E50=0,\"\",Wochenplan!E50)","v":""},{"$f":"IF(Wochenplan!F50=0,\"\",Wochenplan!F50)","v":""},0,{"$f":"Tabelle17[[#This Row],[Spalte8]]","v":0},"","","","","","","","","","","","","","","","","","","","","","","","","","","","","","","","","","","","","","","","","","","","","","","","","","","","","","","","","","","","","","","","","","","","","","","","","","","","","","","","","","","","","","","","","","","","","","","","","","","","","","","","","","","","","","","","","","","","","","","","","","","","","","","","","","","","","","","","","","","","","","","","","","","","","","","","","","","","","","","","","","","","","","","","","","","","","","","","","","","","","","","","","","","","","","","","","","","","","","","","","","","","","","","","","","","","","","","","","","","","","","","","","","","","","","","","","","","","","","","","","","","","","","","","","","","","","","","","","","","","","","","","","","","","","","","","","","","","","","","","","","","","","","","","","","","","","","","","","","","","","","","","","","","","","","","","","","","","","","","","","","","","","","","","","","","","","","","","","","","","","","","","","","","","","","","","","","","","","","","","","","","","","","",""]
[{"$f":"Wochenplan!A51","v":0},{"$f":"Wochenplan!B51","v":0},{"$f":"Wochenplan!C51","v":0},{"$f":"Wochenplan!D51","v":0},{"$f":"IF(Wochenplan!E51=0,\"\",Wochenplan!E51)","v":""},{"$f":"IF(Wochenplan!F51=0,\"\",Wochenplan!F51)","v":""},0,{"$f":"Tabelle17[[#This Row],[Spalte8]]","v":0},"","","","","","","","","","","","","","","","","","","","","","","","","","","","","","","","","","","","","","","","","","","","","","","","","","","","","","","","","","","","","","","","","","","","","","","","","","","","","","","","","","","","","","","","","","","","","","","","","","","","","","","","","","","","","","","","","","","","","","","","","","","","","","","","","","","","","","","","","","","","","","","","","","","","","","","","","","","","","","","","","","","","","","","","","","","","","","","","","","","","","","","","","","","","","","","","","","","","","","","","","","","","","","","","","","","","","","","","","","","","","","","","","","","","","","","","","","","","","","","","","","","","","","","","","","","","","","","","","","","","","","","","","","","","","","","","","","","","","","","","","","","","","","","","","","","","","","","","","","","","","","","","","","","","","","","","","","","","","","","","","","","","","","","","","","","","","","","","","","","","","","","","","","","","","","","","","","","","","","","","","","","","","","",""]
[{"$f":"Wochenplan!A52","v":0},{"$f":"Wochenplan!B52","v":0},{"$f":"Wochenplan!C52","v":0},{"$f":"Wochenplan!D52","v":0},{"$f":"IF(Wochenplan!E52=0,\"\",Wochenplan!E52)","v":""},{"$f":"IF(Wochenplan!F52=0,\"\",Wochenplan!F52)","v":""},0,{"$f":"Tabelle17[[#This Row],[Spalte8]]","v":0},"","","","","","","","","","","","","","","","","","","","","","","","","","","","","","","","","","","","","","","","","","","","","","","","","","","","","","","","","","","","","","","","","","","","","","","","","","","","","","","","","","","","","","","","","","","","","","","","","","","","","","","","","","","","","","","","","","","","","","","","","","","","","","","","","","","","","","","","","","","","","","","","","","","","","","","","","","","","","","","","","","","","","","","","","","","","","","","","","","","","","","","","","","","","","","","","","","","","","","","","","","","","","","","","","","","","","","","","","","","","","","","","","","","","","","","","","","","","","","","","","","","","","","","","","","","","","","","","","","","","","","","","","","","","","","","","","","","","","","","","","","","","","","","","","","","","","","","","","","","","","","","","","","","","","","","","","","","","","","","","","","","","","","","","","","","","","","","","","","","","","","","","","","","","","","","","","","","","","","","","","","","","","","",""]
[{"$f":"Wochenplan!A53","v":"Erster Entwurf Schutzkonzept"},{"$f":"Wochenplan!B53","v":0},{"$f":"Wochenplan!C53","v":0},{"$f":"Wochenplan!D53","v":0},{"$f":"IF(Wochenplan!E53=0,\"\",Wochenplan!E53)","v":""},{"$f":"IF(Wochenplan!F53=0,\"\",Wochenplan!F53)","v":""},0,{"$f":"Tabelle17[[#This Row],[Spalte8]]","v":0},"","","","","","","","","","","","","","","","","","","","","","","","","","","","","","","","","","","","","","","","","","","","","","","","","","","","","","","","","","","","","","","","","","","","","","","","","","","","","","","","","","","","","","","","","","","","","","","","","","","","","","","","","","","","","","","","","","","","","","","","","","","","","","","","","","","","","","","","","","","","","","","","","","","","","","","","","","","","","","","","","","","","","","","","","","","","","","","","","","","","","","","","","","","","","","","","","","","","","","","","","","","","","","","","","","","","","","","","","","","","","","","","","","","","","","","","","","","","","","","","","","","","","","","","","","","","","","","","","","","","","","","","","","","","","","","","","","","","","","","","","","","","","","","","","","","","","","","","","","","","","","","","","","","","","","","","","","","","","","","","","","","","","","","","","","","","","","","","","","","","","","","","","","","","","","","","","","","","","","","","","","","","","","",""]
[{"$f":"Wochenplan!A54","v":0},{"$f":"Wochenplan!B54","v":0},{"$f":"Wochenplan!C54","v":0},{"$f":"Wochenplan!D54","v":0},{"$f":"IF(Wochenplan!E54=0,\"\",Wochenplan!E54)","v":""},{"$f":"IF(Wochenplan!F54=0,\"\",Wochenplan!F54)","v":""},{"$f":"IF(AND(    E53=0,F53=0),  \"---\",         IF($C$4<=E53,0,IF($C$4>F53,1,_xlfn.DAYS($C$4,E53)/_xlfn.DAYS(F53,E53))))","v":0},{"$f":"Tabelle17[[#This Row],[Spalte8]]","v":0},"","","","","","","","","","","","","","","","","","","","","","","","","","","","","","","","","","","","","","","","","","","","","","","","","","","","","","","","","","","","","","","","","","","","","","","","","","","","","","","","","","","","","","","","","","","","","","","","","","","","","","","","","","","","","","","","","","","","","","","","","","","","","","","","","","","","","","","","","","","","","","","","","","","","","","","","","","","","","","","","","","","","","","","","","","","","","","","","","","","","","","","","","","","","","","","","","","","","","","","","","","","","","","","","","","","","","","","","","","","","","","","","","","","","","","","","","","","","","","","","","","","","","","","","","","","","","","","","","","","","","","","","","","","","","","","","","","","","","","","","","","","","","","","","","","","","","","","","","","","","","","","","","","","","","","","","","","","","","","","","","","","","","","","","","","","","","","","","","","","","","","","","","","","","","","","","","","","","","","","","","","","","","","",""]
[{"$f":"Wochenplan!A55","v":0},{"$f":"Wochenplan!B55","v":0},{"$f":"Wochenplan!C55","v":0},{"$f":"Wochenplan!D55","v":0},{"$f":"IF(Wochenplan!E55=0,\"\",Wochenplan!E55)","v":""},{"$f":"IF(Wochenplan!F55=0,\"\",Wochenplan!F55)","v":""},0,{"$f":"Tabelle17[[#This Row],[Spalte8]]","v":0},"","","","","","","","","","","","","","","","","","","","","","","","","","","","","","","","","","","","","","","","","","","","","","","","","","","","","","","","","","","","","","","","","","","","","","","","","","","","","","","","","","","","","","","","","","","","","","","","","","","","","","","","","","","","","","","","","","","","","","","","","","","","","","","","","","","","","","","","","","","","","","","","","","","","","","","","","","","","","","","","","","","","","","","","","","","","","","","","","","","","","","","","","","","","","","","","","","","","","","","","","","","","","","","","","","","","","","","","","","","","","","","","","","","","","","","","","","","","","","","","","","","","","","","","","","","","","","","","","","","","","","","","","","","","","","","","","","","","","","","","","","","","","","","","","","","","","","","","","","","","","","","","","","","","","","","","","","","","","","","","","","","","","","","","","","","","","","","","","","","","","","","","","","","","","","","","","","","","","","","","","","","","","","",""]
[{"$f":"Wochenplan!A56","v":0},{"$f":"Wochenplan!B56","v":0},{"$f":"Wochenplan!C56","v":0},{"$f":"Wochenplan!D56","v":0},{"$f":"IF(Wochenplan!E56=0,\"\",Wochenplan!E56)","v":""},{"$f":"IF(Wochenplan!F56=0,\"\",Wochenplan!F56)","v":""},0,{"$f":"Tabelle17[[#This Row],[Spalte8]]","v":0},"","","","","","","","","","","","","","","","","","","","","","","","","","","","","","","","","","","","","","","","","","","","","","","","","","","","","","","","","","","","","","","","","","","","","","","","","","","","","","","","","","","","","","","","","","","","","","","","","","","","","","","","","","","","","","","","","","","","","","","","","","","","","","","","","","","","","","","","","","","","","","","","","","","","","","","","","","","","","","","","","","","","","","","","","","","","","","","","","","","","","","","","","","","","","","","","","","","","","","","","","","","","","","","","","","","","","","","","","","","","","","","","","","","","","","","","","","","","","","","","","","","","","","","","","","","","","","","","","","","","","","","","","","","","","","","","","","","","","","","","","","","","","","","","","","","","","","","","","","","","","","","","","","","","","","","","","","","","","","","","","","","","","","","","","","","","","","","","","","","","","","","","","","","","","","","","","","","","","","","","","","","","","","",""]
[{"$f":"Wochenplan!A57","v":0},{"$f":"Wochenplan!B57","v":0},{"$f":"Wochenplan!C57","v":0},{"$f":"Wochenplan!D57","v":0},{"$f":"IF(Wochenplan!E57=0,\"\",Wochenplan!E57)","v":""},{"$f":"IF(Wochenplan!F57=0,\"\",Wochenplan!F57)","v":""},{"$f":"IF(AND(    E56=0,F56=0),  \"---\",         IF($C$4<=E56,0,IF($C$4>F56,1,_xlfn.DAYS($C$4,E56)/_xlfn.DAYS(F56,E56))))","v":0},{"$f":"Tabelle17[[#This Row],[Spalte8]]","v":0},"","","","","","","","","","","","","","","","","","","","","","","","","","","","","","","","","","","","","","","","","","","","","","","","","","","","","","","","","","","","","","","","","","","","","","","","","","","","","","","","","","","","","","","","","","","","","","","","","","","","","","","","","","","","","","","","","","","","","","","","","","","","","","","","","","","","","","","","","","","","","","","","","","","","","","","","","","","","","","","","","","","","","","","","","","","","","","","","","","","","","","","","","","","","","","","","","","","","","","","","","","","","","","","","","","","","","","","","","","","","","","","","","","","","","","","","","","","","","","","","","","","","","","","","","","","","","","","","","","","","","","","","","","","","","","","","","","","","","","","","","","","","","","","","","","","","","","","","","","","","","","","","","","","","","","","","","","","","","","","","","","","","","","","","","","","","","","","","","","","","","","","","","","","","","","","","","","","","","","","","","","","","","","",""]
[{"$f":"Wochenplan!A58","v":0},{"$f":"Wochenplan!B58","v":0},{"$f":"Wochenplan!C58","v":0},{"$f":"Wochenplan!D58","v":0},{"$f":"IF(Wochenplan!E58=0,\"\",Wochenplan!E58)","v":""},{"$f":"IF(Wochenplan!F58=0,\"\",Wochenplan!F58)","v":""},0,{"$f":"Tabelle17[[#This Row],[Spalte8]]","v":0},"","","","","","","","","","","","","","","","","","","","","","","","","","","","","","","","","","","","","","","","","","","","","","","","","","","","","","","","","","","","","","","","","","","","","","","","","","","","","","","","","","","","","","","","","","","","","","","","","","","","","","","","","","","","","","","","","","","","","","","","","","","","","","","","","","","","","","","","","","","","","","","","","","","","","","","","","","","","","","","","","","","","","","","","","","","","","","","","","","","","","","","","","","","","","","","","","","","","","","","","","","","","","","","","","","","","","","","","","","","","","","","","","","","","","","","","","","","","","","","","","","","","","","","","","","","","","","","","","","","","","","","","","","","","","","","","","","","","","","","","","","","","","","","","","","","","","","","","","","","","","","","","","","","","","","","","","","","","","","","","","","","","","","","","","","","","","","","","","","","","","","","","","","","","","","","","","","","","","","","","","","","","","","",""]
[{"$f":"Wochenplan!A59","v":0},{"$f":"Wochenplan!B59","v":0},{"$f":"Wochenplan!C59","v":0},{"$f":"Wochenplan!D59","v":0},{"$f":"IF(Wochenplan!E59=0,\"\",Wochenplan!E59)","v":""},{"$f":"IF(Wochenplan!F59=0,\"\",Wochenplan!F59)","v":""},0,{"$f":"Tabelle17[[#This Row],[Spalte8]]","v":0},"","","","","","","","","","","","","","","","","","","","","","","","","","","","","","","",{"$f":"IF(AND(         AN$8>=$E58,       AN$8<=$F58, $D58<>0),     \"u\",    \"\")","v":""},"","","","","","","","","","","","","","","",{"$f":"IF(AND(         BD$8>=$E58,       BD$8<=$F58, $D58<>0),     \"u\",    \"\")","v":""},"","","","","","","","","","","","","","","",{"$f":"IF(AND(         BT$8>=$E58,       BT$8<=$F58, $D58<>0),     \"u\",    \"\")","v":""},"","","","","","","","","","","","","","","",{"$f":"IF(AND(         CJ$8>=$E58,       CJ$8<=$F58, $D58<>0),     \"u\",    \"\")","v":""},"","","","","","","","","","","","","","","",{"$f":"IF(AND(         CZ$8>=$E58,       CZ$8<=$F58, $D58<>0),     \"u\",    \"\")","v":""},"","","","","","","","","","","","","","","",{"$f":"IF(AND(         DP$8>=$E58,       DP$8<=$F58, $D58<>0),     \"u\",    \"\")","v":""},"","","","","","","","","","","","","","","",{"$f":"IF(AND(         EF$8>=$E58,       EF$8<=$F58, $D58<>0),     \"u\",    \"\")","v":""},"","","","","","","","","","","","","","","",{"$f":"IF(AND(         EV$8>=$E58,       EV$8<=$F58, $D58<>0),     \"u\",    \"\")","v":""},"","","","","","","","","","","","","","","",{"$f":"IF(AND(         FL$8>=$E58,       FL$8<=$F58, $D58<>0),     \"u\",    \"\")","v":""},"","","","","","","","","","","","","","","",{"$f":"IF(AND(         GB$8>=$E58,       GB$8<=$F58, $D58<>0),     \"u\",    \"\")","v":""},"","","","","","","","","","","","","","","",{"$f":"IF(AND(         GR$8>=$E58,       GR$8<=$F58, $D58<>0),     \"u\",    \"\")","v":""},"","","","","","","","","","","","","","","",{"$f":"IF(AND(         HH$8>=$E58,       HH$8<=$F58, $D58<>0),     \"u\",    \"\")","v":""},"","","","","","","","","","","","","","","",{"$f":"IF(AND(         HX$8>=$E58,       HX$8<=$F58, $D58<>0),     \"u\",    \"\")","v":""},"","","","","","","","","","","","","","","",{"$f":"IF(AND(         IN$8>=$E58,       IN$8<=$F58, $D58<>0),     \"u\",    \"\")","v":""},"","","","","","","","","","","","","","","",{"$f":"IF(AND(         JD$8>=$E58,       JD$8<=$F58, $D58<>0),     \"u\",    \"\")","v":""},"","","","","","","","","","","","","","","",{"$f":"IF(AND(         JT$8>=$E58,       JT$8<=$F58, $D58<>0),     \"u\",    \"\")","v":""},"","","","","","","","","","","","","","","",{"$f":"IF(AND(         KJ$8>=$E58,       KJ$8<=$F58, $D58<>0),     \"u\",    \"\")","v":""},"","","","","","","","","","","","","","","",{"$f":"IF(AND(         KZ$8>=$E58,       KZ$8<=$F58, $D58<>0),     \"u\",    \"\")","v":""},"","","","","","","","","","","","","","","",{"$f":"IF(AND(         LP$8>=$E58,       LP$8<=$F58, $D58<>0),     \"u\",    \"\")","v":""},"","","","","","","","","","","","","","","",{"$f":"IF(AND(         MF$8>=$E58,       MF$8<=$F58, $D58<>0),     \"u\",    \"\")","v":""},"","","","","","","","","","","","","","","",{"$f":"IF(AND(         MV$8>=$E58,       MV$8<=$F58, $D58<>0),     \"u\",    \"\")","v":""},"","","","","","","","","","","","","","",""]
[{"$f":"Wochenplan!A60","v":0},{"$f":"Wochenplan!B60","v":0},{"$f":"Wochenplan!C60","v":0},{"$f":"Wochenplan!D60","v":0},{"$f":"IF(Wochenplan!E60=0,\"\",Wochenplan!E60)","v":""},{"$f":"IF(Wochenplan!F60=0,\"\",Wochenplan!F60)","v":""},0,{"$f":"Tabelle17[[#This Row],[Spalte8]]","v":0},"","","","","","","","","","","","","","","","",{"$f":"IF(AND(         Y$8>=$E59,       Y$8<=$F59, $D59<>0),     \"u\",    \"\")","v":""},"","","","","","","","","","","","","","","","","","","","","","","","","","","","","","","","","","","","","","","","","","","","","","","","","","","","","","","","","","","","","","","","","","","","","","","","","","","","","","","","","","","","","","","","","","","","","","","","","","","","","","","","","","","","","","","","","","","","","","","","","","","","","","","","","","","","","","","","","","","","","","","","","","","","","","","","","","","","","","","","","","","","","","","","","","","","","","","","","","","","","","","","","","","","","","","","","","","","","","","","","","","","","","","","","","","","","","","","","","","","","","","","","","","","","","","","","","","","","","","","","","","","","","","","","","","","","","","","","","","","","","","","","","","","","","","","","","","","","","","","","","","","","","","","","","","","","","","","","","","","","","","","","","","","","","","","","","","","","","","","","","","","","","","","","","","","","","","","","","","","","","","","","","","","","",""]
[{"$f":"Wochenplan!A61","v":0},{"$f":"Wochenplan!B61","v":0},{"$f":"Wochenplan!C61","v":0},{"$f":"Wochenplan!D61","v":0},{"$f":"IF(Wochenplan!E61=0,\"\",Wochenplan!E61)","v":""},{"$f":"IF(Wochenplan!F61=0,\"\",Wochenplan!F61)","v":""},0,{"$f":"Tabelle17[[#This Row],[Spalte8]]","v":0},{"$f":"IF(AND(         I$8>=$E60,       I$8<=$F60, $D60<>0),     \"u\",    \"\")","v":""},"","","","","","","","","","","","","","","","","","","","","","","","","","","","","","","","","","","","","","","","","","","","","","","","","","","","","","","","","","","","","","","","","","","","","","","","","","","","","","","","","","","","","","","","","","","","","","","","","","","","","","","","","","","","","","","","","","","","","","","","","","","","","","","","","","","","","","","","","","","","","","","","","","","","","","","","","","","","","","","","","","","","","","","","","","","","","","","","","","","","","","","","","","","","","","","","","","","","","","","","","","","","","","","","","","","","","","","","","","","","","","","","","","","","","","","","","","","","","","","","","","","","","","","","","","","","","","","","","","","","","","","","","","","","","","","","","","","","","","","","","","","","","","","","","","","","","","","","","","","","","","","","","","","","","","","","","","","","","","","","","","","","","","","","","","","","","","","","","","","","","","","","","","","","","","","","","","","","","","","","","","","","","",""]
[{"$f":"Wochenplan!A62","v":"Beschluss der Schulkonferenz"},{"$f":"Wochenplan!B62","v":0},{"$f":"Wochenplan!C62","v":0},{"$f":"Wochenplan!D62","v":0},{"$f":"IF(Wochenplan!E62=0,\"\",Wochenplan!E62)","v":""},{"$f":"IF(Wochenplan!F62=0,\"\",Wochenplan!F62)","v":""},0,{"$f":"Tabelle17[[#This Row],[Spalte8]]","v":0},"","","","","","","","","","","","","","","","","","","","","","","","","","","","","","","","","","","","","","","","","","","","","","","","","","","","","","","","","","","","","","","","","","","","","","","","","","","","","","","","","","","","","","","","","","","","","","","","","","","","","","","","","","","","","","","","","","","","","","","","","","","","","","","","","","","","","","","","","","","","","","","","","","","","","","","","","","","","","","","","","","","","","","","","","","","","","","","","","","","","","","","","","","","","","","","","","","","","","","","","","","","","","","","","","","","","","","","","","","","","","","","","","","","","","","","","","","","","","","","","","","","","","","","","","","","","","","","","","","","","","","","","","","","","","","","","","","","","","","","","","","","","","","","","","","","","","","","","","","","","","","","","","","","","","","","","","","","","","","","","","","","","","","","","","","","","","","","","","","","","","","","","","","","","","","","","","","","","","","","","","","","","","","",""]
[{"$f":"Wochenplan!A63","v":0},{"$f":"Wochenplan!B63","v":0},{"$f":"Wochenplan!C63","v":0},{"$f":"Wochenplan!D63","v":0},{"$f":"IF(Wochenplan!E63=0,\"\",Wochenplan!E63)","v":""},{"$f":"IF(Wochenplan!F63=0,\"\",Wochenplan!F63)","v":""},{"$f":"IF(AND(    E62=0,F62=0),  \"---\",         IF($C$4<=E62,0,IF($C$4>F62,1,_xlfn.DAYS($C$4,E62)/_xlfn.DAYS(F62,E62))))","v":0},{"$f":"Tabelle17[[#This Row],[Spalte8]]","v":0},"","","","","","","","","","","","","","","","","","","","","","","","","","","","","","","","","","","","","","","","","","","","","","","","","","","","","","","","","","","","","","","","","","","","","","","","","","","","","","","","","","","","","","","","","","","","","","","","","","","","","","","","","","","","","","","","","","","","","","","","","","","","","","","","","","","","","","","","","","","","","","","","","","","","","","","","","","","","","","","","","","","","","","","","","","","","","","","","","","","","","","","","","","","","","","","","","","","","","","","","","","","","","","","","","","","","","","","","","","","","","","","","","","","","","","","","","","","","","","","","","","","","","","","","","","","","","","","","","","","","","","","","","","","","","","","","","","","","","","","","","","","","","","","","","","","","","","","","","","","","","","","","","","","","","","","","","","","","","","","","","","","","","","","","","","","","","","","","","","","","","","","","","","","","","","","","","","","","","","","","","","","","","","",""]
[{"$f":"Wochenplan!A64","v":0},{"$f":"Wochenplan!B64","v":0},{"$f":"Wochenplan!C64","v":0},{"$f":"Wochenplan!D64","v":0},{"$f":"IF(Wochenplan!E64=0,\"\",Wochenplan!E64)","v":""},{"$f":"IF(Wochenplan!F64=0,\"\",Wochenplan!F64)","v":""},0,{"$f":"Tabelle17[[#This Row],[Spalte8]]","v":0},"","","","","","","","","","","","","","","","","","","","","","","","","","","","","","","","","","","","","","","","","","","","","","","","","","","","","","","","","","","","","","","","","","","","","","","","","","","","","","","","","","","","","","","","","","","","","","","","","","","","","","","","","","","","","","","","","","","","","","","","","","","","","","","","","","","","","","","","","","","","","","","","","","","","","","","","","","","","","","","","","","","","","","","","","","","","","","","","","","","","","","","","","","","","","","","","","","","","","","","","","","","","","","","","","","","","","","","","","","","","","","","","","","","","","","","","","","","","","","","","","","","","","","","","","","","","","","","","","","","","","","","","","","","","","","","","","","","","","","","","","","","","","","","","","","","","","","","","","","","","","","","","","","","","","","","","","","","","","","","","","","","","","","","","","","","","","","","","","","","","","","","","","","","","","","","","","","","","","","","","","","","","","","",""]
[{"$f":"Wochenplan!A65","v":0},{"$f":"Wochenplan!B65","v":0},{"$f":"Wochenplan!C65","v":0},{"$f":"Wochenplan!D65","v":0},{"$f":"IF(Wochenplan!E65=0,\"\",Wochenplan!E65)","v":""},{"$f":"IF(Wochenplan!F65=0,\"\",Wochenplan!F65)","v":""},0,{"$f":"Tabelle17[[#This Row],[Spalte8]]","v":0},"","","","","","","","","","","","","","","","","","","","","","","","","","","","","","","","","","","","","","","","","","","","","","","","","","","","","","","","","","","","","","","","","","","","","","","","","","","","","","","","","","","","","","","","","","","","","","","","","","","","","","","","","","","","","","","","","","","","","","","","","","","","","","","","","","","","","","","","","","","","","","","","","","","","","","","","","","","","","","","","","","","","","","","","","","","","","","","","","","","","","","","","","","","","","","","","","","","","","","","","","","","","","","","","","","","","","","","","","","","","","","","","","","","","","","","","","","","","","","","","","","","","","","","","","","","","","","","","","","","","","","","","","","","","","","","","","","","","","","","","","","","","","","","","","","","","","","","","","","","","","","","","","","","","","","","","","","","","","","","","","","","","","","","","","","","","","","","","","","","","","","","","","","","","","","","","","","","","","","","","","","","","","","",""]
[{"$f":"Wochenplan!A66","v":0},{"$f":"Wochenplan!B66","v":0},{"$f":"Wochenplan!C66","v":0},{"$f":"Wochenplan!D66","v":0},{"$f":"IF(Wochenplan!E66=0,\"\",Wochenplan!E66)","v":""},{"$f":"IF(Wochenplan!F66=0,\"\",Wochenplan!F66)","v":""},{"$f":"IF(AND(    E65=0,F65=0),  \"---\",         IF($C$4<=E65,0,IF($C$4>F65,1,_xlfn.DAYS($C$4,E65)/_xlfn.DAYS(F65,E65))))","v":0},{"$f":"Tabelle17[[#This Row],[Spalte8]]","v":0},"","","","","","","","","","","","","","","","","","","","","","","","","","","","","","","","","","","","","","","","","","","","","","","","","","","","","","","","","","","","","","","","","","","","","","","","","","","","","","","","","","","","","","","","","","","","","","","","","","","","","","","","","","","","","","","","","","","","","","","","","","","","","","","","","","","","","","","","","","","","","","","","","","","","","","","","","","","","","","","","","","","","","","","","","","","","","","","","","","","","","","","","","","","","","","","","","","","","","","","","","","","","","","","","","","","","","","","","","","","","","","","","","","","","","","","","","","","","","","","","","","","","","","","","","","","","","","","","","","","","","","","","","","","","","","","","","","","","","","","","","","","","","","","","","","","","","","","","","","","","","","","","","","","","","","","","","","","","","","","","","","","","","","","","","","","","","","","","","","","","","","","","","","","","","","","","","","","","","","","","","","","","","","",""]
[{"$f":"Wochenplan!A67","v":"Umsetzung/Weiterentwicklung"},{"$f":"Wochenplan!B67","v":0},{"$f":"Wochenplan!C67","v":0},{"$f":"Wochenplan!D67","v":0},{"$f":"IF(Wochenplan!E67=0,\"\",Wochenplan!E67)","v":""},{"$f":"IF(Wochenplan!F67=0,\"\",Wochenplan!F67)","v":""},0,{"$f":"Tabelle17[[#This Row],[Spalte8]]","v":0},"","","","","","","","","","","","","","","","","","","","","","","","","","","","","","","","","","","","","","","","","","","","","","","","","","","","","","","","","","","","","","","","","","","","","","","","","","","","","","","","","","","","","","","","","","","","","","","","","","","","","","","","","","","","","","","","","","","","","","","","","","","","","","","","","","","","","","","","","","","","","","","","","","","","","","","","","","","","","","","","","","","","","","","","","","","","","","","","","","","","","","","","","","","","","","","","","","","","","","","","","","","","","","","","","","","","","","","","","","","","","","","","","","","","","","","","","","","","","","","","","","","","","","","","","","","","","","","","","","","","","","","","","","","","","","","","","","","","","","","","","","","","","","","","","","","","","","","","","","","","","","","","","","","","","","","","","","","","","","","","","","","","","","","","","","","","","","","","","","","","","","","","","","","","","","","","","","","","","","","","","","","","","","",""]
[{"$f":"Wochenplan!A68","v":0},{"$f":"Wochenplan!B68","v":0},{"$f":"Wochenplan!C68","v":0},{"$f":"Wochenplan!D68","v":0},{"$f":"IF(Wochenplan!E68=0,\"\",Wochenplan!E68)","v":""},{"$f":"IF(Wochenplan!F68=0,\"\",Wochenplan!F68)","v":""},0,{"$f":"Tabelle17[[#This Row],[Spalte8]]","v":0},"","","","","","","","","","","","","","","","","","","","","","","","","","","","","","","","","","","","","","","","","","","","","","","","","","","","","","","","","","","","","","","","","","","","","","","","","","","","","","","","","","","","","","","","","","","","","","","","","","","","","","","","","","","","","","","","","","","","","","","","","","","","","","","","","","","","","","","","","","","","","","","","","","","","","","","","","","","","","","","","","","","","","","","","","","","","","","","","","","","","","","","","","","","","","","","","","","","","","","","","","","","","","","","","","","","","","","","","","","","","","","","","","","","","","","","","","","","","","","","","","","","","","","","","","","","","","","","","","","","","","","","","","","","","","","","","","","","","","","","","","","","","","","","","","","","","","","","","","","","","","","","","","","","","","","","","","","","","","","","","","","","","","","","","","","","","","","","","","","","","","","","","","","","","","","","","","","","","","","","","","","","","","","",""]
[{"$f":"Wochenplan!A69","v":0},{"$f":"Wochenplan!B69","v":0},{"$f":"Wochenplan!C69","v":0},{"$f":"Wochenplan!D69","v":0},{"$f":"IF(Wochenplan!E69=0,\"\",Wochenplan!E69)","v":""},{"$f":"IF(Wochenplan!F69=0,\"\",Wochenplan!F69)","v":""},0,{"$f":"Tabelle17[[#This Row],[Spalte8]]","v":0},"","","","","","","","","","","","","","","","","","","","","","","","","","","","","","","","","","","","","","","","","","","","","","","","","","","","","","","","","","","","","","","","","","","","","","","","","","","","","","","","","","","","","","","","","","","","","","","","","","","","","","","","","","","","","","","","","","","","","","","","","","","","","","","","","","","","","","","","","","","","","","","","","","","","","","","","","","","","","","","","","","","","","","","","","","","","","","","","","","","","","","","","","","","","","","","","","","","","","","","","","","","","","","","","","","","","","","","","","","","","","","","","","","","","","","","","","","","","","","","","","","","","","","","","","","","","","","","","","","","","","","","","","","","","","","","","","","","","","","","","","","","","","","","","","","","","","","","","","","","","","","","","","","","","","","","","","","","","","","","","","","","","","","","","","","","","","","","","","","","","","","","","","","","","","","","","","","","","","","","","","","","","","","",""]
[{"$f":"Wochenplan!A70","v":0},{"$f":"Wochenplan!B70","v":0},{"$f":"Wochenplan!C70","v":0},{"$f":"Wochenplan!D70","v":0},{"$f":"IF(Wochenplan!E70=0,\"\",Wochenplan!E70)","v":""},{"$f":"IF(Wochenplan!F70=0,\"\",Wochenplan!F70)","v":""},0,{"$f":"Tabelle17[[#This Row],[Spalte8]]","v":0},"","","","","","","","","","","","","","","","","","","","","","","","","","","","","","","","","","","","","","","","","","","","","","","","","","","","","","","","","","","","","","","","","","","","","","","","","","","","","","","","","","","","","","","","","","","","","","","","","","","","","","","","","","","","","","","","","","","","","","","","","","","","","","","","","","","","","","","","","","","","","","","","","","","","","","","","","","","","","","","","","","","","","","","","","","","","","","","","","","","","","","","","","","","","","","","","","","","","","","","","","","","","","","","","","","","","","","","","","","","","","","","","","","","","","","","","","","","","","","","","","","","","","","","","","","","","","","","","","","","","","","","","","","","","","","","","","","","","","","","","","","","","","","","","","","","","","","","","","","","","","","","","","","","","","","","","","","","","","","","","","","","","","","","","","","","","","","","","","","","","","","","","","","","","","","","","","","","","","","","","","","","","","","",""]
[{"$f":"Wochenplan!A71","v":0},{"$f":"Wochenplan!B71","v":0},{"$f":"Wochenplan!C71","v":0},{"$f":"Wochenplan!D71","v":0},{"$f":"IF(Wochenplan!E71=0,\"\",Wochenplan!E71)","v":""},{"$f":"IF(Wochenplan!F71=0,\"\",Wochenplan!F71)","v":""},0,{"$f":"Tabelle17[[#This Row],[Spalte8]]","v":0},"","","","","","","","","","","","","","","","","","","","","","","","","","","","","","","","","","","","","","","","","","","","","","","","","","","","","","","","","","","","","","","","","","","","","","","","","","","","","","","","","","","","","","","","","","","","","","","","","","","","","","","","","","","","","","","","","","","","","","","","","","","","","","","","","","","","","","","","","","","","","","","","","","","","","","","","","","","","","","","","","","","","","","","","","","","","","","","","","","","","","","","","","","","","","","","","","","","","","","","","","","","","","","","","","","","","","","","","","","","","","","","","","","","","","","","","","","","","","","","","","","","","","","","","","","","","","","","","","","","","","","","","","","","","","","","","","","","","","","","","","","","","","","","","","","","","","","","","","","","","","","","","","","","","","","","","","","","","","","","","","","","","","","","","","","","","","","","","","","","","","","","","","","","","","","","","","","","","","","","","","","","","","","",""]
[{"$f":"Wochenplan!A72","v":"Überprüfen der Wirksamkeit"},{"$f":"Wochenplan!B72","v":0},{"$f":"Wochenplan!C72","v":0},{"$f":"Wochenplan!D72","v":0},{"$f":"IF(Wochenplan!E72=0,\"\",Wochenplan!E72)","v":""},{"$f":"IF(Wochenplan!F72=0,\"\",Wochenplan!F72)","v":""}]
[{"$f":"Wochenplan!A73","v":0},{"$f":"Wochenplan!B73","v":0},{"$f":"Wochenplan!C73","v":0},{"$f":"Wochenplan!D73","v":0},{"$f":"IF(Wochenplan!E73=0,\"\",Wochenplan!E73)","v":""},{"$f":"IF(Wochenplan!F73=0,\"\",Wochenplan!F73)","v":""}]
[{"$f":"Wochenplan!A74","v":0},{"$f":"Wochenplan!B74","v":0},{"$f":"Wochenplan!C74","v":0},{"$f":"Wochenplan!D74","v":0},{"$f":"IF(Wochenplan!E74=0,\"\",Wochenplan!E74)","v":""},{"$f":"IF(Wochenplan!F74=0,\"\",Wochenplan!F74)","v":""}]
[{"$f":"Wochenplan!A75","v":0},{"$f":"Wochenplan!B75","v":0},{"$f":"Wochenplan!C75","v":0},{"$f":"Wochenplan!D75","v":0},{"$f":"IF(Wochenplan!E75=0,\"\",Wochenplan!E75)","v":""},{"$f":"IF(Wochenplan!F75=0,\"\",Wochenplan!F75)","v":""}]
[{"$f":"Wochenplan!A76","v":0},{"$f":"Wochenplan!B76","v":0},{"$f":"Wochenplan!C76","v":0},{"$f":"Wochenplan!D76","v":0},{"$f":"IF(Wochenplan!E76=0,\"\",Wochenplan!E76)","v":""},{"$f":"IF(Wochenplan!F76=0,\"\",Wochenplan!F76)","v":""}]
[{"$f":"Wochenplan!A77","v":0},{"$f":"Wochenplan!B77","v":0},{"$f":"Wochenplan!C77","v":0},{"$f":"Wochenplan!D77","v":0},{"$f":"IF(Wochenplan!E77=0,\"\",Wochenplan!E77)","v":""},{"$f":"IF(Wochenplan!F77=0,\"\",Wochenplan!F77)","v":""}]
[{"$f":"Wochenplan!A78","v":0},{"$f":"Wochenplan!B78","v":0},{"$f":"Wochenplan!C78","v":0},{"$f":"Wochenplan!D78","v":0},{"$f":"IF(Wochenplan!E78=0,\"\",Wochenplan!E78)","v":""},{"$f":"IF(Wochenplan!F78=0,\"\",Wochenplan!F78)","v":""}]
[{"$f":"Wochenplan!A79","v":0},{"$f":"Wochenplan!B79","v":0},{"$f":"Wochenplan!C79","v":0},{"$f":"Wochenplan!D79","v":0},{"$f":"IF(Wochenplan!E79=0,\"\",Wochenplan!E79)","v":""},{"$f":"IF(Wochenplan!F79=0,\"\",Wochenplan!F79)","v":""}]
[{"$f":"Wochenplan!A80","v":0},{"$f":"Wochenplan!B80","v":0},{"$f":"Wochenplan!C80","v":0},{"$f":"Wochenplan!D80","v":0},{"$f":"IF(Wochenplan!E80=0,\"\",Wochenplan!E80)","v":""},{"$f":"IF(Wochenplan!F80=0,\"\",Wochenplan!F80)","v":""}]
[{"$f":"Wochenplan!A81","v":0},{"$f":"Wochenplan!B81","v":0},{"$f":"Wochenplan!C81","v":0},{"$f":"Wochenplan!D81","v":0},{"$f":"IF(Wochenplan!E81=0,\"\",Wochenplan!E81)","v":""},{"$f":"IF(Wochenplan!F81=0,\"\",Wochenplan!F81)","v":""}]
[{"$f":"Wochenplan!A82","v":0},{"$f":"Wochenplan!B82","v":0},{"$f":"Wochenplan!C82","v":0},{"$f":"Wochenplan!D82","v":0},{"$f":"IF(Wochenplan!E82=0,\"\",Wochenplan!E82)","v":""},{"$f":"IF(Wochenplan!F82=0,\"\",Wochenplan!F82)","v":""}]